BEGIN:VCALENDAR
VERSION:2.0
PRODID:-//KHG Bayreuth - ECPv6.15.3//NONSGML v1.0//EN
CALSCALE:GREGORIAN
METHOD:PUBLISH
X-WR-CALNAME:KHG Bayreuth
X-ORIGINAL-URL:https://www.khg-in-bayreuth.de
X-WR-CALDESC:Veranstaltungen für KHG Bayreuth
REFRESH-INTERVAL;VALUE=DURATION:PT1H
X-Robots-Tag:noindex
X-PUBLISHED-TTL:PT1H
BEGIN:VTIMEZONE
TZID:Europe/Berlin
BEGIN:DAYLIGHT
TZOFFSETFROM:+0100
TZOFFSETTO:+0200
TZNAME:CEST
DTSTART:20250330T010000
END:DAYLIGHT
BEGIN:STANDARD
TZOFFSETFROM:+0200
TZOFFSETTO:+0100
TZNAME:CET
DTSTART:20251026T010000
END:STANDARD
END:VTIMEZONE
BEGIN:VEVENT
DTSTART;TZID=Europe/Berlin:20250216T200000
DTEND;TZID=Europe/Berlin:20250216T220000
DTSTAMP:20260423T121940
CREATED:20250205T090543Z
LAST-MODIFIED:20250205T090548Z
UID:10007723-1739736000-1739743200@www.khg-in-bayreuth.de
SUMMARY:5. Aufführung Theatergruppe Schwarze Schafe e.V.:  Hexenjagd - Ein Drama nach Arthur Miller // 5th performance of the theatre group Schwarze Schafe e.V.:  Witch Hunt - A drama based on Arthur Miller
DESCRIPTION:Salem\, 1692\nDie Tochter des machtgierigen Pastors ist schwer erkrankt\, und ihr rätselhaftes Leiden gibt schnell Anlass zu Gerüchten über Hexerei. In der tief religiösen Gemeinschaft verbreitet sich Angst wie ein Lauffeuer. Pastor Parris\, getrieben von der Sorge um seinen Ruf\, holt den Experten für dämonische Künste\, Reverend Hale\, nach Salem. \nAls einige Mädchen\, angeführt von der charismatischen Abigail Williams\, beginnen\, wahllos Menschen der Hexerei zu beschuldigen\, verwandelt sich die kleine Stadt in einen Schauplatz von Misstrauen\, Verrat und Wahn. Während unschuldige Menschen vor Gericht gezerrt werden\, kämpfen der Bauer John Proctor und seine Frau Elizabeth darum\, die Wahrheit ans Licht zu bringen. \nDie Lage eskaliert\, als persönliche Konflikte\, Machtspiele und religiöser Fanatismus die Gemeinschaft zu zerreißen drohen – und die Wahrheit zunehmend im Schatten der Angst verschwindet. \n—\nSalem\, 1692\nThe daughter of the power-hungry pastor has fallen seriously ill\, and her mysterious ailment quickly gives rise to rumours of witchcraft. Fear spreads like wildfire in the deeply religious community. Pastor Parris\, driven by concern for his reputation\, brings the expert in demonic arts\, Reverend Hale\, to Salem. \nWhen some girls\, led by the charismatic Abigail Williams\, begin to indiscriminately accuse people of witchcraft\, the small town turns into a scene of suspicion\, betrayal and madness. While innocent people are dragged to court\, farmer John Proctor and his wife Elizabeth fight to bring the truth to light. \nThe situation escalates as personal conflicts\, power games and religious fanaticism threaten to tear the community apart – and the truth increasingly disappears in the shadows of fear.
URL:https://www.khg-in-bayreuth.de/event/5-auffuehrung-theatergruppe-schwarze-schafe-e-v-hexenjagd-ein-drama-nach-arthur-miller-5th-performance-of-the-theatre-group-schwarze-schafe-e-v-witch-hunt-a-drama-based-on-arthur-miller/
LOCATION:Glashaus\, Universitätsstr. 30 Baracke 6\, Bayreuth\, Uni Bayreuth\, Deutschland
END:VEVENT
END:VCALENDAR