BEGIN:VCALENDAR
VERSION:2.0
PRODID:-//KHG Bayreuth - ECPv6.15.3//NONSGML v1.0//EN
CALSCALE:GREGORIAN
METHOD:PUBLISH
X-ORIGINAL-URL:https://www.khg-in-bayreuth.de
X-WR-CALDESC:Veranstaltungen für KHG Bayreuth
REFRESH-INTERVAL;VALUE=DURATION:PT1H
X-Robots-Tag:noindex
X-PUBLISHED-TTL:PT1H
BEGIN:VTIMEZONE
TZID:Europe/Berlin
BEGIN:DAYLIGHT
TZOFFSETFROM:+0100
TZOFFSETTO:+0200
TZNAME:CEST
DTSTART:20250330T010000
END:DAYLIGHT
BEGIN:STANDARD
TZOFFSETFROM:+0200
TZOFFSETTO:+0100
TZNAME:CET
DTSTART:20251026T010000
END:STANDARD
END:VTIMEZONE
BEGIN:VEVENT
DTSTART;TZID=Europe/Berlin:20250415T140000
DTEND;TZID=Europe/Berlin:20250415T170000
DTSTAMP:20260422T030450
CREATED:20250305T134034Z
LAST-MODIFIED:20250305T135404Z
UID:10007730-1744725600-1744736400@www.khg-in-bayreuth.de
SUMMARY:Welcome Café für international Studierende // Welcome Café for international students
DESCRIPTION:Zu einem International Coming Together mit Kaffee\, Kuchen und der Gelegenheit\, miteinander ins Gespräch zu kommen und erste Kontakte zu knüpfen\, laden KHG und ESG die internationalen Studierenden in die KHG ein. Herzlich willkommen!\n—\nThe KHG and ESG invite international students to an International Coming Together with coffee\, cake and the opportunity to talk to each other and make initial contacts. A warm welcome!
URL:https://www.khg-in-bayreuth.de/event/welcome-cafe-fuer-international-studierende-welcome-cafe-for-international-students/
LOCATION:KHG Bayreuth\, Emil-Warburg-Weg 17\, KHG Bayreuth\, 95447\, Deutschland
END:VEVENT
BEGIN:VEVENT
DTSTART;TZID=Europe/Berlin:20250415T180000
DTEND;TZID=Europe/Berlin:20250415T190000
DTSTAMP:20260422T030450
CREATED:20250210T103840Z
LAST-MODIFIED:20250227T154225Z
UID:10007729-1744740000-1744743600@www.khg-in-bayreuth.de
SUMMARY:Junge ökumenische Alltagsexerzitien // Young ecumenical everyday retreats
DESCRIPTION:Möchtest Du diese Fastenzeit besonders gestalten und Dir mehr Zeit für Dich\, für Gott und für Gemeinschaft nehmen? Dann nimm an unseren Ökumenischen Alltagsexerzitien teil!\nWir treffen uns jeden Dienstag in der Fastenzeit abwechselnd in ESG und KHG um 18.00 Uhr zu einer Andacht mit Austausch und anschließendem gemeinsamen Kochen. Für die Tage dazwischen bekommst Du einen Block mit Postkarten\, die Dich zu einer kleinen täglichen Auszeit einladen.\nFür eine vorherige Anmeldung wären wir dankbar\, freuen uns aber genauso über spontan Teilnehmende. Beginn ist am 11. März um 18.00 Uhr in der ESG. Anmelden kannst Du Dich hier: https://www.evangelische-termine.de/rueckmeldeformular4846-7422261\nWir freuen uns auf eine intensive Fastenzeit mit Dir! 😍\n—–\nWould you like to make this Lent special and take more time for yourself\, for God and for community? Then take part in our ecumenical everyday retreats!\nWe meet every Tuesday during Lent\, alternating between ESG and KHG\, at 6.00 pm for a devotional with sharing and then cooking together. For the days in between\, you will receive a pad of postcards inviting you to take a little time out each day.\nWe would be grateful if you could register in advance\, but we are also happy to welcome spontaneous participants. It starts on 11 March at 18:00 in the ESG. You can register here: https://www.evangelische-termine.de/rueckmeldeformular4846-7422261\nWe look forward to an intensive Lent with you! 😍
URL:https://www.khg-in-bayreuth.de/event/junge-oekumenische-alltagsexerzitien-young-ecumenical-everyday-retreats-7/
LOCATION:KHG Bayreuth\, Emil-Warburg-Weg 17\, KHG Bayreuth\, 95447\, Deutschland
END:VEVENT
BEGIN:VEVENT
DTSTART;TZID=Europe/Berlin:20250415T180000
DTEND;TZID=Europe/Berlin:20250415T200000
DTSTAMP:20260422T030450
CREATED:20250305T134206Z
LAST-MODIFIED:20250305T134210Z
UID:10007731-1744740000-1744747200@www.khg-in-bayreuth.de
SUMMARY:Osterkerzen basteln // Easter candle making
DESCRIPTION:
URL:https://www.khg-in-bayreuth.de/event/osterkerzen-basteln-easter-candle-making/
LOCATION:KHG Bayreuth\, Emil-Warburg-Weg 17\, KHG Bayreuth\, 95447\, Deutschland
END:VEVENT
BEGIN:VEVENT
DTSTART;TZID=Europe/Berlin:20250415T180000
DTEND;TZID=Europe/Berlin:20250415T200000
DTSTAMP:20260422T030450
CREATED:20250319T140400Z
LAST-MODIFIED:20250319T141145Z
UID:10007736-1744740000-1744747200@www.khg-in-bayreuth.de
SUMMARY:Osterkerzen basteln // Easter candle decorating
DESCRIPTION:Unkostenbeitrag: 3 Euro pro eigene Kerze\n–\nContribution towards expenses: 3 € per own candle
URL:https://www.khg-in-bayreuth.de/event/osterkerzen-basteln-easter-candle-decorating/
LOCATION:KHG Bayreuth\, Emil-Warburg-Weg 17\, KHG Bayreuth\, 95447\, Deutschland
END:VEVENT
END:VCALENDAR