BEGIN:VCALENDAR
VERSION:2.0
PRODID:-//KHG Bayreuth - ECPv6.15.3//NONSGML v1.0//EN
CALSCALE:GREGORIAN
METHOD:PUBLISH
X-ORIGINAL-URL:https://www.khg-in-bayreuth.de
X-WR-CALDESC:Veranstaltungen für KHG Bayreuth
REFRESH-INTERVAL;VALUE=DURATION:PT1H
X-Robots-Tag:noindex
X-PUBLISHED-TTL:PT1H
BEGIN:VTIMEZONE
TZID:Europe/Berlin
BEGIN:DAYLIGHT
TZOFFSETFROM:+0100
TZOFFSETTO:+0200
TZNAME:CEST
DTSTART:20250330T010000
END:DAYLIGHT
BEGIN:STANDARD
TZOFFSETFROM:+0200
TZOFFSETTO:+0100
TZNAME:CET
DTSTART:20251026T010000
END:STANDARD
END:VTIMEZONE
BEGIN:VEVENT
DTSTART;TZID=Europe/Berlin:20250425T190000
DTEND;TZID=Europe/Berlin:20250425T200000
DTSTAMP:20260422T025754
CREATED:20250305T134635Z
LAST-MODIFIED:20250409T114235Z
UID:10007733-1745607600-1745611200@www.khg-in-bayreuth.de
SUMMARY:Ökum. Semesteranfangsgottesdienst\, anschl. Welcome-Abend // Ecumenical service at the start of the semester\, followed by a welcome evening
DESCRIPTION:Einladung zum entspannten Start ins neue Semester in den ESG-Räumen. Eingeladen sind alle Erstsemester und natürlich alle anderen Studierenden\, die wieder ins Semester starten. Wir stoßen auf das neue Semester an: Barbetrieb\, Kicker & Salon laden zu Gesprächen und zum Kennenlernen ein. Mit Pizza ist auch für das leibliche Wohl gesorgt. Bringt also gerne Appetit mit!\n—\nInvitation to a relaxed start to the new semester in the ESG rooms. All first semester students and of course all other students who are starting the semester again are invited. We toast to the new semester: Bar service\, table football & salon invite you to talk and get to know each other. Pizza will also be provided for your physical well-being. So bring an appetite!
URL:https://www.khg-in-bayreuth.de/event/oekum-semesteranfangsgottesdienst-ecumenical-service-at-the-start-of-the-semester/
LOCATION:ESG Bayreuth\, Richard-Wagner-Straße 24\, Bayreuth\, Deutschland
END:VEVENT
END:VCALENDAR