BEGIN:VCALENDAR
VERSION:2.0
PRODID:-//KHG Bayreuth - ECPv6.15.3//NONSGML v1.0//EN
CALSCALE:GREGORIAN
METHOD:PUBLISH
X-ORIGINAL-URL:https://www.khg-in-bayreuth.de
X-WR-CALDESC:Veranstaltungen für KHG Bayreuth
REFRESH-INTERVAL;VALUE=DURATION:PT1H
X-Robots-Tag:noindex
X-PUBLISHED-TTL:PT1H
BEGIN:VTIMEZONE
TZID:Europe/Berlin
BEGIN:DAYLIGHT
TZOFFSETFROM:+0100
TZOFFSETTO:+0200
TZNAME:CEST
DTSTART:20250330T010000
END:DAYLIGHT
BEGIN:STANDARD
TZOFFSETFROM:+0200
TZOFFSETTO:+0100
TZNAME:CET
DTSTART:20251026T010000
END:STANDARD
END:VTIMEZONE
BEGIN:VEVENT
DTSTART;TZID=Europe/Berlin:20250506T200000
DTEND;TZID=Europe/Berlin:20250506T220000
DTSTAMP:20260422T050057
CREATED:20250416T095427Z
LAST-MODIFIED:20250416T095432Z
UID:10007753-1746561600-1746568800@www.khg-in-bayreuth.de
SUMMARY:Matcha & Kimono – Japanische Tee-Zeremonie erleben // Matcha & Kimono: Experiancing a Japanese Tea Ceremony
DESCRIPTION:Ayu feiert mit uns eine traditionelle japanische Teezeremonie (Beginn schon um 19 Uhr!). Im Anschluss (ab ca. 20 Uhr) essen wir gemeinsam japanische Reisbälle und Ayu gibt weitere Einblicke in diese Tradition. Wer möchte\, ist auch herzlich zu den Vorbereitungen ab 18 Uhr willkommen\, wenn wir die Reisbällchen vorbereiten… Ob Ihr schon mal da wart oder einfach neugierig seid\, kommt gerne dazu. Wir freuen uns auf Euch! Bitte meldet Euch über den Link an\, damit wir kalkulieren können. (Begrenzte Teilnehmerzahl)\n—\nAyu celebrates a traditional Japanese tea ceremony with us (starting at 7pm!). Afterwards (from around 8pm) we will eat Japanese rice balls together and Ayu will give us further insights into this tradition. Anyone who wants to is also welcome to join the preparations from 6pm when we prepare the rice balls… Whether you have been there before or are simply curious\, you are welcome to join us. We look forward to seeing you! Please register via the link so that we can calculate. (Limited number of participants)
URL:https://www.khg-in-bayreuth.de/event/matcha-kimono-japanische-tee-zeremonie-erleben-matcha-kimono-experiancing-a-japanese-tea-ceremony/
LOCATION:ESG Bayreuth\, Richard-Wagner-Straße 24\, Bayreuth\, Deutschland
END:VEVENT
END:VCALENDAR