BEGIN:VCALENDAR
VERSION:2.0
PRODID:-//KHG Bayreuth - ECPv6.15.3//NONSGML v1.0//EN
CALSCALE:GREGORIAN
METHOD:PUBLISH
X-WR-CALNAME:KHG Bayreuth
X-ORIGINAL-URL:https://www.khg-in-bayreuth.de
X-WR-CALDESC:Veranstaltungen für KHG Bayreuth
REFRESH-INTERVAL;VALUE=DURATION:PT1H
X-Robots-Tag:noindex
X-PUBLISHED-TTL:PT1H
BEGIN:VTIMEZONE
TZID:Europe/Berlin
BEGIN:DAYLIGHT
TZOFFSETFROM:+0100
TZOFFSETTO:+0200
TZNAME:CEST
DTSTART:20250330T010000
END:DAYLIGHT
BEGIN:STANDARD
TZOFFSETFROM:+0200
TZOFFSETTO:+0100
TZNAME:CET
DTSTART:20251026T010000
END:STANDARD
END:VTIMEZONE
BEGIN:VEVENT
DTSTART;TZID=Europe/Berlin:20250728T200000
DTEND;TZID=Europe/Berlin:20250728T220000
DTSTAMP:20260422T121615
CREATED:20250707T124116Z
LAST-MODIFIED:20250707T124122Z
UID:10007943-1753732800-1753740000@www.khg-in-bayreuth.de
SUMMARY:2. Aufführung Theatergruppe Schwarze Schafe e.V.: Der Geizige - eine Komödie nach Moliére // 2nd performance Theatergruppe Schwarze Schafe e.V.: The Miser - a comedy based on Moliére
DESCRIPTION:Paris\, irgendwann inmitten der Jahrhunderte:\nIm Haus des geizbesessenen Harpagon herrscht eiserne Kontrolle. Kontrolle über jeden Taler\, jede Mahlzeit\, über jeden Bediensteten und selbst über seine eigenen Kinder. Doch die Kontrolle über die Liebe seiner Kinder erlangt er nicht\, denn Cléanthe und Elise verlieben sich still und heimlich in Personen\, die nicht von ihrem Vater abgesegnet wurden. Als jedoch Harpagon selbst nach der Hand der Geliebten seines Sohnes fragt\, entbrennt ein gefährliches Spiel aus Täuschung\, Gier und verbotener Liebe.\nWährend Harpagon sein Gold im Garten vergräbt\, spinnt sich ein Netz aus Intrigen und Verstellungen. Die Fassade des tugendhaften Vaters bröckelt\, und hinter dem Wahn nach Reichtum entlarvt sich ein Mensch\, der kurz davor steht alles zu verlieren.\n–\nParis\, sometime in the middle of the centuries:\nIn the house of the avarice-obsessed Harpagon\, iron control reigns. Control over every penny\, every meal\, every servant and even his own children. But he does not gain control over the love of his children\, because Cléanthe and Elise fall in love quietly and secretly with people who have not been approved by their father. However\, when Harpagon himself asks for the hand of his son’s lover\, a dangerous game of deception\, greed and forbidden love ensues.\nWhile Harpagon buries his gold in the garden\, a web of intrigue and deceit is spun. The façade of the virtuous father crumbles\, and behind the delusion of wealth a man is revealed who is on the verge of losing everything.
URL:https://www.khg-in-bayreuth.de/event/2-auffuehrung-theatergruppe-schwarze-schafe-e-v-der-geizige-eine-komoedie-nach-moliere-2nd-performance-theatergruppe-schwarze-schafe-e-v-the-miser-a-comedy-based-on-moliere/
LOCATION:KHG Bayreuth\, Emil-Warburg-Weg 17\, KHG Bayreuth\, 95447\, Deutschland
END:VEVENT
END:VCALENDAR