BEGIN:VCALENDAR
VERSION:2.0
PRODID:-//KHG Bayreuth - ECPv6.15.3//NONSGML v1.0//EN
CALSCALE:GREGORIAN
METHOD:PUBLISH
X-WR-CALNAME:KHG Bayreuth
X-ORIGINAL-URL:https://www.khg-in-bayreuth.de
X-WR-CALDESC:Veranstaltungen für KHG Bayreuth
REFRESH-INTERVAL;VALUE=DURATION:PT1H
X-Robots-Tag:noindex
X-PUBLISHED-TTL:PT1H
BEGIN:VTIMEZONE
TZID:Europe/Berlin
BEGIN:DAYLIGHT
TZOFFSETFROM:+0100
TZOFFSETTO:+0200
TZNAME:CEST
DTSTART:20250330T010000
END:DAYLIGHT
BEGIN:STANDARD
TZOFFSETFROM:+0200
TZOFFSETTO:+0100
TZNAME:CET
DTSTART:20251026T010000
END:STANDARD
END:VTIMEZONE
BEGIN:VEVENT
DTSTART;TZID=Europe/Berlin:20251021T181500
DTEND;TZID=Europe/Berlin:20251021T190000
DTSTAMP:20260423T010940
CREATED:20250917T101627Z
LAST-MODIFIED:20250917T101634Z
UID:10008270-1761070500-1761073200@www.khg-in-bayreuth.de
SUMMARY:KHG Gottesdienst
DESCRIPTION:
URL:https://www.khg-in-bayreuth.de/event/khg-gottesdienst/
LOCATION:KHG Kapelle
END:VEVENT
BEGIN:VEVENT
DTSTART;TZID=Europe/Berlin:20251021T200000
DTEND;TZID=Europe/Berlin:20251021T220000
DTSTAMP:20260423T010940
CREATED:20250825T095440Z
LAST-MODIFIED:20251015T133116Z
UID:10008084-1761076800-1761084000@www.khg-in-bayreuth.de
SUMMARY:Spaßolympiade\, anschl. KHG-Gemeinderatswahl  // Fun Olympics\, followed by KHG parish council election
DESCRIPTION:Euch erwarten spaßige Wettbewerbe für Kopf\, Herz und Hand – und natürliche gibt es Preise zu gewinnen! Ihr könnt einzeln kommen oder als Team antreten.\n–\nYou can look forward to fun competitions for your head\, heart\, and hands—and of course there are prizes to be won! You can come individually or compete as a team.
URL:https://www.khg-in-bayreuth.de/event/khg-olympiade-mit-gemeinderatswahl-khg-olympics-with-parish-council-elections/
LOCATION:KHG Bayreuth\, Emil-Warburg-Weg 17\, KHG Bayreuth\, 95447\, Deutschland
END:VEVENT
END:VCALENDAR