BEGIN:VCALENDAR
VERSION:2.0
PRODID:-//KHG Bayreuth - ECPv6.15.3//NONSGML v1.0//EN
CALSCALE:GREGORIAN
METHOD:PUBLISH
X-ORIGINAL-URL:https://www.khg-in-bayreuth.de
X-WR-CALDESC:Veranstaltungen für KHG Bayreuth
REFRESH-INTERVAL;VALUE=DURATION:PT1H
X-Robots-Tag:noindex
X-PUBLISHED-TTL:PT1H
BEGIN:VTIMEZONE
TZID:Europe/Berlin
BEGIN:DAYLIGHT
TZOFFSETFROM:+0100
TZOFFSETTO:+0200
TZNAME:CEST
DTSTART:20250330T010000
END:DAYLIGHT
BEGIN:STANDARD
TZOFFSETFROM:+0200
TZOFFSETTO:+0100
TZNAME:CET
DTSTART:20251026T010000
END:STANDARD
END:VTIMEZONE
BEGIN:VEVENT
DTSTART;TZID=Europe/Berlin:20251024T200000
DTEND;TZID=Europe/Berlin:20251024T220000
DTSTAMP:20260422T233242
CREATED:20250917T065410Z
LAST-MODIFIED:20250918T061848Z
UID:10008145-1761336000-1761343200@www.khg-in-bayreuth.de
SUMMARY:Konzert mit Urbain N´Dakon
DESCRIPTION:Ort: NEUNEINHALB\, Gerberplatz 1\, 95445 Bayreuth \nUrbain N’Dakon\, Jahrgang 64\, hat in der Elfenbeinküste Germanistik studiert und war dort einige Jahre als Gymnasiallehrer für Deutsch und Berufsberater tätig\, ehe er 1993 nach Deutschland kam.\nSeine Doktorarbeit hat er an der Universität Bayreuth geschrieben. Er war Mitbegründer der in Bayreuth ansässigen African-Beat-Band „Die Orischas”. \nUrbain N’Dakon ist seit 2008 Musikbotschafter der Elfenbeinküste in der Kategorie „Moderne Liedermacher”. Er spielt allein auf der Akustik-Gitarre\, auf afrikanischen Trommeln und Rasseln eine selbstkomponierte langsame und melodische Musik zum Erholen und Nachdenken und erzählt zwischendurch in perfektem Deutsch Geschichten über Afrika und sein Heimatland – die Elfenbeinküste. \nDas musikalische Programm umfasst: \nmusikalische Erzählungen auf Deutsch mit afrikanischem Gesang;\ngesungene Texte in N’Zema und anderen afrikanischen Sprachen mit deklamierten deutschen Texten;\ngesungene Texte auf Deutsch. \nUrbain N’Dakon vermittelt in seiner Musik alte Weisheiten aus Afrika\, die gerade in der heutigen schnelllebigen Zeit noch hoch aktuell sind. Eine Musik zum Entspannen\, zum Reisen in ein den meisten fremdes Land und gleichzeitig zum Lernen über sich selbst. Ein tiefgründiger Blick in die afrikanische Seele\, innig\, frisch\, voller Kraft und Freude. \nWeitere ausführliche Informationen auf der Homepage:\nhttp://www.urbain-ndakon.de/melodien \nDer Eintritt zur Veranstaltung ist frei\, Spenden sind willkommen! \nVeranstalter:\nWeltladen Bayreuth – Die Brücke e.V.\, Evangelisches Bildungswerk Oberfranken-Mitte e.V\nMitveranstalter: Evangelische Studierendengemeinde Bayreuth (ESG)\, Katholische Hochschulgemeinde\, Afrika Freundeskreis e.V.\, Zentrum globales Lernen\, (ZGL)\, Fairtrade-Steuerungsgruppe Bayreuth \nKooperationspartner: Eine Welt Netzwerk Bayern e.V.\n—\nOrt: NEUNEINHALB\, Gerberplatz 1\, 95445 Bayreuth \nUrbain N’Dakon\, born in 1964\, studied German language and literature in Ivory Coast and worked there for several years as a high school teacher of German and a career counselor before coming to Germany in 1993.\nHe wrote his doctoral thesis at the University of Bayreuth. He was co-founder of the Bayreuth-based African beat band “Die Orischas.” \nUrbain N’Dakon has been the Ivory Coast’s music ambassador in the “modern songwriters” category since 2008. He plays slow\, melodic music he has composed himself on acoustic guitar\, African drums\, and rattles\, inviting listeners to relax and reflect. In between songs\, he tells stories in perfect German about Africa and his home country\, the Ivory Coast. \nThe musical program includes: \nmusical stories in German with African singing;\nsung lyrics in N’Zema and other African languages with recited German lyrics;\nsung lyrics in German. \nIn his music\, Urbain N’Dakon conveys ancient wisdom from Africa that is still highly relevant in today’s fast-paced world. Music to relax to\, to travel to a country that is foreign to most people and at the same time to learn about oneself. A profound look into the African soul\, heartfelt\, fresh\, full of power and joy. \nFurther detailed information on the homepage:\nhttp://www.urbain-ndakon.de/melodien \nAdmission to the event is free\, donations are welcome! \nTranslated with DeepL.com (free version)
URL:https://www.khg-in-bayreuth.de/event/konzert-mit-urbain-ndakon-2/
LOCATION:KHG Bayreuth\, Emil-Warburg-Weg 17\, KHG Bayreuth\, 95447\, Deutschland
END:VEVENT
END:VCALENDAR