BEGIN:VCALENDAR
VERSION:2.0
PRODID:-//KHG Bayreuth - ECPv6.15.3//NONSGML v1.0//EN
CALSCALE:GREGORIAN
METHOD:PUBLISH
X-ORIGINAL-URL:https://www.khg-in-bayreuth.de
X-WR-CALDESC:Veranstaltungen für KHG Bayreuth
REFRESH-INTERVAL;VALUE=DURATION:PT1H
X-Robots-Tag:noindex
X-PUBLISHED-TTL:PT1H
BEGIN:VTIMEZONE
TZID:Europe/Berlin
BEGIN:DAYLIGHT
TZOFFSETFROM:+0100
TZOFFSETTO:+0200
TZNAME:CEST
DTSTART:20250330T010000
END:DAYLIGHT
BEGIN:STANDARD
TZOFFSETFROM:+0200
TZOFFSETTO:+0100
TZNAME:CET
DTSTART:20251026T010000
END:STANDARD
END:VTIMEZONE
BEGIN:VEVENT
DTSTART;TZID=Europe/Berlin:20251026T090000
DTEND;TZID=Europe/Berlin:20251026T170000
DTSTAMP:20260422T233311
CREATED:20250825T095711Z
LAST-MODIFIED:20251017T065153Z
UID:10008085-1761469200-1761498000@www.khg-in-bayreuth.de
SUMMARY:Pilzsuche // Mushroom Hunt
DESCRIPTION:Um Anmeldung wird gebeten! \nTreffpunkt: 12.10 Uhr ZOH Bayreuth \nKeine Jahreszeit ist rund um Bayreuth so schön zum Wandern wie der Herbst.\nIn diesem Jahr wollen wir nicht nur die wunderbare Natur im bunten Herbstkleid genießen sondern auch die nähere Umgebung erkunden. \n– \nPlease register! \nMeeting point: 12:10 p.m. ZOH Bayreuth \nNo season around Bayreuth is as beautiful for hiking as autumn.\nThis year\, we want to not only enjoy the wonderful nature in its colorful autumn attire\, but also explore the surrounding area. \n 
URL:https://www.khg-in-bayreuth.de/event/wanderung-zwischen-bayreuth-und-kulmbach-hike-between-bayreuth-and-kulmbach/
LOCATION:KHG Bayreuth\, Emil-Warburg-Weg 17\, KHG Bayreuth\, 95447\, Deutschland
END:VEVENT
END:VCALENDAR