BEGIN:VCALENDAR
VERSION:2.0
PRODID:-//KHG Bayreuth - ECPv6.15.3//NONSGML v1.0//EN
CALSCALE:GREGORIAN
METHOD:PUBLISH
X-ORIGINAL-URL:https://www.khg-in-bayreuth.de
X-WR-CALDESC:Veranstaltungen für KHG Bayreuth
REFRESH-INTERVAL;VALUE=DURATION:PT1H
X-Robots-Tag:noindex
X-PUBLISHED-TTL:PT1H
BEGIN:VTIMEZONE
TZID:Europe/Berlin
BEGIN:DAYLIGHT
TZOFFSETFROM:+0100
TZOFFSETTO:+0200
TZNAME:CEST
DTSTART:20250330T010000
END:DAYLIGHT
BEGIN:STANDARD
TZOFFSETFROM:+0200
TZOFFSETTO:+0100
TZNAME:CET
DTSTART:20251026T010000
END:STANDARD
END:VTIMEZONE
BEGIN:VEVENT
DTSTART;TZID=Europe/Berlin:20251104T200000
DTEND;TZID=Europe/Berlin:20251104T220000
DTSTAMP:20260423T044509
CREATED:20250827T070108Z
LAST-MODIFIED:20251022T123233Z
UID:10008087-1762286400-1762293600@www.khg-in-bayreuth.de
SUMMARY:Australischer Länderabend // Australian Country Evening
DESCRIPTION:Beim australischen Länderabend wird das Land in allen Facetten vorgestellt. Wir erkunden kulturelle\, historische\, politische und geographische Aspekte sowie Reisetipps. Euch erwartet auch ein (spaßiges) Quiz. \nThe Australian Country Evening presents all facets of the country. We explore cultural\, historical\, political\, and geographical aspects\, as well as travel tips. You can also look forward to a (fun) quiz.
URL:https://www.khg-in-bayreuth.de/event/australischer-kulturabend-australian-cultural-evening/
LOCATION:KHG Bayreuth\, Emil-Warburg-Weg 17\, KHG Bayreuth\, 95447\, Deutschland
END:VEVENT
END:VCALENDAR