BEGIN:VCALENDAR
VERSION:2.0
PRODID:-//KHG Bayreuth - ECPv6.15.3//NONSGML v1.0//EN
CALSCALE:GREGORIAN
METHOD:PUBLISH
X-WR-CALNAME:KHG Bayreuth
X-ORIGINAL-URL:https://www.khg-in-bayreuth.de
X-WR-CALDESC:Veranstaltungen für KHG Bayreuth
REFRESH-INTERVAL;VALUE=DURATION:PT1H
X-Robots-Tag:noindex
X-PUBLISHED-TTL:PT1H
BEGIN:VTIMEZONE
TZID:Europe/Berlin
BEGIN:DAYLIGHT
TZOFFSETFROM:+0100
TZOFFSETTO:+0200
TZNAME:CEST
DTSTART:20250330T010000
END:DAYLIGHT
BEGIN:STANDARD
TZOFFSETFROM:+0200
TZOFFSETTO:+0100
TZNAME:CET
DTSTART:20251026T010000
END:STANDARD
END:VTIMEZONE
BEGIN:VEVENT
DTSTART;TZID=Europe/Berlin:20251111T200000
DTEND;TZID=Europe/Berlin:20251111T220000
DTSTAMP:20260423T130333
CREATED:20250827T070415Z
LAST-MODIFIED:20251029T095535Z
UID:10008088-1762891200-1762898400@www.khg-in-bayreuth.de
SUMMARY:Global St. Martins Night - Teilen schmeckt besser // Global St. Martin's Night – Sharing tastes better
DESCRIPTION:Internationales Mitbringbuffet – Gemeinsam Essen verbindet\n–\nInternational potluck buffet – eating together brings people together
URL:https://www.khg-in-bayreuth.de/event/global-st-martins-night-teilen-schmeckt-besser-global-st-martins-night-sharing-tastes-better/
LOCATION:ESG Bayreuth\, Richard-Wagner-Straße 24\, Bayreuth\, Deutschland
END:VEVENT
END:VCALENDAR