BEGIN:VCALENDAR
VERSION:2.0
PRODID:-//KHG Bayreuth - ECPv6.15.3//NONSGML v1.0//EN
CALSCALE:GREGORIAN
METHOD:PUBLISH
X-WR-CALNAME:KHG Bayreuth
X-ORIGINAL-URL:https://www.khg-in-bayreuth.de
X-WR-CALDESC:Veranstaltungen für KHG Bayreuth
REFRESH-INTERVAL;VALUE=DURATION:PT1H
X-Robots-Tag:noindex
X-PUBLISHED-TTL:PT1H
BEGIN:VTIMEZONE
TZID:Europe/Berlin
BEGIN:DAYLIGHT
TZOFFSETFROM:+0100
TZOFFSETTO:+0200
TZNAME:CEST
DTSTART:20250330T010000
END:DAYLIGHT
BEGIN:STANDARD
TZOFFSETFROM:+0200
TZOFFSETTO:+0100
TZNAME:CET
DTSTART:20251026T010000
END:STANDARD
END:VTIMEZONE
BEGIN:VEVENT
DTSTART;TZID=Europe/Berlin:20251118T190000
DTEND;TZID=Europe/Berlin:20251118T210000
DTSTAMP:20260423T232223
CREATED:20250827T070851Z
LAST-MODIFIED:20251030T095609Z
UID:10008089-1763492400-1763499600@www.khg-in-bayreuth.de
SUMMARY:Gesprächsabend: Lebenswertes Leben am Ende - Möglichkeiten der Palliativversorgung in Bayreuth // Discussion evening: A life worth living at the end – palliative care options in Bayreuth
DESCRIPTION:Was bedeutet ein gutes Leben auch am Lebensende? Welche Möglichkeiten gibt es in Bayreuth\, Menschen in ihrer letzten Lebensphase würdevoll zu begleiten? Und wie kann Palliativversorgung Lebensqualität schenken?\nDie Klinikdirektorin Dr. Sabine Gernhardt gibt Einblicke in die Palliativmedizin und Hospizarbeit in Bayreuth.\nIm Anschluss: gemütlicher Ausklang mit Tee und Gespräch\n–\nWhat does a good life mean at the end of life? What options are available in Bayreuth to accompany people in their final stages of life with dignity? And how can palliative care improve quality of life?\nClinic director Dr. Sabine Gernhardt provides insights into palliative medicine and hospice work in Bayreuth.\nFollowed by: a cozy conclusion with tea and conversation.
URL:https://www.khg-in-bayreuth.de/event/gespraechsabend-zur-palliativmedizin-discussion-evening-on-palliative-medicine/
LOCATION:KHG Bayreuth\, Emil-Warburg-Weg 17\, KHG Bayreuth\, 95447\, Deutschland
END:VEVENT
END:VCALENDAR