BEGIN:VCALENDAR
VERSION:2.0
PRODID:-//KHG Bayreuth - ECPv6.15.3//NONSGML v1.0//EN
CALSCALE:GREGORIAN
METHOD:PUBLISH
X-ORIGINAL-URL:https://www.khg-in-bayreuth.de
X-WR-CALDESC:Veranstaltungen für KHG Bayreuth
REFRESH-INTERVAL;VALUE=DURATION:PT1H
X-Robots-Tag:noindex
X-PUBLISHED-TTL:PT1H
BEGIN:VTIMEZONE
TZID:Europe/Berlin
BEGIN:DAYLIGHT
TZOFFSETFROM:+0100
TZOFFSETTO:+0200
TZNAME:CEST
DTSTART:20200329T010000
END:DAYLIGHT
BEGIN:STANDARD
TZOFFSETFROM:+0200
TZOFFSETTO:+0100
TZNAME:CET
DTSTART:20201025T010000
END:STANDARD
END:VTIMEZONE
BEGIN:VTIMEZONE
TZID:UTC
BEGIN:STANDARD
TZOFFSETFROM:+0000
TZOFFSETTO:+0000
TZNAME:UTC
DTSTART:20200101T000000
END:STANDARD
END:VTIMEZONE
BEGIN:VEVENT
DTSTART;TZID=Europe/Berlin:20200201T150000
DTEND;TZID=Europe/Berlin:20200201T233000
DTSTAMP:20260425T235037
CREATED:20191120T134859Z
LAST-MODIFIED:20191120T134859Z
UID:10004300-1580569200-1580599800@www.khg-in-bayreuth.de
SUMMARY:Ehemaligentreffen und KHG-Kerwa
DESCRIPTION:
URL:https://www.khg-in-bayreuth.de/event/ehemaligentreffen-und-khg-kerwa/
LOCATION:KHG Bayreuth\, Emil-Warburg-Weg 17\, KHG Bayreuth\, 95447\, Deutschland
END:VEVENT
BEGIN:VEVENT
DTSTART;TZID=Europe/Berlin:20200201T190000
DTEND;TZID=Europe/Berlin:20200201T230000
DTSTAMP:20260425T235037
CREATED:20190817T140137Z
LAST-MODIFIED:20200121T023027Z
UID:10004268-1580583600-1580598000@www.khg-in-bayreuth.de
SUMMARY:36. KHG-Kirchweih
DESCRIPTION:Am Samstag\, den 01. Februar 2020\, feiern wir um 18:00 Uhr in einem feierlichen Gottesdienst die 36. Kirchweih der Albertus-Magnus-Kapelle. Anschließend laden wir zum gemeinsamen Beisammensein mit buntem Programm ein. \n\nOn Saturday\, 01.02.20\, we celebrate the 36th fair of our Albertus-Magnus chapel with a festival service at 6 pm. Afterwards\, we will have a cosy get-together with a diverse programm.
URL:https://www.khg-in-bayreuth.de/event/36-khg-kirchweih/
LOCATION:KHG Bayreuth\, Emil-Warburg-Weg 17\, KHG Bayreuth\, 95447\, Deutschland
END:VEVENT
BEGIN:VEVENT
DTSTART;TZID=UTC:20200203T170000
DTEND;TZID=UTC:20200203T190000
DTSTAMP:20260425T235037
CREATED:20190228T173552Z
LAST-MODIFIED:20190228T173552Z
UID:10003809-1580749200-1580756400@www.khg-in-bayreuth.de
SUMMARY:Bibelteilen // sharing the bible
DESCRIPTION:– English version below – \nNach der Methode des “Bibelteilens in sieben Schritten” bringen wir biblische Texte zusammen mit eigenen Lebenserfahrungen\, Fragen und Zweifeln. So begeben wir uns gemeinsam auf die Suche: Was ist jetzt “dran” für mich/ für uns? Wie kann ich das\, was ich denke\, fühle und erlebe\, anhand der biblischen Überlieferung deuten? Was ist jetzt zu tun?\nHerzliche Einladung an alle Gläubigen\, Agnostiker\, Atheisten\, Sinnsucher/-innen und Leute\, die etwas bewegen wollen! \nJeden Montag um 17.00 Uhr in der KHG (Frühstücksecke im Untergeschoss – ganz hinten). \n– English version – \nFollowing the “sharing the bible in seven steps” method\, we combine biblical texts with personal experiences\, doubts and questions. Thus we engage on a shared quest: What is “due” for me/ for us now? How can I interpret my own reality in the light of the gospel? \nEveryone’s invited to share\, regardless of culture or religon. \nEvery Monday at 5 pm in the KHG (breakfast table in the basement – at the rear).
URL:https://www.khg-in-bayreuth.de/event/bibelteilen-sharing-the-bible-22/2020-02-03/
END:VEVENT
BEGIN:VEVENT
DTSTART;TZID=Europe/Berlin:20200203T180000
DTEND;TZID=Europe/Berlin:20200203T200000
DTSTAMP:20260425T235037
CREATED:20190817T123405Z
LAST-MODIFIED:20191017T215443Z
UID:10004174-1580752800-1580760000@www.khg-in-bayreuth.de
SUMMARY:Theatergruppe / Theatre group “Schwarze Schafe”
DESCRIPTION:
URL:https://www.khg-in-bayreuth.de/event/theatergruppe-theatre-group-schwarze-schafe-2019-10-28/2020-02-03/
LOCATION:KHG Bayreuth\, Emil-Warburg-Weg 17\, KHG Bayreuth\, 95447\, Deutschland
END:VEVENT
BEGIN:VEVENT
DTSTART;TZID=Europe/Berlin:20200204T183000
DTEND;TZID=Europe/Berlin:20200204T200000
DTSTAMP:20260425T235037
CREATED:20190817T125756Z
LAST-MODIFIED:20191016T064532Z
UID:10004223-1580841000-1580846400@www.khg-in-bayreuth.de
SUMMARY:KHG-Barabend / KHG bar evening
DESCRIPTION:Der KHG-Barabend! Wir treffen uns jeden Dienstag ab 18.30 Uhr in der KHG\, starten mit einem spirituellen Impuls in der Kapelle (im ersten Stock) und treffen uns dann einen Stock tiefer an der Bar zu “Humpen und Häppchen”. Ab 20.00 Uhr gibt es wechselndes Programm – mal für’s Hirn\, mal für’s Herz\, mal für den Bauch und mal für die Beine … \n\nIt’s KHG bar evening! We meet every Tuesday from 6:30 pm at the KHG\, start with a spiritual moment in the chapel (upstairs) \, then have drinks and a bite to eat at the bar (downstairs). From 8 pm we’re having varying programmes – sometimes for the brain\, sometimes for the heart\, sometimes for the stomach and sometimes for the legs …
URL:https://www.khg-in-bayreuth.de/event/khg-barabend-khg-bar-evening-12/2020-02-04/
LOCATION:KHG Bayreuth\, Emil-Warburg-Weg 17\, KHG Bayreuth\, 95447\, Deutschland
END:VEVENT
BEGIN:VEVENT
DTSTART;TZID=Europe/Berlin:20200204T200000
DTEND;TZID=Europe/Berlin:20200204T220000
DTSTAMP:20260425T235037
CREATED:20191120T134802Z
LAST-MODIFIED:20191120T142009Z
UID:10004299-1580846400-1580853600@www.khg-in-bayreuth.de
SUMMARY:Werwolfabend
DESCRIPTION:Ein ganzer Abend mit dem Gruppenspiel Werwolf. Auch Neueinsteiger herzlich willkommen.
URL:https://www.khg-in-bayreuth.de/event/werwolfabend/
LOCATION:KHG Bayreuth\, Emil-Warburg-Weg 17\, KHG Bayreuth\, 95447\, Deutschland
END:VEVENT
BEGIN:VEVENT
DTSTART;TZID=Europe/Berlin:20200205T120500
DTEND;TZID=Europe/Berlin:20200205T123000
DTSTAMP:20260425T235037
CREATED:20200121T011820Z
LAST-MODIFIED:20200121T011820Z
UID:10004312-1580904300-1580905800@www.khg-in-bayreuth.de
SUMMARY:Mittwochsgebet // Midweek prayer
DESCRIPTION:Mitten in der Woche nehmen wir uns eine halbe Stunde Zeit für uns – mit Gedanken\, Liedern und Gebeten … \nIn the middle of the week\, we reserve half an hour for ourselves – with thoughts\, songs and prayers …
URL:https://www.khg-in-bayreuth.de/event/mittwochsgebet-midweek-prayer/2020-02-05/
LOCATION:KHG Bayreuth\, Emil-Warburg-Weg 17\, KHG Bayreuth\, 95447\, Deutschland
END:VEVENT
BEGIN:VEVENT
DTSTART;TZID=Europe/Berlin:20200205T123000
DTEND;TZID=Europe/Berlin:20200205T130000
DTSTAMP:20260425T235037
CREATED:20190817T130152Z
LAST-MODIFIED:20190817T130152Z
UID:10004241-1580905800-1580907600@www.khg-in-bayreuth.de
SUMMARY:Mittagssuppe für Alle / Soup sharing
DESCRIPTION:Mitten in der Woche treffen wir uns\, um gemeinsam (vegetarische) Suppe zu löffeln. Die perfekte Gelegenheit\, eine kurze Pause vom Uni-Alltag zu nehmen\, nette Leute kennenzulernen und sich “wie zuhause” am Mittagstisch zu versammeln.\nDie Suppe gibt es gegen 12.30 Uhr im Untergeschoss. Wer mag\, ist vorher noch zu einem kurzen Mittagsimpuls in der Kapelle eingeladen.\nFalls jemand Zeit und Lust hat\, beim Kochen zu helfen: ab ca. 11.00 Uhr wird in der KHG-Küche geschnippelt! \n\nIn the middle of the week\, we meet to have (vegetarian) soup together. The perfect occasion to have a short break from everyday university life\, meet great people and feel at home\, gathering around the table!\nSoup is served around 12.30 pm in the basement. Those who feel like it\, are invited previously to a spiritual moment at 12.05 pm in the chapel.\nAnd whoever enjoys to help with the cooking: we start in the kitchen at around 11 am.
URL:https://www.khg-in-bayreuth.de/event/mittagssuppe-fuer-alle-soup-sharing-16/2020-02-05/
LOCATION:KHG Bayreuth\, Emil-Warburg-Weg 17\, KHG Bayreuth\, 95447\, Deutschland
END:VEVENT
BEGIN:VEVENT
DTSTART;TZID=Europe/Berlin:20200205T194500
DTEND;TZID=Europe/Berlin:20200205T213000
DTSTAMP:20260425T235037
CREATED:20190817T123528Z
LAST-MODIFIED:20190817T123528Z
UID:10004191-1580931900-1580938200@www.khg-in-bayreuth.de
SUMMARY:Gospelchor Probe / Gospel Choir rehearsal
DESCRIPTION:
URL:https://www.khg-in-bayreuth.de/event/gospelchor-probe-gospel-choir-rehearsal-2/2020-02-05/
LOCATION:KHG Bayreuth\, Emil-Warburg-Weg 17\, KHG Bayreuth\, 95447\, Deutschland
END:VEVENT
BEGIN:VEVENT
DTSTART;TZID=Europe/Berlin:20200206T200000
DTEND;TZID=Europe/Berlin:20200206T220000
DTSTAMP:20260425T235037
CREATED:20190817T123909Z
LAST-MODIFIED:20190817T123909Z
UID:10004206-1581019200-1581026400@www.khg-in-bayreuth.de
SUMMARY:Swahili Chor Probe / Swahili Choir rehearsal
DESCRIPTION:
URL:https://www.khg-in-bayreuth.de/event/swahili-chor-probe-swahili-choir-rehearsal-2/2020-02-06/
LOCATION:KHG Bayreuth\, Emil-Warburg-Weg 17\, KHG Bayreuth\, 95447\, Deutschland
END:VEVENT
BEGIN:VEVENT
DTSTART;TZID=Europe/Berlin:20200207T070000
DTEND;TZID=Europe/Berlin:20200207T080000
DTSTAMP:20260425T235037
CREATED:20190817T122154Z
LAST-MODIFIED:20191025T073923Z
UID:10004152-1581058800-1581062400@www.khg-in-bayreuth.de
SUMMARY:Frühschicht // Morning prayer
DESCRIPTION:Freitagsmorgens treffen wir uns während der Vorlesungszeit um 07:00 Uhr zu einer kurzen Morgenandacht mit anschließendem Frühstück (Unkostenbeitrag: 1€). Die erste Frühschicht findet am 18.10.19\, die letzte am 07.02.20 statt. \n\nEvery friday morning we meet for a short morning prayer. Afterwards we have breakfast together (1 € ) . The first morning prayer is on October 18\, 2019\, the last one on February 07\, 2020.
URL:https://www.khg-in-bayreuth.de/event/fruehschicht-morning-prayer/2020-02-07/
LOCATION:KHG Bayreuth\, Emil-Warburg-Weg 17\, KHG Bayreuth\, 95447\, Deutschland
END:VEVENT
BEGIN:VEVENT
DTSTART;TZID=Europe/Berlin:20200207T190000
DTEND;TZID=Europe/Berlin:20200207T200000
DTSTAMP:20260425T235037
CREATED:20190817T140226Z
LAST-MODIFIED:20190817T140226Z
UID:10004269-1581102000-1581105600@www.khg-in-bayreuth.de
SUMMARY:Ökumenischer Semesterschlussgottesdienst / Ecumenical end-of-term service
DESCRIPTION:Wir laden alle Studierenden und Uni-Angestellten zum ökumenischen Semesterschlussgottesdienst am Sonntag\, den 07.02.20\, um 19:00 Uhr in die ESG ein. Im Anschluss besteht Gelegenheit\, sich in gemütlicher Runde kennenzulernen und auszutauschen. Für ausreichend Essen und Getränke ist gesorgt. \n\nWe invite all students and university members to our ecumenical end-of-term service on Sunday\, February 07\, 2020\, at 7 pm at the ESG.  Afterwards\, we will have a cosy get-together with pizza and some drinks.
URL:https://www.khg-in-bayreuth.de/event/oekumenischer-semesterschlussgottesdienst-ecumenical-end-of-term-service-3/
LOCATION:KHG Bayreuth\, Emil-Warburg-Weg 17\, KHG Bayreuth\, 95447\, Deutschland
END:VEVENT
BEGIN:VEVENT
DTSTART;TZID=Europe/Berlin:20200208T200000
DTEND;TZID=Europe/Berlin:20200208T220000
DTSTAMP:20260425T235037
CREATED:20200121T002907Z
LAST-MODIFIED:20200121T002907Z
UID:10004306-1581192000-1581199200@www.khg-in-bayreuth.de
SUMMARY:Dracula
DESCRIPTION:Freut Euch auf das neueste Stück unserer Theatergruppe “Die Schwarzen Schafe”: „Dracula“ von Bernd Klaus Jerofke!\n \nDer Start des Kartenverkaufs (wie immer mittags vor der Mensa) wird rechtzeitig bekannt gegeben. \n_______ \nLook forward to the latest production of our theatre group “The Black Sheep”: “Dracula” by Bernd Klaus Jerofke! \nThe start of ticket sale (as usual\, at noon in front of Mensa) will be announced in due time.
URL:https://www.khg-in-bayreuth.de/event/dracula/2020-02-08/
LOCATION:KHG Bayreuth\, Emil-Warburg-Weg 17\, KHG Bayreuth\, 95447\, Deutschland
END:VEVENT
BEGIN:VEVENT
DTSTART;TZID=UTC:20200210T170000
DTEND;TZID=UTC:20200210T190000
DTSTAMP:20260425T235037
CREATED:20190228T173552Z
LAST-MODIFIED:20190228T173552Z
UID:10003810-1581354000-1581361200@www.khg-in-bayreuth.de
SUMMARY:Bibelteilen // sharing the bible
DESCRIPTION:– English version below – \nNach der Methode des “Bibelteilens in sieben Schritten” bringen wir biblische Texte zusammen mit eigenen Lebenserfahrungen\, Fragen und Zweifeln. So begeben wir uns gemeinsam auf die Suche: Was ist jetzt “dran” für mich/ für uns? Wie kann ich das\, was ich denke\, fühle und erlebe\, anhand der biblischen Überlieferung deuten? Was ist jetzt zu tun?\nHerzliche Einladung an alle Gläubigen\, Agnostiker\, Atheisten\, Sinnsucher/-innen und Leute\, die etwas bewegen wollen! \nJeden Montag um 17.00 Uhr in der KHG (Frühstücksecke im Untergeschoss – ganz hinten). \n– English version – \nFollowing the “sharing the bible in seven steps” method\, we combine biblical texts with personal experiences\, doubts and questions. Thus we engage on a shared quest: What is “due” for me/ for us now? How can I interpret my own reality in the light of the gospel? \nEveryone’s invited to share\, regardless of culture or religon. \nEvery Monday at 5 pm in the KHG (breakfast table in the basement – at the rear).
URL:https://www.khg-in-bayreuth.de/event/bibelteilen-sharing-the-bible-22/2020-02-10/
END:VEVENT
BEGIN:VEVENT
DTSTART;TZID=Europe/Berlin:20200210T200000
DTEND;TZID=Europe/Berlin:20200210T220000
DTSTAMP:20260425T235037
CREATED:20200121T002907Z
LAST-MODIFIED:20200121T002907Z
UID:10004307-1581364800-1581372000@www.khg-in-bayreuth.de
SUMMARY:Dracula
DESCRIPTION:Freut Euch auf das neueste Stück unserer Theatergruppe “Die Schwarzen Schafe”: „Dracula“ von Bernd Klaus Jerofke!\n \nDer Start des Kartenverkaufs (wie immer mittags vor der Mensa) wird rechtzeitig bekannt gegeben. \n_______ \nLook forward to the latest production of our theatre group “The Black Sheep”: “Dracula” by Bernd Klaus Jerofke! \nThe start of ticket sale (as usual\, at noon in front of Mensa) will be announced in due time.
URL:https://www.khg-in-bayreuth.de/event/dracula/2020-02-10/
LOCATION:KHG Bayreuth\, Emil-Warburg-Weg 17\, KHG Bayreuth\, 95447\, Deutschland
END:VEVENT
BEGIN:VEVENT
DTSTART;TZID=Europe/Berlin:20200212T200000
DTEND;TZID=Europe/Berlin:20200212T220000
DTSTAMP:20260425T235037
CREATED:20200121T002907Z
LAST-MODIFIED:20200121T002907Z
UID:10004308-1581537600-1581544800@www.khg-in-bayreuth.de
SUMMARY:Dracula
DESCRIPTION:Freut Euch auf das neueste Stück unserer Theatergruppe “Die Schwarzen Schafe”: „Dracula“ von Bernd Klaus Jerofke!\n \nDer Start des Kartenverkaufs (wie immer mittags vor der Mensa) wird rechtzeitig bekannt gegeben. \n_______ \nLook forward to the latest production of our theatre group “The Black Sheep”: “Dracula” by Bernd Klaus Jerofke! \nThe start of ticket sale (as usual\, at noon in front of Mensa) will be announced in due time.
URL:https://www.khg-in-bayreuth.de/event/dracula/2020-02-12/
LOCATION:KHG Bayreuth\, Emil-Warburg-Weg 17\, KHG Bayreuth\, 95447\, Deutschland
END:VEVENT
BEGIN:VEVENT
DTSTART;TZID=Europe/Berlin:20200214T200000
DTEND;TZID=Europe/Berlin:20200214T220000
DTSTAMP:20260425T235037
CREATED:20200121T002907Z
LAST-MODIFIED:20200121T002907Z
UID:10004309-1581710400-1581717600@www.khg-in-bayreuth.de
SUMMARY:Dracula
DESCRIPTION:Freut Euch auf das neueste Stück unserer Theatergruppe “Die Schwarzen Schafe”: „Dracula“ von Bernd Klaus Jerofke!\n \nDer Start des Kartenverkaufs (wie immer mittags vor der Mensa) wird rechtzeitig bekannt gegeben. \n_______ \nLook forward to the latest production of our theatre group “The Black Sheep”: “Dracula” by Bernd Klaus Jerofke! \nThe start of ticket sale (as usual\, at noon in front of Mensa) will be announced in due time.
URL:https://www.khg-in-bayreuth.de/event/dracula/2020-02-14/
LOCATION:KHG Bayreuth\, Emil-Warburg-Weg 17\, KHG Bayreuth\, 95447\, Deutschland
END:VEVENT
BEGIN:VEVENT
DTSTART;TZID=UTC:20200217T170000
DTEND;TZID=UTC:20200217T190000
DTSTAMP:20260425T235037
CREATED:20190228T173552Z
LAST-MODIFIED:20190228T173552Z
UID:10003811-1581958800-1581966000@www.khg-in-bayreuth.de
SUMMARY:Bibelteilen // sharing the bible
DESCRIPTION:– English version below – \nNach der Methode des “Bibelteilens in sieben Schritten” bringen wir biblische Texte zusammen mit eigenen Lebenserfahrungen\, Fragen und Zweifeln. So begeben wir uns gemeinsam auf die Suche: Was ist jetzt “dran” für mich/ für uns? Wie kann ich das\, was ich denke\, fühle und erlebe\, anhand der biblischen Überlieferung deuten? Was ist jetzt zu tun?\nHerzliche Einladung an alle Gläubigen\, Agnostiker\, Atheisten\, Sinnsucher/-innen und Leute\, die etwas bewegen wollen! \nJeden Montag um 17.00 Uhr in der KHG (Frühstücksecke im Untergeschoss – ganz hinten). \n– English version – \nFollowing the “sharing the bible in seven steps” method\, we combine biblical texts with personal experiences\, doubts and questions. Thus we engage on a shared quest: What is “due” for me/ for us now? How can I interpret my own reality in the light of the gospel? \nEveryone’s invited to share\, regardless of culture or religon. \nEvery Monday at 5 pm in the KHG (breakfast table in the basement – at the rear).
URL:https://www.khg-in-bayreuth.de/event/bibelteilen-sharing-the-bible-22/2020-02-17/
END:VEVENT
BEGIN:VEVENT
DTSTART;TZID=UTC:20200224T170000
DTEND;TZID=UTC:20200224T190000
DTSTAMP:20260425T235037
CREATED:20190228T173552Z
LAST-MODIFIED:20190228T173552Z
UID:10003812-1582563600-1582570800@www.khg-in-bayreuth.de
SUMMARY:Bibelteilen // sharing the bible
DESCRIPTION:– English version below – \nNach der Methode des “Bibelteilens in sieben Schritten” bringen wir biblische Texte zusammen mit eigenen Lebenserfahrungen\, Fragen und Zweifeln. So begeben wir uns gemeinsam auf die Suche: Was ist jetzt “dran” für mich/ für uns? Wie kann ich das\, was ich denke\, fühle und erlebe\, anhand der biblischen Überlieferung deuten? Was ist jetzt zu tun?\nHerzliche Einladung an alle Gläubigen\, Agnostiker\, Atheisten\, Sinnsucher/-innen und Leute\, die etwas bewegen wollen! \nJeden Montag um 17.00 Uhr in der KHG (Frühstücksecke im Untergeschoss – ganz hinten). \n– English version – \nFollowing the “sharing the bible in seven steps” method\, we combine biblical texts with personal experiences\, doubts and questions. Thus we engage on a shared quest: What is “due” for me/ for us now? How can I interpret my own reality in the light of the gospel? \nEveryone’s invited to share\, regardless of culture or religon. \nEvery Monday at 5 pm in the KHG (breakfast table in the basement – at the rear).
URL:https://www.khg-in-bayreuth.de/event/bibelteilen-sharing-the-bible-22/2020-02-24/
END:VEVENT
END:VCALENDAR