BEGIN:VCALENDAR
VERSION:2.0
PRODID:-//KHG Bayreuth - ECPv6.15.3//NONSGML v1.0//EN
CALSCALE:GREGORIAN
METHOD:PUBLISH
X-WR-CALNAME:KHG Bayreuth
X-ORIGINAL-URL:https://www.khg-in-bayreuth.de
X-WR-CALDESC:Veranstaltungen für KHG Bayreuth
REFRESH-INTERVAL;VALUE=DURATION:PT1H
X-Robots-Tag:noindex
X-PUBLISHED-TTL:PT1H
BEGIN:VTIMEZONE
TZID:UTC
BEGIN:STANDARD
TZOFFSETFROM:+0000
TZOFFSETTO:+0000
TZNAME:UTC
DTSTART:20200101T000000
END:STANDARD
END:VTIMEZONE
BEGIN:VTIMEZONE
TZID:Europe/Berlin
BEGIN:DAYLIGHT
TZOFFSETFROM:+0100
TZOFFSETTO:+0200
TZNAME:CEST
DTSTART:20200329T010000
END:DAYLIGHT
BEGIN:STANDARD
TZOFFSETFROM:+0200
TZOFFSETTO:+0100
TZNAME:CET
DTSTART:20201025T010000
END:STANDARD
END:VTIMEZONE
BEGIN:VEVENT
DTSTART;TZID=UTC:20200907T170000
DTEND;TZID=UTC:20200907T190000
DTSTAMP:20260425T123745
CREATED:20190228T173552Z
LAST-MODIFIED:20190228T173552Z
UID:10003840-1599498000-1599505200@www.khg-in-bayreuth.de
SUMMARY:Bibelteilen // sharing the bible
DESCRIPTION:– English version below – \nNach der Methode des “Bibelteilens in sieben Schritten” bringen wir biblische Texte zusammen mit eigenen Lebenserfahrungen\, Fragen und Zweifeln. So begeben wir uns gemeinsam auf die Suche: Was ist jetzt “dran” für mich/ für uns? Wie kann ich das\, was ich denke\, fühle und erlebe\, anhand der biblischen Überlieferung deuten? Was ist jetzt zu tun?\nHerzliche Einladung an alle Gläubigen\, Agnostiker\, Atheisten\, Sinnsucher/-innen und Leute\, die etwas bewegen wollen! \nJeden Montag um 17.00 Uhr in der KHG (Frühstücksecke im Untergeschoss – ganz hinten). \n– English version – \nFollowing the “sharing the bible in seven steps” method\, we combine biblical texts with personal experiences\, doubts and questions. Thus we engage on a shared quest: What is “due” for me/ for us now? How can I interpret my own reality in the light of the gospel? \nEveryone’s invited to share\, regardless of culture or religon. \nEvery Monday at 5 pm in the KHG (breakfast table in the basement – at the rear).
URL:https://www.khg-in-bayreuth.de/event/bibelteilen-sharing-the-bible-22/2020-09-07/
END:VEVENT
BEGIN:VEVENT
DTSTART;TZID=Europe/Berlin:20200911T130000
DTEND;TZID=Europe/Berlin:20200911T130000
DTSTAMP:20260425T123745
CREATED:20200907T081051Z
LAST-MODIFIED:20200907T081332Z
UID:10004402-1599829200-1599829200@www.khg-in-bayreuth.de
SUMMARY:Mittagssuppe für Alle /Soup sharing
DESCRIPTION:Wer mag\, ist vorher noch zu einem kurzen Mittagsimpuls um 12.30 Uhr vor der KHG eingeladen. \n___________________________________________________________________ \nThose who feel like it\, are invited previously to a spiritual moment at 12.30 pm in front of the KHG.
URL:https://www.khg-in-bayreuth.de/event/mittagssuppe-fuer-alle-soup-sharing-17/
LOCATION:KHG Bayreuth\, Emil-Warburg-Weg 17\, KHG Bayreuth\, 95447\, Deutschland
END:VEVENT
BEGIN:VEVENT
DTSTART;TZID=UTC:20200914T170000
DTEND;TZID=UTC:20200914T190000
DTSTAMP:20260425T123745
CREATED:20190228T173552Z
LAST-MODIFIED:20190228T173552Z
UID:10003841-1600102800-1600110000@www.khg-in-bayreuth.de
SUMMARY:Bibelteilen // sharing the bible
DESCRIPTION:– English version below – \nNach der Methode des “Bibelteilens in sieben Schritten” bringen wir biblische Texte zusammen mit eigenen Lebenserfahrungen\, Fragen und Zweifeln. So begeben wir uns gemeinsam auf die Suche: Was ist jetzt “dran” für mich/ für uns? Wie kann ich das\, was ich denke\, fühle und erlebe\, anhand der biblischen Überlieferung deuten? Was ist jetzt zu tun?\nHerzliche Einladung an alle Gläubigen\, Agnostiker\, Atheisten\, Sinnsucher/-innen und Leute\, die etwas bewegen wollen! \nJeden Montag um 17.00 Uhr in der KHG (Frühstücksecke im Untergeschoss – ganz hinten). \n– English version – \nFollowing the “sharing the bible in seven steps” method\, we combine biblical texts with personal experiences\, doubts and questions. Thus we engage on a shared quest: What is “due” for me/ for us now? How can I interpret my own reality in the light of the gospel? \nEveryone’s invited to share\, regardless of culture or religon. \nEvery Monday at 5 pm in the KHG (breakfast table in the basement – at the rear).
URL:https://www.khg-in-bayreuth.de/event/bibelteilen-sharing-the-bible-22/2020-09-14/
END:VEVENT
BEGIN:VEVENT
DTSTART;TZID=UTC:20200921T170000
DTEND;TZID=UTC:20200921T190000
DTSTAMP:20260425T123745
CREATED:20190228T173552Z
LAST-MODIFIED:20190228T173552Z
UID:10003842-1600707600-1600714800@www.khg-in-bayreuth.de
SUMMARY:Bibelteilen // sharing the bible
DESCRIPTION:– English version below – \nNach der Methode des “Bibelteilens in sieben Schritten” bringen wir biblische Texte zusammen mit eigenen Lebenserfahrungen\, Fragen und Zweifeln. So begeben wir uns gemeinsam auf die Suche: Was ist jetzt “dran” für mich/ für uns? Wie kann ich das\, was ich denke\, fühle und erlebe\, anhand der biblischen Überlieferung deuten? Was ist jetzt zu tun?\nHerzliche Einladung an alle Gläubigen\, Agnostiker\, Atheisten\, Sinnsucher/-innen und Leute\, die etwas bewegen wollen! \nJeden Montag um 17.00 Uhr in der KHG (Frühstücksecke im Untergeschoss – ganz hinten). \n– English version – \nFollowing the “sharing the bible in seven steps” method\, we combine biblical texts with personal experiences\, doubts and questions. Thus we engage on a shared quest: What is “due” for me/ for us now? How can I interpret my own reality in the light of the gospel? \nEveryone’s invited to share\, regardless of culture or religon. \nEvery Monday at 5 pm in the KHG (breakfast table in the basement – at the rear).
URL:https://www.khg-in-bayreuth.de/event/bibelteilen-sharing-the-bible-22/2020-09-21/
END:VEVENT
BEGIN:VEVENT
DTSTART;TZID=UTC:20200928T170000
DTEND;TZID=UTC:20200928T190000
DTSTAMP:20260425T123745
CREATED:20190228T173552Z
LAST-MODIFIED:20190228T173552Z
UID:10003843-1601312400-1601319600@www.khg-in-bayreuth.de
SUMMARY:Bibelteilen // sharing the bible
DESCRIPTION:– English version below – \nNach der Methode des “Bibelteilens in sieben Schritten” bringen wir biblische Texte zusammen mit eigenen Lebenserfahrungen\, Fragen und Zweifeln. So begeben wir uns gemeinsam auf die Suche: Was ist jetzt “dran” für mich/ für uns? Wie kann ich das\, was ich denke\, fühle und erlebe\, anhand der biblischen Überlieferung deuten? Was ist jetzt zu tun?\nHerzliche Einladung an alle Gläubigen\, Agnostiker\, Atheisten\, Sinnsucher/-innen und Leute\, die etwas bewegen wollen! \nJeden Montag um 17.00 Uhr in der KHG (Frühstücksecke im Untergeschoss – ganz hinten). \n– English version – \nFollowing the “sharing the bible in seven steps” method\, we combine biblical texts with personal experiences\, doubts and questions. Thus we engage on a shared quest: What is “due” for me/ for us now? How can I interpret my own reality in the light of the gospel? \nEveryone’s invited to share\, regardless of culture or religon. \nEvery Monday at 5 pm in the KHG (breakfast table in the basement – at the rear).
URL:https://www.khg-in-bayreuth.de/event/bibelteilen-sharing-the-bible-22/2020-09-28/
END:VEVENT
BEGIN:VEVENT
DTSTART;TZID=Europe/Berlin:20200930T123000
DTEND;TZID=Europe/Berlin:20200930T140000
DTSTAMP:20260425T123745
CREATED:20200928T135404Z
LAST-MODIFIED:20200928T135709Z
UID:10004403-1601469000-1601474400@www.khg-in-bayreuth.de
SUMMARY:Sprituelle Mittagspause vor der KHG
DESCRIPTION:Wir treffen uns jeden Mittwochmittag zu einer kurzen Andacht VOR der KHG. Bitte achtet auf Sicherheitsabstand und Hygieneregeln! Bei Regen weichen wir nach unten in den Saal aus. \nIm Anschluss löffeln wir wieder gemeinsam leckere vegetarische Suppe! \n___________________ \nWe meet every Wednesday noon for a short prayer IN FRONT OF KHG. Please observe safety distance and hygiene rules! In case of raining weather\, we`re meeting downstairs in the hall. \nAfterwards\, we have tasty vegetarian soup together!
URL:https://www.khg-in-bayreuth.de/event/sprituelle-mittagspause-vor-der-khg/2020-09-30/
LOCATION:KHG Bayreuth\, Emil-Warburg-Weg 17\, KHG Bayreuth\, 95447\, Deutschland
END:VEVENT
END:VCALENDAR