BEGIN:VCALENDAR
VERSION:2.0
PRODID:-//KHG Bayreuth - ECPv6.15.3//NONSGML v1.0//EN
CALSCALE:GREGORIAN
METHOD:PUBLISH
X-WR-CALNAME:KHG Bayreuth
X-ORIGINAL-URL:https://www.khg-in-bayreuth.de
X-WR-CALDESC:Veranstaltungen für KHG Bayreuth
REFRESH-INTERVAL;VALUE=DURATION:PT1H
X-Robots-Tag:noindex
X-PUBLISHED-TTL:PT1H
BEGIN:VTIMEZONE
TZID:Europe/Berlin
BEGIN:DAYLIGHT
TZOFFSETFROM:+0100
TZOFFSETTO:+0200
TZNAME:CEST
DTSTART:20210328T010000
END:DAYLIGHT
BEGIN:STANDARD
TZOFFSETFROM:+0200
TZOFFSETTO:+0100
TZNAME:CET
DTSTART:20211031T010000
END:STANDARD
END:VTIMEZONE
BEGIN:VTIMEZONE
TZID:UTC
BEGIN:STANDARD
TZOFFSETFROM:+0000
TZOFFSETTO:+0000
TZNAME:UTC
DTSTART:20210101T000000
END:STANDARD
END:VTIMEZONE
BEGIN:VEVENT
DTSTART;TZID=Europe/Berlin:20210501T130000
DTEND;TZID=Europe/Berlin:20210501T160000
DTSTAMP:20260424T205646
CREATED:20210427T012220Z
LAST-MODIFIED:20210427T012703Z
UID:10004499-1619874000-1619884800@www.khg-in-bayreuth.de
SUMMARY:Ökumenische Wanderung / Ecumenical hike
DESCRIPTION:– English version below – \nDa wir leider immer noch nicht als größere Gemeinschaft wandern dürfen\, werden wir unsere traditionelle Maiwanderung am kommenden Samstag\, 1. Mai\, wieder in Zweiergruppen durchführen und uns erst bei einer kurzen ökumenischen Andacht in der großen Runde treffen. Wir starten ab ca. 13.00 Uhr (zeitversetzt in Kleingruppen) und sind ca. zweieinhalb Stunden rund um Bayreuth unterwegs. Auf dem Weg wird es wieder kleine “Challenges” zu meistern geben. \nUm die Planungen zu vereinfachen\, könnt Ihr euch ab sofort bis Samstag um 9:30 Uhr als Einzelperson oder Zweiergruppe (bzw. ein Haushalt plus eine Person) anmelden. Bitte schreibt dazu eine kurz e-Mail an barbara.goeb@erzbistum-bamberg.de . Aus den Einzelanmeldungen bilden wir dann weitere Gruppen. \nNach Anmeldung erhaltet Ihr von uns Euren Startort und Eure Startzeit (und ggf. Eure Gruppen­einteilung). \nWir freuen uns schon auf einen schönen Nachmittag mit Dir!! \n– English version –  \nAs we are unfortunately still not allowed to hike as a larger community\, we will again do our traditional May hike next Saturday\, 1 May\, in groups of two and only meet in the large group during a short ecumenical devotion. We will start at about 13.00 (in small groups) and walk for about two and a half hours around Bayreuth. On the way there will be small “challenges” to master. \nIn order to simplify the planning\, you can register as a single person or group of two (or one household plus one person) until Saturday at 9:30 am. Please send a short e-mail to barbara.goeb@erzbistum-bamberg.de . We will then form further groups from the individual registrations. \nAfter registering\, you will receive your starting place and time (and possibly your group division). \nWe are looking forward to a great afternoon with you!
URL:https://www.khg-in-bayreuth.de/event/oekumenische-wanderung-ecumenical-hike/
LOCATION:KHG Bayreuth\, Emil-Warburg-Weg 17\, KHG Bayreuth\, 95447\, Deutschland
END:VEVENT
BEGIN:VEVENT
DTSTART;TZID=Europe/Berlin:20210502T190000
DTEND;TZID=Europe/Berlin:20210502T200000
DTSTAMP:20260424T205646
CREATED:20210407T110737Z
LAST-MODIFIED:20210407T111312Z
UID:10004477-1619982000-1619985600@www.khg-in-bayreuth.de
SUMMARY:KHG-Messe // Holy Mass
DESCRIPTION:Im Sommersemester finden um 19 Uhr in der KHG-Kapelle Eucharistiefeiern mit Monsignore Andreas Straub statt. Inhaltlich sowie musikalisch wird der Gottesdienst aktiv von Studierenden mitgestaltet.\n______________________________________________________________________ \nIn the summer semester\, Holy Mass with Monsignor Andreas Straub take place in the KHG Chapel at 7 pm. Students actively participate in the content and music of the service.
URL:https://www.khg-in-bayreuth.de/event/eucharistiefeier-sunday-mass/
LOCATION:KHG Bayreuth\, Emil-Warburg-Weg 17\, KHG Bayreuth\, 95447\, Deutschland
END:VEVENT
BEGIN:VEVENT
DTSTART;TZID=UTC:20210503T170000
DTEND;TZID=UTC:20210503T190000
DTSTAMP:20260424T205646
CREATED:20190228T173552Z
LAST-MODIFIED:20190228T173552Z
UID:10003874-1620061200-1620068400@www.khg-in-bayreuth.de
SUMMARY:Bibelteilen // sharing the bible
DESCRIPTION:– English version below – \nNach der Methode des “Bibelteilens in sieben Schritten” bringen wir biblische Texte zusammen mit eigenen Lebenserfahrungen\, Fragen und Zweifeln. So begeben wir uns gemeinsam auf die Suche: Was ist jetzt “dran” für mich/ für uns? Wie kann ich das\, was ich denke\, fühle und erlebe\, anhand der biblischen Überlieferung deuten? Was ist jetzt zu tun?\nHerzliche Einladung an alle Gläubigen\, Agnostiker\, Atheisten\, Sinnsucher/-innen und Leute\, die etwas bewegen wollen! \nJeden Montag um 17.00 Uhr in der KHG (Frühstücksecke im Untergeschoss – ganz hinten). \n– English version – \nFollowing the “sharing the bible in seven steps” method\, we combine biblical texts with personal experiences\, doubts and questions. Thus we engage on a shared quest: What is “due” for me/ for us now? How can I interpret my own reality in the light of the gospel? \nEveryone’s invited to share\, regardless of culture or religon. \nEvery Monday at 5 pm in the KHG (breakfast table in the basement – at the rear).
URL:https://www.khg-in-bayreuth.de/event/bibelteilen-sharing-the-bible-22/2021-05-03/
END:VEVENT
BEGIN:VEVENT
DTSTART;TZID=Europe/Berlin:20210504T200000
DTEND;TZID=Europe/Berlin:20210504T220000
DTSTAMP:20260424T205646
CREATED:20210407T113343Z
LAST-MODIFIED:20210504T160457Z
UID:10004489-1620158400-1620165600@www.khg-in-bayreuth.de
SUMMARY:Spontanabend / Spontaneous evening
DESCRIPTION:Wir treffen uns über Zoom zu einem spontanen Abend: Gespräche\, Online-Spiele oder was Euch sonst so einfällt … \nJoin Zoom Meeting\nhttps://uni-bayreuth.zoom.us/j/4177295792?pwd=K0hPOVZRdkl6QS94MlpCL0RFN0M0UT09 \nMeeting ID: 417 729 5792\nPasscode: 222332 \n__________________________________________________________ \nWe meet via Zoom for a spontaneous evening: talks\, online games or whatever else you might fancy to do … \nJoin Zoom Meeting\nhttps://uni-bayreuth.zoom.us/j/4177295792?pwd=K0hPOVZRdkl6QS94MlpCL0RFN0M0UT09 \nMeeting ID: 417 729 5792\nPasscode: 222332
URL:https://www.khg-in-bayreuth.de/event/running-dinner-ggf-kontaktlos-digital-running-dinner-contactless-digital-if-necessary/
LOCATION:KHG Bayreuth\, Emil-Warburg-Weg 17\, KHG Bayreuth\, 95447\, Deutschland
END:VEVENT
BEGIN:VEVENT
DTSTART;TZID=UTC:20210510T170000
DTEND;TZID=UTC:20210510T190000
DTSTAMP:20260424T205646
CREATED:20190228T173552Z
LAST-MODIFIED:20190228T173552Z
UID:10003875-1620666000-1620673200@www.khg-in-bayreuth.de
SUMMARY:Bibelteilen // sharing the bible
DESCRIPTION:– English version below – \nNach der Methode des “Bibelteilens in sieben Schritten” bringen wir biblische Texte zusammen mit eigenen Lebenserfahrungen\, Fragen und Zweifeln. So begeben wir uns gemeinsam auf die Suche: Was ist jetzt “dran” für mich/ für uns? Wie kann ich das\, was ich denke\, fühle und erlebe\, anhand der biblischen Überlieferung deuten? Was ist jetzt zu tun?\nHerzliche Einladung an alle Gläubigen\, Agnostiker\, Atheisten\, Sinnsucher/-innen und Leute\, die etwas bewegen wollen! \nJeden Montag um 17.00 Uhr in der KHG (Frühstücksecke im Untergeschoss – ganz hinten). \n– English version – \nFollowing the “sharing the bible in seven steps” method\, we combine biblical texts with personal experiences\, doubts and questions. Thus we engage on a shared quest: What is “due” for me/ for us now? How can I interpret my own reality in the light of the gospel? \nEveryone’s invited to share\, regardless of culture or religon. \nEvery Monday at 5 pm in the KHG (breakfast table in the basement – at the rear).
URL:https://www.khg-in-bayreuth.de/event/bibelteilen-sharing-the-bible-22/2021-05-10/
END:VEVENT
BEGIN:VEVENT
DTSTART;TZID=Europe/Berlin:20210511T200000
DTEND;TZID=Europe/Berlin:20210511T220000
DTSTAMP:20260424T205646
CREATED:20210407T113622Z
LAST-MODIFIED:20210423T095624Z
UID:10004490-1620763200-1620770400@www.khg-in-bayreuth.de
SUMMARY:Online- Gesprächsabend: Was nicht in der Bibel steht. »Verschwundene« Evangelien und ihre Geschichte(n). // Online dicussion evening: What has been left out in the Bible. "Disappeared" Gospels and their history(s)
DESCRIPTION:– English version below – \nDie Veranstaltung ist Teil der bundesweiten Veranstaltungsreihe „Wir müssen reden!“. \nVier Evangelien sind in unserem Neuen Testament enthalten. Wir wissen aber auch: In der Antike sind noch viel mehr Evangelienschriften entstanden – ebenso wie weitere Briefe und Apostelgeschichten. Wer legte fest\, was zur »Heiligen Schrift« wurde? Welche Gründe waren ausschlaggebend? Und was stand in den »verschwundenen Evangelien«? \nOnline-Gesprächsabend mit Prof. Dr. Sabine Bieberstein\, Fakultät für Religionspädagogik und Kirchliche Bildungsarbeit\, KU Eichstätt-Ingolstadt \nDie Initiative „Wir müssen reden!“ lädt im Sommersemester 2021 zu einer digitalen Veranstaltungsreihe ein. Zahlreiche deutsche Hochschulgemeinden setzen sich hierbei in unterschiedlichen Formaten mit kirchenpolitischen Themen auseinander. Die Reihe ist eine Reaktion auf den Konflikt um das Positionspapier „Wir wollen glaubwürdig bleiben“\, verfasst von den hauptamtlichen Mitarbeiter:innen der KHG Köln. In dem Positionspapier hatten sich diese unter anderem gegen „eine Unantastbarkeit amtskirchlicher Deutungshoheit“\, „eine Engführung kirchlicher Sexualmoral“\, „eine religiöse Aufladung von Macht“ und „eine mangelnde Wahrnehmung gesellschaftlicher Verantwortung“ ausgesprochen. Die Veröffentlichung wurde jedoch durch das Erzbistum Köln untersagt. Der Konflikt eskalierte und ist bis heute nicht geklärt. Die Veranstaltungsreihe versteht sich als Ort des offenen Austausches über diese und andere Themen. Eingeladen sind alle Studierenden sowie Interessierten. \nKoop. KHG Nürnberg \nDie Möglichkeit zur Anmeldung und weitere Informationen sind auf der Homepage https://fhok-synodal.de/veranstaltungsreihe-wir-muessen-reden/ zu finden.\n_____________________________________________________________________ \nThe event is part of the nationwide series of events “We need to talk!”. \nFour Gospels are contained in our New Testament. But we also know that many more Gospel writings were written in ancient times – as well as other letters and Acts of the Apostles. Who determined what became “Holy Scripture”? What were the decisive reasons? And what was in the “disappeared gospels”? \nThe initiative “We need to talk!” invites you to a digital event series in the summer semester of 2021. Numerous German university congregations will be addressing church-political topics in various formats. The series is a reaction to the conflict over the position paper “We want to remain credible\,” written by the full-time employees of the KHG Cologne. In the position paper\, they had spoken out against\, among other things\, “an inviolability of official church sovereignty of interpretation\,” “a narrowing of church sexual morals\,” “a religious charging of power\,” and “a lack of perception of social responsibility.” However\, the publication was prohibited by the Archdiocese of Cologne. The conflict escalated and has not been resolved to this day. The series of events is intended as a place for open exchange on these and other topics. All students and interested persons are invited. \nSpeaker: Prof. Dr. Sabine Bieberstein\, Fakultät für Religionspädagogik und Kirchliche Bildungsarbeit\, KU Eichstätt-Ingolstadt \nCoop. KHG Nuremberg \nThe possibility to register and further information can be found on the homepage https://fhok-synodal.de/veranstaltungsreihe-wir-muessen-reden/. \n  \n 
URL:https://www.khg-in-bayreuth.de/event/online-gespraechsabend-was-nicht-in-der-bibel-steht-verschwundene-evangelien-und-ihre-geschichten-online-dicussion-evening-what-has-been-left-out-in-the-bible-disappeared-go/
LOCATION:KHG Bayreuth\, Emil-Warburg-Weg 17\, KHG Bayreuth\, 95447\, Deutschland
END:VEVENT
BEGIN:VEVENT
DTSTART;TZID=UTC:20210517T170000
DTEND;TZID=UTC:20210517T190000
DTSTAMP:20260424T205646
CREATED:20190228T173552Z
LAST-MODIFIED:20190228T173552Z
UID:10003876-1621270800-1621278000@www.khg-in-bayreuth.de
SUMMARY:Bibelteilen // sharing the bible
DESCRIPTION:– English version below – \nNach der Methode des “Bibelteilens in sieben Schritten” bringen wir biblische Texte zusammen mit eigenen Lebenserfahrungen\, Fragen und Zweifeln. So begeben wir uns gemeinsam auf die Suche: Was ist jetzt “dran” für mich/ für uns? Wie kann ich das\, was ich denke\, fühle und erlebe\, anhand der biblischen Überlieferung deuten? Was ist jetzt zu tun?\nHerzliche Einladung an alle Gläubigen\, Agnostiker\, Atheisten\, Sinnsucher/-innen und Leute\, die etwas bewegen wollen! \nJeden Montag um 17.00 Uhr in der KHG (Frühstücksecke im Untergeschoss – ganz hinten). \n– English version – \nFollowing the “sharing the bible in seven steps” method\, we combine biblical texts with personal experiences\, doubts and questions. Thus we engage on a shared quest: What is “due” for me/ for us now? How can I interpret my own reality in the light of the gospel? \nEveryone’s invited to share\, regardless of culture or religon. \nEvery Monday at 5 pm in the KHG (breakfast table in the basement – at the rear).
URL:https://www.khg-in-bayreuth.de/event/bibelteilen-sharing-the-bible-22/2021-05-17/
END:VEVENT
BEGIN:VEVENT
DTSTART;TZID=Europe/Berlin:20210518T183000
DTEND;TZID=Europe/Berlin:20210518T193000
DTSTAMP:20260424T205646
CREATED:20210407T111625Z
LAST-MODIFIED:20210413T082735Z
UID:10004480-1621362600-1621366200@www.khg-in-bayreuth.de
SUMMARY:Zoom-Gottesdienst (Wort-Gottes-Feier) // Zoom service (celebration of the word)
DESCRIPTION:– English version below – \n  \nNeu: Die “etwas andere” Wort-Gottes-Feier per Zoom (zweisprachig) \nDu bist während des Online-Semesters nicht in Bayreuth\, möchtest aber trotzdem gerne an unseren KHG-Gottesdiensten teilnehmen? Dann sei online dabei – ca. einmal im Monat dienstags per Zoom! Wir feiern zweisprachige Wort-Gottes-Feiern\, die von unserem Gottesdienstteam interaktiv gestaltet werden. Lass Dich überraschen! \n  \n– English version – \nNew: The “somewhat different” Word of God service via Zoom (bilingual) \nYou are not in Bayreuth during the online semester\, but would still like to take part in our KHG services? Then join us online – about once a month on Tuesdays via Zoom! We celebrate bilingual word services\, which are interactively designed by our worship team. Let us surprise you! \n  \nEinwahldaten: \n\nhttps://uni-bayreuth.zoom.us/j/98858583801?pwd=dGhlOTlFWHQ2cUthYjFncXBHMnVFQT09 \nMeeting-ID: 988 5858 3801 \nKenncode: 560013
URL:https://www.khg-in-bayreuth.de/event/zoom-gottesdienst-wort-gottes-feier-zoom-service-celebration-of-the-word/
LOCATION:Online via Zoom\, Deutschland
END:VEVENT
BEGIN:VEVENT
DTSTART;TZID=Europe/Berlin:20210518T200000
DTEND;TZID=Europe/Berlin:20210518T220000
DTSTAMP:20260424T205646
CREATED:20210407T114408Z
LAST-MODIFIED:20210427T003912Z
UID:10004491-1621368000-1621375200@www.khg-in-bayreuth.de
SUMMARY:Online-Whiskytasting: “Wasser des Lebens”  // Online whisky tasting: “Water of life”
DESCRIPTION:Je nach aktueller Corona-Infektionslage findet die Veransaltung entweder rein online oder in hybrider Form statt. \nDas gälische Uisge Beatha\, “Wasser des Lebens”\, wurde in der englischen Übersetzung zu Whisk(e)y – und erfreut sich mittlerweile weltweit großer Beliebtheit. Gemeinsam mit dem evangelischen Thelogen und Whiskykenner Karsten Kopjar aus Erfurt kommen wir der Geschichte des Whiskies und den Geheimnissen seiner Herstellung auf die Spur – und probieren natürlich das Ergebnis! \nNähere Informationen bei Anmeldung bis 04.05.2021\, Unkostenbeitrag: 15\,- € \n\nDepending on the current Corona infection situation\, the event will take place either purely online or in hybrid form. \nThe Gaelic Uisge Beatha\, “water of life\,” became whisk(e)y in the English translation – and now enjoys great popularity worldwide. Together with the Protestant theologian and whisky connoisseur Karsten Kopjar from Erfurt\, we will trace the history of whisky and the secrets of its production – and of course taste the result! \nRegistration until 04.05.2021\, contribution towards expenses: 15\,- €
URL:https://www.khg-in-bayreuth.de/event/online-whiskytasting-wasser-des-lebens-online-whisky-tasting-water-of-life/
LOCATION:KHG Bayreuth\, Emil-Warburg-Weg 17\, KHG Bayreuth\, 95447\, Deutschland
END:VEVENT
BEGIN:VEVENT
DTSTART;TZID=UTC:20210524T170000
DTEND;TZID=UTC:20210524T190000
DTSTAMP:20260424T205646
CREATED:20190228T173552Z
LAST-MODIFIED:20190228T173552Z
UID:10003877-1621875600-1621882800@www.khg-in-bayreuth.de
SUMMARY:Bibelteilen // sharing the bible
DESCRIPTION:– English version below – \nNach der Methode des “Bibelteilens in sieben Schritten” bringen wir biblische Texte zusammen mit eigenen Lebenserfahrungen\, Fragen und Zweifeln. So begeben wir uns gemeinsam auf die Suche: Was ist jetzt “dran” für mich/ für uns? Wie kann ich das\, was ich denke\, fühle und erlebe\, anhand der biblischen Überlieferung deuten? Was ist jetzt zu tun?\nHerzliche Einladung an alle Gläubigen\, Agnostiker\, Atheisten\, Sinnsucher/-innen und Leute\, die etwas bewegen wollen! \nJeden Montag um 17.00 Uhr in der KHG (Frühstücksecke im Untergeschoss – ganz hinten). \n– English version – \nFollowing the “sharing the bible in seven steps” method\, we combine biblical texts with personal experiences\, doubts and questions. Thus we engage on a shared quest: What is “due” for me/ for us now? How can I interpret my own reality in the light of the gospel? \nEveryone’s invited to share\, regardless of culture or religon. \nEvery Monday at 5 pm in the KHG (breakfast table in the basement – at the rear).
URL:https://www.khg-in-bayreuth.de/event/bibelteilen-sharing-the-bible-22/2021-05-24/
END:VEVENT
BEGIN:VEVENT
DTSTART;TZID=Europe/Berlin:20210525T120000
DTEND;TZID=Europe/Berlin:20210525T180000
DTSTAMP:20260424T205646
CREATED:20210407T114646Z
LAST-MODIFIED:20210517T185439Z
UID:10004492-1621944000-1621965600@www.khg-in-bayreuth.de
SUMMARY:Aktivtag – Kanufahren  // Aktive day – Canoeing
DESCRIPTION:Wir paddeln durchs malerische Wiesenttal in der Fränkischen Schweiz! Details zur Route findet Ihr hier. Treffpunkt: am KHG-Parkplatz um 12.00 Uhr. \nBitte meldet Euch an: bis Mittwoch\, 19.5.\, 14 Uhr unter khg@uni-bayreuth.de. Gebt dabei bitte auch an\, ob Ihr ein Auto zur Verfügung habt und fahren könntet. \nUnkostenbeitrag: 19 Euro für die Kanutour plus eventuell Beteiligung an Benzinkosten. \n  \n\nWe paddle through the picturesque Wiesenttal in Franconian Switzerland! Details about the route can be found here. Meeting point: at the KHG parking lot at 12:00. \nPlease register until Wednesday\, 19.5.\, 14 o’clock at khg@uni-bayreuth.de. Please let us know if you have a car available that you could drive. \nContribution to expenses: 19 Euro for the canoe trip plus possible contribution to fuel costs.
URL:https://www.khg-in-bayreuth.de/event/aktivtag-gemeinsam-unterwegs-aktive-day-together-on-the-road-or-water/
LOCATION:KHG Bayreuth\, Emil-Warburg-Weg 17\, KHG Bayreuth\, 95447\, Deutschland
END:VEVENT
BEGIN:VEVENT
DTSTART;TZID=Europe/Berlin:20210527T200000
DTEND;TZID=Europe/Berlin:20210527T220000
DTSTAMP:20260424T205646
CREATED:20210526T130023Z
LAST-MODIFIED:20210526T130023Z
UID:10004500-1622145600-1622152800@www.khg-in-bayreuth.de
SUMMARY:AK-Queer - Stammtischbesuch / Talk evening with the "AK Queer"
DESCRIPTION:Queer trifft KHG! Wir sind eingeladen zum Online-Stammtisch des AK Queer und freuen uns auf einen gemütlichen Abend mit spannenden Gesprächen rund um die Themen Queer und Religion. Zusätzlich wird es Breakout-Rooms geben für alle\, die einfach nur quatschen oder Spiele spielen wollen. \n—\nQueer meets KHG! We are invited to the online regulars’ table of the AK Queer and look forward to a cosy evening with exciting conversations around the topics of queerness and religion. In addition\, there will be breakout rooms for those who just want to chat or play games. \n— \nhttps://uni-bayreuth.zoom.us/j/67142153856?pwd=d0hraDJ4ZHZsVzdDNlZhR3lTODN3UT09\nMeeting-ID: 671 4215 3856\nCode: 442421
URL:https://www.khg-in-bayreuth.de/event/ak-queer-stammtischbesuch-talk-evening-with-the-ak-queer/
LOCATION:KHG Bayreuth\, Emil-Warburg-Weg 17\, KHG Bayreuth\, 95447\, Deutschland
END:VEVENT
BEGIN:VEVENT
DTSTART;TZID=Europe/Berlin:20210528T070000
DTEND;TZID=Europe/Berlin:20210528T073000
DTSTAMP:20260424T205646
CREATED:20210407T112442Z
LAST-MODIFIED:20210526T130856Z
UID:10004485-1622185200-1622187000@www.khg-in-bayreuth.de
SUMMARY:Frühschicht in der Kapelle // Morning prayer in the KHG chapel
DESCRIPTION:Freitagsmorgens treffen wir uns während der Vorlesungszeit um 07:00 Uhr zu einer kurzen Morgenandacht in unserer Albertus-Magnus-Kapelle. \n______________________________________________________________________ \nOn Friday mornings during the lecture period we meet at 07:00 for a short morning prayer in our St.-Albertus-Magnus chapel.
URL:https://www.khg-in-bayreuth.de/event/fruehschicht-morning-prayer-4-2021-05-28/
LOCATION:KHG Bayreuth\, Emil-Warburg-Weg 17\, KHG Bayreuth\, 95447\, Deutschland
END:VEVENT
BEGIN:VEVENT
DTSTART;TZID=Europe/Berlin:20210530T190000
DTEND;TZID=Europe/Berlin:20210530T200000
DTSTAMP:20260424T205646
CREATED:20210407T111108Z
LAST-MODIFIED:20210407T111114Z
UID:10004478-1622401200-1622404800@www.khg-in-bayreuth.de
SUMMARY:KHG-Messe // Holy Mass
DESCRIPTION:Im Sommersemester finden um 19 Uhr in der KHG-Kapelle Eucharistiefeiern mit Monsignore Andreas Straub statt. Inhaltlich sowie musikalisch wird der Gottesdienst aktiv von Studierenden mitgestaltet. \n\nIn the summer semester\, Holy Mass with Monsignor Andreas Straub take place in the KHG Chapel at 7 pm. Students actively participate in the content and music of the service.
URL:https://www.khg-in-bayreuth.de/event/khg-messe-holy-mass/
LOCATION:KHG Bayreuth\, Emil-Warburg-Weg 17\, KHG Bayreuth\, 95447\, Deutschland
END:VEVENT
BEGIN:VEVENT
DTSTART;TZID=UTC:20210531T170000
DTEND;TZID=UTC:20210531T190000
DTSTAMP:20260424T205646
CREATED:20190228T173552Z
LAST-MODIFIED:20190228T173552Z
UID:10003878-1622480400-1622487600@www.khg-in-bayreuth.de
SUMMARY:Bibelteilen // sharing the bible
DESCRIPTION:– English version below – \nNach der Methode des “Bibelteilens in sieben Schritten” bringen wir biblische Texte zusammen mit eigenen Lebenserfahrungen\, Fragen und Zweifeln. So begeben wir uns gemeinsam auf die Suche: Was ist jetzt “dran” für mich/ für uns? Wie kann ich das\, was ich denke\, fühle und erlebe\, anhand der biblischen Überlieferung deuten? Was ist jetzt zu tun?\nHerzliche Einladung an alle Gläubigen\, Agnostiker\, Atheisten\, Sinnsucher/-innen und Leute\, die etwas bewegen wollen! \nJeden Montag um 17.00 Uhr in der KHG (Frühstücksecke im Untergeschoss – ganz hinten). \n– English version – \nFollowing the “sharing the bible in seven steps” method\, we combine biblical texts with personal experiences\, doubts and questions. Thus we engage on a shared quest: What is “due” for me/ for us now? How can I interpret my own reality in the light of the gospel? \nEveryone’s invited to share\, regardless of culture or religon. \nEvery Monday at 5 pm in the KHG (breakfast table in the basement – at the rear).
URL:https://www.khg-in-bayreuth.de/event/bibelteilen-sharing-the-bible-22/2021-05-31/
END:VEVENT
END:VCALENDAR