BEGIN:VCALENDAR
VERSION:2.0
PRODID:-//KHG Bayreuth - ECPv6.15.3//NONSGML v1.0//EN
CALSCALE:GREGORIAN
METHOD:PUBLISH
X-WR-CALNAME:KHG Bayreuth
X-ORIGINAL-URL:https://www.khg-in-bayreuth.de
X-WR-CALDESC:Veranstaltungen für KHG Bayreuth
REFRESH-INTERVAL;VALUE=DURATION:PT1H
X-Robots-Tag:noindex
X-PUBLISHED-TTL:PT1H
BEGIN:VTIMEZONE
TZID:Europe/Berlin
BEGIN:DAYLIGHT
TZOFFSETFROM:+0100
TZOFFSETTO:+0200
TZNAME:CEST
DTSTART:20210328T010000
END:DAYLIGHT
BEGIN:STANDARD
TZOFFSETFROM:+0200
TZOFFSETTO:+0100
TZNAME:CET
DTSTART:20211031T010000
END:STANDARD
END:VTIMEZONE
BEGIN:VTIMEZONE
TZID:UTC
BEGIN:STANDARD
TZOFFSETFROM:+0000
TZOFFSETTO:+0000
TZNAME:UTC
DTSTART:20210101T000000
END:STANDARD
END:VTIMEZONE
BEGIN:VEVENT
DTSTART;TZID=Europe/Berlin:20210701T180000
DTEND;TZID=Europe/Berlin:20210701T220000
DTSTAMP:20260424T145548
CREATED:20210531T215306Z
LAST-MODIFIED:20210617T172130Z
UID:10004511-1625162400-1625176800@www.khg-in-bayreuth.de
SUMMARY:Swahili Chor / Suahili Choir
DESCRIPTION:Unser “Swahili Chor Bayreuth” probt wieder live vor der KHG! Damit alle gesund bleiben\, natürlich mit strengem Hygienekonzept. Nähere Infos unter: swahili.chor.bayreuth@gmail.com \n\nOur “Suahili Choir Bayreuth” is rehearsing live again outside KHG! With strict hygiene concept\, of course\, so that everyone stays safe. Further information here: swahili.chor.bayreuth@gmail.com
URL:https://www.khg-in-bayreuth.de/event/swahili-chor-suahili-choir-2021-06-17/2021-07-01/
LOCATION:KHG Bayreuth\, Emil-Warburg-Weg 17\, KHG Bayreuth\, 95447\, Deutschland
END:VEVENT
BEGIN:VEVENT
DTSTART;TZID=Europe/Berlin:20210702T070000
DTEND;TZID=Europe/Berlin:20210702T073000
DTSTAMP:20260424T145548
CREATED:20210407T112442Z
LAST-MODIFIED:20210701T175801Z
UID:10004486-1625209200-1625211000@www.khg-in-bayreuth.de
SUMMARY:Frühschicht mit Frühstück // Morning prayer with breakfast
DESCRIPTION:Freitagsmorgens treffen wir uns während der Vorlesungszeit um 07:00 Uhr zu einer kurzen Morgenandacht in unserer Albertus-Magnus-Kapelle. Anschließend frühstücken wir gemeinsam im Roncalli-Saal. \n______________________________________________________________________ \nOn Friday mornings during the lecture period we meet at 07:00 for a short morning prayer in our St.-Albertus-Magnus chapel. Afterwards\, we have breakfast together in the Roncalli Hall.
URL:https://www.khg-in-bayreuth.de/event/fruehschicht-morning-prayer-4-2021-05-28-2021-07-02/2021-07-02/
LOCATION:KHG Bayreuth\, Emil-Warburg-Weg 17\, KHG Bayreuth\, 95447\, Deutschland
END:VEVENT
BEGIN:VEVENT
DTSTART;TZID=UTC:20210705T170000
DTEND;TZID=UTC:20210705T190000
DTSTAMP:20260424T145548
CREATED:20190228T173552Z
LAST-MODIFIED:20190228T173552Z
UID:10003883-1625504400-1625511600@www.khg-in-bayreuth.de
SUMMARY:Bibelteilen // sharing the bible
DESCRIPTION:– English version below – \nNach der Methode des “Bibelteilens in sieben Schritten” bringen wir biblische Texte zusammen mit eigenen Lebenserfahrungen\, Fragen und Zweifeln. So begeben wir uns gemeinsam auf die Suche: Was ist jetzt “dran” für mich/ für uns? Wie kann ich das\, was ich denke\, fühle und erlebe\, anhand der biblischen Überlieferung deuten? Was ist jetzt zu tun?\nHerzliche Einladung an alle Gläubigen\, Agnostiker\, Atheisten\, Sinnsucher/-innen und Leute\, die etwas bewegen wollen! \nJeden Montag um 17.00 Uhr in der KHG (Frühstücksecke im Untergeschoss – ganz hinten). \n– English version – \nFollowing the “sharing the bible in seven steps” method\, we combine biblical texts with personal experiences\, doubts and questions. Thus we engage on a shared quest: What is “due” for me/ for us now? How can I interpret my own reality in the light of the gospel? \nEveryone’s invited to share\, regardless of culture or religon. \nEvery Monday at 5 pm in the KHG (breakfast table in the basement – at the rear).
URL:https://www.khg-in-bayreuth.de/event/bibelteilen-sharing-the-bible-22/2021-07-05/
END:VEVENT
BEGIN:VEVENT
DTSTART;TZID=Europe/Berlin:20210705T200000
DTEND;TZID=Europe/Berlin:20210705T210000
DTSTAMP:20260424T145548
CREATED:20210701T175335Z
LAST-MODIFIED:20210701T180224Z
UID:10004522-1625515200-1625518800@www.khg-in-bayreuth.de
SUMMARY:Taizé-Gebet // Taizé Prayer
DESCRIPTION:Der Taizé-Kreis von ESG und KHG lädt herzlich ein zum Taizé-Gebet auf der ESG-Terrasse mit Kerzenschein\, meditativen Liedern und Texten aus der Bibel. Anschließend gibt es Tee und Kekse. \nThe ESG and KHG Taizé group cordially invites you to a Taizé prayer on the ESG terrace with candlelight\, meditative chants and texts from the bible. Afterwards\, there’ll be tea and cookies.
URL:https://www.khg-in-bayreuth.de/event/taize-gebet-taize-prayer-2/
LOCATION:ESG\, Richard-Wagner-Straße 24\, Bayreuth\, Deutschland
END:VEVENT
BEGIN:VEVENT
DTSTART;TZID=Europe/Berlin:20210706T180000
DTEND;TZID=Europe/Berlin:20210706T183000
DTSTAMP:20260424T145548
CREATED:20210407T111740Z
LAST-MODIFIED:20210701T181358Z
UID:10004482-1625594400-1625596200@www.khg-in-bayreuth.de
SUMMARY:Wort-Gottes-Feier // Celebration of the Word
DESCRIPTION:– English version below – \n“Wofür kämpfe ich?” Unter dieser Frage steht unsere interkulturelle Wort-Gottes-Feier am Dienstag\, die wie immer von unserem deutsch-afrikanischen Team gestaltet wird. Wir feiern mit Hygienekonzept in der Albertus-Magnus-Kapelle\, es besteht aber auch die Möglichkeit\, per Zoom dabei zu sein. Herzlich willkommen! \nEinwahldaten für die Online-Teilnahme: \n\nhttps://uni-bayreuth.zoom.us/j/98858583801?pwd=dGhlOTlFWHQ2cUthYjFncXBHMnVFQT09 \nMeeting-ID: 988 5858 3801 \nKenncode: 560013 \n\n– English version – \n“What am I fighting for?” This is the question for our intercultural Word of God celebration on Tuesday\, which will be organised by our German-African team as always. We celebrate with a hygienic concept in the Albertus Magnus Chapel\, but there is also the possibility to join us via Zoom. You are very welcome! \nDial-in data for online participation: \nhttps://uni-bayreuth.zoom.us/j/98858583801?pwd=dGhlOTlFWHQ2cUthYjFncXBHMnVFQT09 \nMeeting ID: 988 5858 3801 \nIdentification code: 560013 \n  \n 
URL:https://www.khg-in-bayreuth.de/event/zoom-gottesdienst-wort-gottes-feier-zoom-service-celebration-of-the-word-3/
LOCATION:Online via Zoom\, Deutschland
END:VEVENT
BEGIN:VEVENT
DTSTART;TZID=Europe/Berlin:20210706T190000
DTEND;TZID=Europe/Berlin:20210706T230000
DTSTAMP:20260424T145548
CREATED:20210625T093644Z
LAST-MODIFIED:20210701T190050Z
UID:10004521-1625598000-1625612400@www.khg-in-bayreuth.de
SUMMARY:Planungsnacht // Planning night for winter semester
DESCRIPTION:Wir brauchen wieder Eure Ideen und Euer Engagement für ein cooles neues KHG-Wintersemester 2021/22! \nKommt vorbei – es gibt Pizza! 😉 \n\nOnce more\, we need your ideas and your commitment for a cool new KHG winter semester 2021/22! \nCome along – there’ll be Pizza! 😉
URL:https://www.khg-in-bayreuth.de/event/planungsnacht-planing-night-for-winter-semester/
LOCATION:KHG Bayreuth\, Emil-Warburg-Weg 17\, KHG Bayreuth\, 95447\, Deutschland
END:VEVENT
BEGIN:VEVENT
DTSTART;TZID=Europe/Berlin:20210707T120000
DTEND;TZID=Europe/Berlin:20210707T140000
DTSTAMP:20260424T145548
CREATED:20210625T091956Z
LAST-MODIFIED:20210625T092237Z
UID:10004517-1625659200-1625666400@www.khg-in-bayreuth.de
SUMMARY:Mittagspause für Leib und Seele // Lunch break for body and soul
DESCRIPTION:Jeden Mittwoch feiern wir die Mitte der Woche mit einer besonderen Mittagspause: Wir treffen uns nach dem Glockenschlag um 12.00 Uhr vor der KHG zum Mittagsgebet. Anschließend löffeln wir gemeinsam vegetarische Suppe. \nWer Lust hat\, beim Kochen der Suppe zu helfen\, darf gerne vorher (ab ca. 11.00 Uhr) in der KHG-Küche vorbeikommen. Auch eigene Rezepte sind gerne gesehen! \n\nEvery Wednesday we celebrate the middle of the week with a special lunch break: we meet after the bell ringing at 12.00 noon in front of the KHG for midday prayer. Afterwards we spoon vegetarian soup together. \nAnyone who would like to help make the soup is welcome to come to the KHG kitchen beforehand (from about 11.00 a.m.). Your own recipes are also welcome! \n 
URL:https://www.khg-in-bayreuth.de/event/mittagspause-fuer-leib-und-seele/2021-07-07/
LOCATION:KHG Bayreuth\, Emil-Warburg-Weg 17\, Bayreuth\, 95447\, Deutschland
END:VEVENT
BEGIN:VEVENT
DTSTART;TZID=Europe/Berlin:20210707T194500
DTEND;TZID=Europe/Berlin:20210707T213000
DTSTAMP:20260424T145548
CREATED:20210531T211638Z
LAST-MODIFIED:20210531T211638Z
UID:10004506-1625687100-1625693400@www.khg-in-bayreuth.de
SUMMARY:Gospelchor / Gospel Choir
DESCRIPTION:Lust auf Singen? Unser ökumenischer Gospelchor probt wieder live in der KHG! Natürlich mit strengem Hygienekonzept. \nFür nähere Infos schreibt an: gospelchor.bayreuth@web.de \n\nFeel like singing? Our ecumenical Gospel Choir is rehearsing live at KHG again! With a strict hygiene concept\, of course. \nFor further information write to: gospelchor.bayreuth@web.de
URL:https://www.khg-in-bayreuth.de/event/gospelchor-gospel-choir/2021-07-07/
LOCATION:KHG Bayreuth\, Emil-Warburg-Weg 17\, KHG Bayreuth\, 95447\, Deutschland
END:VEVENT
BEGIN:VEVENT
DTSTART;TZID=Europe/Berlin:20210707T200000
DTEND;TZID=Europe/Berlin:20210707T220000
DTSTAMP:20260424T145548
CREATED:20210623T115718Z
LAST-MODIFIED:20210623T115942Z
UID:10004515-1625688000-1625695200@www.khg-in-bayreuth.de
SUMMARY:"A wie Alpaka" - eine besondere Lesung
DESCRIPTION:Die Bayreuther Studentin Rebecca Heyn hat ihren ersten Roman veröffentlicht („A wie Alpaka“). In einer Lesung gibt sie uns eine Kostprobe ihres Werkes. Aufgelockert wird der Abend durch musikalische Einlagen von Aras Hesso\, der wunderbar Saz spielt. Begleitet wird er dabei an der Gitarre von Sabine Melzer-Wiesend. \nBitte Sitzgelegenheiten (Decken\, Sitzkissen\, Klappstühle…) selbst mitbringen. \n(Kooperation mit der Evangelischen Studierendengemeinde) \nKlappentext: \nEine WG\, zwei Studenten und ein Alpaka namens Olaf. Was kann da schon schiefgehen?\nEigentlich möchte Milan nur in Ruhe studieren. Doch als sein Kumpel Fiete kurz vor dem Rauswurf an ihrer Uni steht und dringend einen weiteren Kurs belegen muss\, steht es außer Frage\, dass er ihm hilft. Ein Start-up-Wettbewerb ist Fietes letzte Rettung. Milan merkt jedoch schnell\, dass durch die Teilnahme sein bis dahin strukturiertes Leben völlig durcheinandergerät. Während ihre Geschäftsidee zunächst aneckt\, er sich in die quirlige Malou verguckt und auch noch ein Alpaka in ihre WG einzieht\, scheint das Chaos perfekt zu sein. Dabei ahnt er nicht\, dass er bald vor eine schwierige Wahl gestellt wird.
URL:https://www.khg-in-bayreuth.de/event/a-wie-alpaka-eine-besondere-lesung/
LOCATION:KHG Bayreuth\, Emil-Warburg-Weg 17\, KHG Bayreuth\, 95447\, Deutschland
END:VEVENT
BEGIN:VEVENT
DTSTART;TZID=Europe/Berlin:20210708T180000
DTEND;TZID=Europe/Berlin:20210708T220000
DTSTAMP:20260424T145548
CREATED:20210531T215306Z
LAST-MODIFIED:20210617T172130Z
UID:10004512-1625767200-1625781600@www.khg-in-bayreuth.de
SUMMARY:Swahili Chor / Suahili Choir
DESCRIPTION:Unser “Swahili Chor Bayreuth” probt wieder live vor der KHG! Damit alle gesund bleiben\, natürlich mit strengem Hygienekonzept. Nähere Infos unter: swahili.chor.bayreuth@gmail.com \n\nOur “Suahili Choir Bayreuth” is rehearsing live again outside KHG! With strict hygiene concept\, of course\, so that everyone stays safe. Further information here: swahili.chor.bayreuth@gmail.com
URL:https://www.khg-in-bayreuth.de/event/swahili-chor-suahili-choir-2021-06-17/2021-07-08/
LOCATION:KHG Bayreuth\, Emil-Warburg-Weg 17\, KHG Bayreuth\, 95447\, Deutschland
END:VEVENT
BEGIN:VEVENT
DTSTART;TZID=Europe/Berlin:20210709T070000
DTEND;TZID=Europe/Berlin:20210709T073000
DTSTAMP:20260424T145548
CREATED:20210407T112442Z
LAST-MODIFIED:20210701T175801Z
UID:10004487-1625814000-1625815800@www.khg-in-bayreuth.de
SUMMARY:Frühschicht mit Frühstück // Morning prayer with breakfast
DESCRIPTION:Freitagsmorgens treffen wir uns während der Vorlesungszeit um 07:00 Uhr zu einer kurzen Morgenandacht in unserer Albertus-Magnus-Kapelle. Anschließend frühstücken wir gemeinsam im Roncalli-Saal. \n______________________________________________________________________ \nOn Friday mornings during the lecture period we meet at 07:00 for a short morning prayer in our St.-Albertus-Magnus chapel. Afterwards\, we have breakfast together in the Roncalli Hall.
URL:https://www.khg-in-bayreuth.de/event/fruehschicht-morning-prayer-4-2021-05-28-2021-07-02/2021-07-09/
LOCATION:KHG Bayreuth\, Emil-Warburg-Weg 17\, KHG Bayreuth\, 95447\, Deutschland
END:VEVENT
BEGIN:VEVENT
DTSTART;TZID=Europe/Berlin:20210711T190000
DTEND;TZID=Europe/Berlin:20210711T210000
DTSTAMP:20260424T145548
CREATED:20210701T190613Z
LAST-MODIFIED:20210701T191711Z
UID:10004523-1626030000-1626037200@www.khg-in-bayreuth.de
SUMMARY:Semesterschlussgottesdienst im ÖBG // End-of-semester service in the Botanical Garden
DESCRIPTION:– English version below – \nDie Bayreuther Hochschulgemeinden laden sehr herzlich ein zum Ökumenischen Semesterschlussgottesdienst am See im Ökologisch-Botanischen Garten zum Thema “Wasser des Lebens”. Musikalisch begleitet wird der Gottesdienst vom ökumenischen Gospelchor Bayreuth. Im Anschluss sind alle Gottesdienstbesucher:innen herzlich zum Grillen vor der KHG Bayreuth (Emil-Warburg-Weg 17) eingeladen. Es gelten die aktuellen Corona-Infektionsschutzmaßnahmen (Kontaktdatenerfassung\, Abstand\, Maskenpflicht bei engem Kontakt oder im Innenraum). \nUm die Zahl der Teilnehmer:innen abschätzen zu können\, bitten wir um Anmeldung sowohl zum Gottesdienst als auch zum Grillen bis zum 6. Juli 2021 an khg@uni-bayreuth.de. Bei Anmeldung zum Grillen bitten wir zusätzlich um die Angabe\, ob Fleisch oder vegetarisches Grillgut bevorzugt wird. \n– English version – \nThe Bayreuth university chaplaincies cordially invite you to the ecumenical end-of-semester service at the lake in the Ecological-Botanical Garden on the theme of “Water of Life”. The service will be musically accompanied by the ecumenical Gospel Choir Bayreuth. After the service\, all visitors are cordially invited to a barbecue in front of the KHG Bayreuth (Emil-Warburg-Weg 17). The current Corona infection control measures apply (contact data collection\, distance\, masks required for close contact or indoors). \nIn order to be able to estimate the number of participants\, please register for both the service and the barbecue by 6 July 2021 to khg@uni-bayreuth.de. If you are registering for the barbecue\, please also indicate whether you prefer meat or vegetarian food.
URL:https://www.khg-in-bayreuth.de/event/semesterschlussgottesdienst-im-oebg-end-of-semester-service-in-the-botanical-garden/
LOCATION:KHG Bayreuth\, Emil-Warburg-Weg 17\, KHG Bayreuth\, 95447\, Deutschland
END:VEVENT
BEGIN:VEVENT
DTSTART;TZID=UTC:20210712T170000
DTEND;TZID=UTC:20210712T190000
DTSTAMP:20260424T145548
CREATED:20190228T173552Z
LAST-MODIFIED:20190228T173552Z
UID:10003884-1626109200-1626116400@www.khg-in-bayreuth.de
SUMMARY:Bibelteilen // sharing the bible
DESCRIPTION:– English version below – \nNach der Methode des “Bibelteilens in sieben Schritten” bringen wir biblische Texte zusammen mit eigenen Lebenserfahrungen\, Fragen und Zweifeln. So begeben wir uns gemeinsam auf die Suche: Was ist jetzt “dran” für mich/ für uns? Wie kann ich das\, was ich denke\, fühle und erlebe\, anhand der biblischen Überlieferung deuten? Was ist jetzt zu tun?\nHerzliche Einladung an alle Gläubigen\, Agnostiker\, Atheisten\, Sinnsucher/-innen und Leute\, die etwas bewegen wollen! \nJeden Montag um 17.00 Uhr in der KHG (Frühstücksecke im Untergeschoss – ganz hinten). \n– English version – \nFollowing the “sharing the bible in seven steps” method\, we combine biblical texts with personal experiences\, doubts and questions. Thus we engage on a shared quest: What is “due” for me/ for us now? How can I interpret my own reality in the light of the gospel? \nEveryone’s invited to share\, regardless of culture or religon. \nEvery Monday at 5 pm in the KHG (breakfast table in the basement – at the rear).
URL:https://www.khg-in-bayreuth.de/event/bibelteilen-sharing-the-bible-22/2021-07-12/
END:VEVENT
BEGIN:VEVENT
DTSTART;TZID=Europe/Berlin:20210713T200000
DTEND;TZID=Europe/Berlin:20210713T220000
DTSTAMP:20260424T145548
CREATED:20210701T192047Z
LAST-MODIFIED:20210701T192047Z
UID:10004524-1626206400-1626213600@www.khg-in-bayreuth.de
SUMMARY:Spontanabend // Spontaneous evening
DESCRIPTION:Was an diesem letzten KHG-Barabend des Semesters geschieht\, liegt an Euch: Wir können Spiele spielen\, kochen\, grillen\, kreativ sein oder einfach nur ratschen … \n\nWhat happens on this last KHG bar evening of the semester is up to you: We can play games\, cook\, barbecue\, be creative or just chat …
URL:https://www.khg-in-bayreuth.de/event/spontanabend-spontaneous-evening-2/
LOCATION:KHG Bayreuth\, Emil-Warburg-Weg 17\, KHG Bayreuth\, 95447\, Deutschland
END:VEVENT
BEGIN:VEVENT
DTSTART;TZID=Europe/Berlin:20210714T120000
DTEND;TZID=Europe/Berlin:20210714T140000
DTSTAMP:20260424T145548
CREATED:20210625T091956Z
LAST-MODIFIED:20210625T092237Z
UID:10004518-1626264000-1626271200@www.khg-in-bayreuth.de
SUMMARY:Mittagspause für Leib und Seele // Lunch break for body and soul
DESCRIPTION:Jeden Mittwoch feiern wir die Mitte der Woche mit einer besonderen Mittagspause: Wir treffen uns nach dem Glockenschlag um 12.00 Uhr vor der KHG zum Mittagsgebet. Anschließend löffeln wir gemeinsam vegetarische Suppe. \nWer Lust hat\, beim Kochen der Suppe zu helfen\, darf gerne vorher (ab ca. 11.00 Uhr) in der KHG-Küche vorbeikommen. Auch eigene Rezepte sind gerne gesehen! \n\nEvery Wednesday we celebrate the middle of the week with a special lunch break: we meet after the bell ringing at 12.00 noon in front of the KHG for midday prayer. Afterwards we spoon vegetarian soup together. \nAnyone who would like to help make the soup is welcome to come to the KHG kitchen beforehand (from about 11.00 a.m.). Your own recipes are also welcome! \n 
URL:https://www.khg-in-bayreuth.de/event/mittagspause-fuer-leib-und-seele/2021-07-14/
LOCATION:KHG Bayreuth\, Emil-Warburg-Weg 17\, Bayreuth\, 95447\, Deutschland
END:VEVENT
BEGIN:VEVENT
DTSTART;TZID=Europe/Berlin:20210714T194500
DTEND;TZID=Europe/Berlin:20210714T213000
DTSTAMP:20260424T145548
CREATED:20210531T211638Z
LAST-MODIFIED:20210531T211638Z
UID:10004507-1626291900-1626298200@www.khg-in-bayreuth.de
SUMMARY:Gospelchor / Gospel Choir
DESCRIPTION:Lust auf Singen? Unser ökumenischer Gospelchor probt wieder live in der KHG! Natürlich mit strengem Hygienekonzept. \nFür nähere Infos schreibt an: gospelchor.bayreuth@web.de \n\nFeel like singing? Our ecumenical Gospel Choir is rehearsing live at KHG again! With a strict hygiene concept\, of course. \nFor further information write to: gospelchor.bayreuth@web.de
URL:https://www.khg-in-bayreuth.de/event/gospelchor-gospel-choir/2021-07-14/
LOCATION:KHG Bayreuth\, Emil-Warburg-Weg 17\, KHG Bayreuth\, 95447\, Deutschland
END:VEVENT
BEGIN:VEVENT
DTSTART;TZID=Europe/Berlin:20210715T180000
DTEND;TZID=Europe/Berlin:20210715T220000
DTSTAMP:20260424T145548
CREATED:20210531T215306Z
LAST-MODIFIED:20210617T172130Z
UID:10004513-1626372000-1626386400@www.khg-in-bayreuth.de
SUMMARY:Swahili Chor / Suahili Choir
DESCRIPTION:Unser “Swahili Chor Bayreuth” probt wieder live vor der KHG! Damit alle gesund bleiben\, natürlich mit strengem Hygienekonzept. Nähere Infos unter: swahili.chor.bayreuth@gmail.com \n\nOur “Suahili Choir Bayreuth” is rehearsing live again outside KHG! With strict hygiene concept\, of course\, so that everyone stays safe. Further information here: swahili.chor.bayreuth@gmail.com
URL:https://www.khg-in-bayreuth.de/event/swahili-chor-suahili-choir-2021-06-17/2021-07-15/
LOCATION:KHG Bayreuth\, Emil-Warburg-Weg 17\, KHG Bayreuth\, 95447\, Deutschland
END:VEVENT
BEGIN:VEVENT
DTSTART;TZID=Europe/Berlin:20210716T070000
DTEND;TZID=Europe/Berlin:20210716T073000
DTSTAMP:20260424T145548
CREATED:20210407T112442Z
LAST-MODIFIED:20210701T175801Z
UID:10004488-1626418800-1626420600@www.khg-in-bayreuth.de
SUMMARY:Frühschicht mit Frühstück // Morning prayer with breakfast
DESCRIPTION:Freitagsmorgens treffen wir uns während der Vorlesungszeit um 07:00 Uhr zu einer kurzen Morgenandacht in unserer Albertus-Magnus-Kapelle. Anschließend frühstücken wir gemeinsam im Roncalli-Saal. \n______________________________________________________________________ \nOn Friday mornings during the lecture period we meet at 07:00 for a short morning prayer in our St.-Albertus-Magnus chapel. Afterwards\, we have breakfast together in the Roncalli Hall.
URL:https://www.khg-in-bayreuth.de/event/fruehschicht-morning-prayer-4-2021-05-28-2021-07-02/2021-07-16/
LOCATION:KHG Bayreuth\, Emil-Warburg-Weg 17\, KHG Bayreuth\, 95447\, Deutschland
END:VEVENT
BEGIN:VEVENT
DTSTART;TZID=UTC:20210719T170000
DTEND;TZID=UTC:20210719T190000
DTSTAMP:20260424T145548
CREATED:20190228T173552Z
LAST-MODIFIED:20190228T173552Z
UID:10003885-1626714000-1626721200@www.khg-in-bayreuth.de
SUMMARY:Bibelteilen // sharing the bible
DESCRIPTION:– English version below – \nNach der Methode des “Bibelteilens in sieben Schritten” bringen wir biblische Texte zusammen mit eigenen Lebenserfahrungen\, Fragen und Zweifeln. So begeben wir uns gemeinsam auf die Suche: Was ist jetzt “dran” für mich/ für uns? Wie kann ich das\, was ich denke\, fühle und erlebe\, anhand der biblischen Überlieferung deuten? Was ist jetzt zu tun?\nHerzliche Einladung an alle Gläubigen\, Agnostiker\, Atheisten\, Sinnsucher/-innen und Leute\, die etwas bewegen wollen! \nJeden Montag um 17.00 Uhr in der KHG (Frühstücksecke im Untergeschoss – ganz hinten). \n– English version – \nFollowing the “sharing the bible in seven steps” method\, we combine biblical texts with personal experiences\, doubts and questions. Thus we engage on a shared quest: What is “due” for me/ for us now? How can I interpret my own reality in the light of the gospel? \nEveryone’s invited to share\, regardless of culture or religon. \nEvery Monday at 5 pm in the KHG (breakfast table in the basement – at the rear).
URL:https://www.khg-in-bayreuth.de/event/bibelteilen-sharing-the-bible-22/2021-07-19/
END:VEVENT
BEGIN:VEVENT
DTSTART;TZID=Europe/Berlin:20210721T120000
DTEND;TZID=Europe/Berlin:20210721T140000
DTSTAMP:20260424T145548
CREATED:20210625T091956Z
LAST-MODIFIED:20210625T092237Z
UID:10004519-1626868800-1626876000@www.khg-in-bayreuth.de
SUMMARY:Mittagspause für Leib und Seele // Lunch break for body and soul
DESCRIPTION:Jeden Mittwoch feiern wir die Mitte der Woche mit einer besonderen Mittagspause: Wir treffen uns nach dem Glockenschlag um 12.00 Uhr vor der KHG zum Mittagsgebet. Anschließend löffeln wir gemeinsam vegetarische Suppe. \nWer Lust hat\, beim Kochen der Suppe zu helfen\, darf gerne vorher (ab ca. 11.00 Uhr) in der KHG-Küche vorbeikommen. Auch eigene Rezepte sind gerne gesehen! \n\nEvery Wednesday we celebrate the middle of the week with a special lunch break: we meet after the bell ringing at 12.00 noon in front of the KHG for midday prayer. Afterwards we spoon vegetarian soup together. \nAnyone who would like to help make the soup is welcome to come to the KHG kitchen beforehand (from about 11.00 a.m.). Your own recipes are also welcome! \n 
URL:https://www.khg-in-bayreuth.de/event/mittagspause-fuer-leib-und-seele/2021-07-21/
LOCATION:KHG Bayreuth\, Emil-Warburg-Weg 17\, Bayreuth\, 95447\, Deutschland
END:VEVENT
BEGIN:VEVENT
DTSTART;TZID=UTC:20210726T170000
DTEND;TZID=UTC:20210726T190000
DTSTAMP:20260424T145548
CREATED:20190228T173552Z
LAST-MODIFIED:20190228T173552Z
UID:10003886-1627318800-1627326000@www.khg-in-bayreuth.de
SUMMARY:Bibelteilen // sharing the bible
DESCRIPTION:– English version below – \nNach der Methode des “Bibelteilens in sieben Schritten” bringen wir biblische Texte zusammen mit eigenen Lebenserfahrungen\, Fragen und Zweifeln. So begeben wir uns gemeinsam auf die Suche: Was ist jetzt “dran” für mich/ für uns? Wie kann ich das\, was ich denke\, fühle und erlebe\, anhand der biblischen Überlieferung deuten? Was ist jetzt zu tun?\nHerzliche Einladung an alle Gläubigen\, Agnostiker\, Atheisten\, Sinnsucher/-innen und Leute\, die etwas bewegen wollen! \nJeden Montag um 17.00 Uhr in der KHG (Frühstücksecke im Untergeschoss – ganz hinten). \n– English version – \nFollowing the “sharing the bible in seven steps” method\, we combine biblical texts with personal experiences\, doubts and questions. Thus we engage on a shared quest: What is “due” for me/ for us now? How can I interpret my own reality in the light of the gospel? \nEveryone’s invited to share\, regardless of culture or religon. \nEvery Monday at 5 pm in the KHG (breakfast table in the basement – at the rear).
URL:https://www.khg-in-bayreuth.de/event/bibelteilen-sharing-the-bible-22/2021-07-26/
END:VEVENT
BEGIN:VEVENT
DTSTART;TZID=Europe/Berlin:20210728T120000
DTEND;TZID=Europe/Berlin:20210728T140000
DTSTAMP:20260424T145548
CREATED:20210625T091956Z
LAST-MODIFIED:20210625T092237Z
UID:10004520-1627473600-1627480800@www.khg-in-bayreuth.de
SUMMARY:Mittagspause für Leib und Seele // Lunch break for body and soul
DESCRIPTION:Jeden Mittwoch feiern wir die Mitte der Woche mit einer besonderen Mittagspause: Wir treffen uns nach dem Glockenschlag um 12.00 Uhr vor der KHG zum Mittagsgebet. Anschließend löffeln wir gemeinsam vegetarische Suppe. \nWer Lust hat\, beim Kochen der Suppe zu helfen\, darf gerne vorher (ab ca. 11.00 Uhr) in der KHG-Küche vorbeikommen. Auch eigene Rezepte sind gerne gesehen! \n\nEvery Wednesday we celebrate the middle of the week with a special lunch break: we meet after the bell ringing at 12.00 noon in front of the KHG for midday prayer. Afterwards we spoon vegetarian soup together. \nAnyone who would like to help make the soup is welcome to come to the KHG kitchen beforehand (from about 11.00 a.m.). Your own recipes are also welcome! \n 
URL:https://www.khg-in-bayreuth.de/event/mittagspause-fuer-leib-und-seele/2021-07-28/
LOCATION:KHG Bayreuth\, Emil-Warburg-Weg 17\, Bayreuth\, 95447\, Deutschland
END:VEVENT
BEGIN:VEVENT
DTSTART;VALUE=DATE:20210731
DTEND;VALUE=DATE:20210801
DTSTAMP:20260424T145548
CREATED:20210720T183322Z
LAST-MODIFIED:20210720T183322Z
UID:10004525-1627689600-1627775999@www.khg-in-bayreuth.de
SUMMARY:KHG-Fahrt nach Regensburg // KHG trip to Regensburg
DESCRIPTION:Die KHG Regensburg hat uns eingeladen\, sie zu besuchen – und wir nehmen die Einladung natürlich gerne an! Wir fahren im Zug mit dem Bayern-Ticket hin und zurück. Vor Ort bekommen wir eine Stadtführung durch Studierende der KHG Regensburg und besuchen gemeinsam einen Biergarten. Alles weitere planen wir gemeinsam. Falls Ihr Interesse habt\, meldet Euch bei Pastoralreferentin Barbara Göb: barbara.goeb@erzbistum-bamberg.de \n\nThe KHG Regensburg has invited us to visit them – and of course we accept! We’re going to take the train (Bayern Ticket). In Regensburg\, we’ll have a guided tour by students of the KHG Regensburg and a visit to the beer garden. For details\, we’re going to plan together. If you’re interested\, please contact Pastoralreferentin Barbara Goeb: barbara.goeb@erzbistum-bamberg.de
URL:https://www.khg-in-bayreuth.de/event/khg-fahrt-nach-regensburg-khg-trip-to-regensburg/
LOCATION:KHG Bayreuth\, Emil-Warburg-Weg 17\, KHG Bayreuth\, 95447\, Deutschland
END:VEVENT
END:VCALENDAR