BEGIN:VCALENDAR
VERSION:2.0
PRODID:-//KHG Bayreuth - ECPv6.15.3//NONSGML v1.0//EN
CALSCALE:GREGORIAN
METHOD:PUBLISH
X-ORIGINAL-URL:https://www.khg-in-bayreuth.de
X-WR-CALDESC:Veranstaltungen für KHG Bayreuth
REFRESH-INTERVAL;VALUE=DURATION:PT1H
X-Robots-Tag:noindex
X-PUBLISHED-TTL:PT1H
BEGIN:VTIMEZONE
TZID:Europe/Berlin
BEGIN:DAYLIGHT
TZOFFSETFROM:+0100
TZOFFSETTO:+0200
TZNAME:CEST
DTSTART:20220327T010000
END:DAYLIGHT
BEGIN:STANDARD
TZOFFSETFROM:+0200
TZOFFSETTO:+0100
TZNAME:CET
DTSTART:20221030T010000
END:STANDARD
END:VTIMEZONE
BEGIN:VTIMEZONE
TZID:UTC
BEGIN:STANDARD
TZOFFSETFROM:+0000
TZOFFSETTO:+0000
TZNAME:UTC
DTSTART:20220101T000000
END:STANDARD
END:VTIMEZONE
BEGIN:VEVENT
DTSTART;TZID=Europe/Berlin:20220301T190000
DTEND;TZID=Europe/Berlin:20220301T220000
DTSTAMP:20260424T001429
CREATED:20220227T143141Z
LAST-MODIFIED:20220227T143339Z
UID:10004699-1646161200-1646172000@www.khg-in-bayreuth.de
SUMMARY:Spontan-Spieleabend// Spontaneous games evening
DESCRIPTION:Am Faschingsdienstag treffen wir uns zu einem spontanen Spieleabend in der KHG. Falls genügend Leute zusammenkommen\, spielen wir Werwolf\, ansonsten Brett- oder Gesellschaftsspiele. Einige Spiele sind in der KHG vorhanden\, Ihr dürft auch gerne selbst Spiele mitbringen\, die Ihr gerne spielen möchtet. Wenn Ihr mögt\, bringt auch gerne Snacks mit. \nOn Shrove Tuesday\, we meet for a spontaneous games evening at the KHG. If we are enough people\, we play werewolves\, otherwise board or parlour games. Some board games are available at KHG\, but you’re welcome to bring your own games if you feel like playing them. You can also bring snacks\, if you like.
URL:https://www.khg-in-bayreuth.de/event/spontan-spieleabend-spontaneous-games-evening/
LOCATION:KHG Bayreuth\, Emil-Warburg-Weg 17\, KHG Bayreuth\, 95447\, Deutschland
END:VEVENT
BEGIN:VEVENT
DTSTART;TZID=UTC:20220307T170000
DTEND;TZID=UTC:20220307T190000
DTSTAMP:20260424T001429
CREATED:20190228T173552Z
LAST-MODIFIED:20190228T173552Z
UID:10003918-1646672400-1646679600@www.khg-in-bayreuth.de
SUMMARY:Bibelteilen // sharing the bible
DESCRIPTION:– English version below – \nNach der Methode des “Bibelteilens in sieben Schritten” bringen wir biblische Texte zusammen mit eigenen Lebenserfahrungen\, Fragen und Zweifeln. So begeben wir uns gemeinsam auf die Suche: Was ist jetzt “dran” für mich/ für uns? Wie kann ich das\, was ich denke\, fühle und erlebe\, anhand der biblischen Überlieferung deuten? Was ist jetzt zu tun?\nHerzliche Einladung an alle Gläubigen\, Agnostiker\, Atheisten\, Sinnsucher/-innen und Leute\, die etwas bewegen wollen! \nJeden Montag um 17.00 Uhr in der KHG (Frühstücksecke im Untergeschoss – ganz hinten). \n– English version – \nFollowing the “sharing the bible in seven steps” method\, we combine biblical texts with personal experiences\, doubts and questions. Thus we engage on a shared quest: What is “due” for me/ for us now? How can I interpret my own reality in the light of the gospel? \nEveryone’s invited to share\, regardless of culture or religon. \nEvery Monday at 5 pm in the KHG (breakfast table in the basement – at the rear).
URL:https://www.khg-in-bayreuth.de/event/bibelteilen-sharing-the-bible-22/2022-03-07/
END:VEVENT
BEGIN:VEVENT
DTSTART;TZID=Europe/Berlin:20220307T193000
DTEND;TZID=Europe/Berlin:20220307T200000
DTSTAMP:20260424T001429
CREATED:20220302T121250Z
LAST-MODIFIED:20220302T121305Z
UID:10004703-1646681400-1646683200@www.khg-in-bayreuth.de
SUMMARY:Pray for Ukraine - Friedensgebet
DESCRIPTION:Wir treffen uns zu einem ökumenischen Friedensgebet mit der ESG im Uni-Rondell auf dem Campus.\nBringt gerne ein Windlicht mit! \n______________________________________________________________________ \nWe meet for an ecumenical peace prayer with the ESG at the roundabout on Uni Bayreuth campus.\nBring a hand lantern\, if possible!
URL:https://www.khg-in-bayreuth.de/event/pray-for-ukraine-friedensgebet-2/2022-03-07/
LOCATION:KHG Bayreuth\, Emil-Warburg-Weg 17\, KHG Bayreuth\, 95447\, Deutschland
END:VEVENT
BEGIN:VEVENT
DTSTART;TZID=Europe/Berlin:20220308T180000
DTEND;TZID=Europe/Berlin:20220308T200000
DTSTAMP:20260424T001429
CREATED:20220208T162032Z
LAST-MODIFIED:20220208T162127Z
UID:10004691-1646762400-1646769600@www.khg-in-bayreuth.de
SUMMARY:„gehörT“ – Junge Alltagsexerzitien // Everyday retreat for young people
DESCRIPTION:Ein paar Minuten Stille und Meditation am Tag und ein gemeinsamer Abend mit Austausch und gemeinsamem Kochen am Abend: Das sind ökumenische Alltagsexerzitien für junge Menschen. \nUnter dem Motto “gehörT” wollen wir mit Euch eine besondere Fastenzeit erleben. Ihr bekommt Bilder und Anregungen für einen täglichen Moment der Stille\, und wir treffen uns jeden Dienstagabend in der Fastenzeit um 18.00 Uhr (abwechselnd in der KHG und in der ESG) zum gegenseitigen Austausch in Form eines kleinen Gottesdienstes. Anschließend kochen wir gemeinsam. \nWeitere Infos und Anmeldung bei Eurer Hochschulseelsorgerin Barbara: barbara.goeb@erzbistum-bamberg.de \n\nA few minutes of silence and meditation during the day and an evening of sharing and cooking together in the evening: these are ecumenical everyday retreats for young people. \nUnder the motto ” gehörT” (“heard” or “belongs”) we want to experience a special Lent with you. You will be given pictures and suggestions for a daily moment of silence\, and we will meet every Tuesday evening during Lent at 6.00 pm (alternately in the KHG and in the ESG) for a mutual exchange in the form of a small service. Afterwards we cook together. \nFurther information and registration with your university chaplain Barbara: barbara.goeb@erzbistum-bamberg.de \n 
URL:https://www.khg-in-bayreuth.de/event/gehoert-junge-alltagsexerzitien-everyday-retreat-for-young-people/2022-03-08/
LOCATION:KHG Bayreuth\, Emil-Warburg-Weg 17\, KHG Bayreuth\, 95447\, Deutschland
END:VEVENT
BEGIN:VEVENT
DTSTART;TZID=UTC:20220314T170000
DTEND;TZID=UTC:20220314T190000
DTSTAMP:20260424T001429
CREATED:20190228T173552Z
LAST-MODIFIED:20190228T173552Z
UID:10003919-1647277200-1647284400@www.khg-in-bayreuth.de
SUMMARY:Bibelteilen // sharing the bible
DESCRIPTION:– English version below – \nNach der Methode des “Bibelteilens in sieben Schritten” bringen wir biblische Texte zusammen mit eigenen Lebenserfahrungen\, Fragen und Zweifeln. So begeben wir uns gemeinsam auf die Suche: Was ist jetzt “dran” für mich/ für uns? Wie kann ich das\, was ich denke\, fühle und erlebe\, anhand der biblischen Überlieferung deuten? Was ist jetzt zu tun?\nHerzliche Einladung an alle Gläubigen\, Agnostiker\, Atheisten\, Sinnsucher/-innen und Leute\, die etwas bewegen wollen! \nJeden Montag um 17.00 Uhr in der KHG (Frühstücksecke im Untergeschoss – ganz hinten). \n– English version – \nFollowing the “sharing the bible in seven steps” method\, we combine biblical texts with personal experiences\, doubts and questions. Thus we engage on a shared quest: What is “due” for me/ for us now? How can I interpret my own reality in the light of the gospel? \nEveryone’s invited to share\, regardless of culture or religon. \nEvery Monday at 5 pm in the KHG (breakfast table in the basement – at the rear).
URL:https://www.khg-in-bayreuth.de/event/bibelteilen-sharing-the-bible-22/2022-03-14/
END:VEVENT
BEGIN:VEVENT
DTSTART;TZID=Europe/Berlin:20220314T193000
DTEND;TZID=Europe/Berlin:20220314T200000
DTSTAMP:20260424T001429
CREATED:20220302T121250Z
LAST-MODIFIED:20220302T121305Z
UID:10004704-1647286200-1647288000@www.khg-in-bayreuth.de
SUMMARY:Pray for Ukraine - Friedensgebet
DESCRIPTION:Wir treffen uns zu einem ökumenischen Friedensgebet mit der ESG im Uni-Rondell auf dem Campus.\nBringt gerne ein Windlicht mit! \n______________________________________________________________________ \nWe meet for an ecumenical peace prayer with the ESG at the roundabout on Uni Bayreuth campus.\nBring a hand lantern\, if possible!
URL:https://www.khg-in-bayreuth.de/event/pray-for-ukraine-friedensgebet-2/2022-03-14/
LOCATION:KHG Bayreuth\, Emil-Warburg-Weg 17\, KHG Bayreuth\, 95447\, Deutschland
END:VEVENT
BEGIN:VEVENT
DTSTART;TZID=Europe/Berlin:20220315T180000
DTEND;TZID=Europe/Berlin:20220315T200000
DTSTAMP:20260424T001429
CREATED:20220208T162032Z
LAST-MODIFIED:20220208T162127Z
UID:10004692-1647367200-1647374400@www.khg-in-bayreuth.de
SUMMARY:„gehörT“ – Junge Alltagsexerzitien // Everyday retreat for young people
DESCRIPTION:Ein paar Minuten Stille und Meditation am Tag und ein gemeinsamer Abend mit Austausch und gemeinsamem Kochen am Abend: Das sind ökumenische Alltagsexerzitien für junge Menschen. \nUnter dem Motto “gehörT” wollen wir mit Euch eine besondere Fastenzeit erleben. Ihr bekommt Bilder und Anregungen für einen täglichen Moment der Stille\, und wir treffen uns jeden Dienstagabend in der Fastenzeit um 18.00 Uhr (abwechselnd in der KHG und in der ESG) zum gegenseitigen Austausch in Form eines kleinen Gottesdienstes. Anschließend kochen wir gemeinsam. \nWeitere Infos und Anmeldung bei Eurer Hochschulseelsorgerin Barbara: barbara.goeb@erzbistum-bamberg.de \n\nA few minutes of silence and meditation during the day and an evening of sharing and cooking together in the evening: these are ecumenical everyday retreats for young people. \nUnder the motto ” gehörT” (“heard” or “belongs”) we want to experience a special Lent with you. You will be given pictures and suggestions for a daily moment of silence\, and we will meet every Tuesday evening during Lent at 6.00 pm (alternately in the KHG and in the ESG) for a mutual exchange in the form of a small service. Afterwards we cook together. \nFurther information and registration with your university chaplain Barbara: barbara.goeb@erzbistum-bamberg.de \n 
URL:https://www.khg-in-bayreuth.de/event/gehoert-junge-alltagsexerzitien-everyday-retreat-for-young-people/2022-03-15/
LOCATION:KHG Bayreuth\, Emil-Warburg-Weg 17\, KHG Bayreuth\, 95447\, Deutschland
END:VEVENT
BEGIN:VEVENT
DTSTART;TZID=UTC:20220321T170000
DTEND;TZID=UTC:20220321T190000
DTSTAMP:20260424T001429
CREATED:20190228T173552Z
LAST-MODIFIED:20190228T173552Z
UID:10003920-1647882000-1647889200@www.khg-in-bayreuth.de
SUMMARY:Bibelteilen // sharing the bible
DESCRIPTION:– English version below – \nNach der Methode des “Bibelteilens in sieben Schritten” bringen wir biblische Texte zusammen mit eigenen Lebenserfahrungen\, Fragen und Zweifeln. So begeben wir uns gemeinsam auf die Suche: Was ist jetzt “dran” für mich/ für uns? Wie kann ich das\, was ich denke\, fühle und erlebe\, anhand der biblischen Überlieferung deuten? Was ist jetzt zu tun?\nHerzliche Einladung an alle Gläubigen\, Agnostiker\, Atheisten\, Sinnsucher/-innen und Leute\, die etwas bewegen wollen! \nJeden Montag um 17.00 Uhr in der KHG (Frühstücksecke im Untergeschoss – ganz hinten). \n– English version – \nFollowing the “sharing the bible in seven steps” method\, we combine biblical texts with personal experiences\, doubts and questions. Thus we engage on a shared quest: What is “due” for me/ for us now? How can I interpret my own reality in the light of the gospel? \nEveryone’s invited to share\, regardless of culture or religon. \nEvery Monday at 5 pm in the KHG (breakfast table in the basement – at the rear).
URL:https://www.khg-in-bayreuth.de/event/bibelteilen-sharing-the-bible-22/2022-03-21/
END:VEVENT
BEGIN:VEVENT
DTSTART;TZID=Europe/Berlin:20220321T193000
DTEND;TZID=Europe/Berlin:20220321T200000
DTSTAMP:20260424T001429
CREATED:20220302T121250Z
LAST-MODIFIED:20220302T121305Z
UID:10004705-1647891000-1647892800@www.khg-in-bayreuth.de
SUMMARY:Pray for Ukraine - Friedensgebet
DESCRIPTION:Wir treffen uns zu einem ökumenischen Friedensgebet mit der ESG im Uni-Rondell auf dem Campus.\nBringt gerne ein Windlicht mit! \n______________________________________________________________________ \nWe meet for an ecumenical peace prayer with the ESG at the roundabout on Uni Bayreuth campus.\nBring a hand lantern\, if possible!
URL:https://www.khg-in-bayreuth.de/event/pray-for-ukraine-friedensgebet-2/2022-03-21/
LOCATION:KHG Bayreuth\, Emil-Warburg-Weg 17\, KHG Bayreuth\, 95447\, Deutschland
END:VEVENT
BEGIN:VEVENT
DTSTART;TZID=Europe/Berlin:20220322T180000
DTEND;TZID=Europe/Berlin:20220322T200000
DTSTAMP:20260424T001429
CREATED:20220208T162032Z
LAST-MODIFIED:20220208T162127Z
UID:10004693-1647972000-1647979200@www.khg-in-bayreuth.de
SUMMARY:„gehörT“ – Junge Alltagsexerzitien // Everyday retreat for young people
DESCRIPTION:Ein paar Minuten Stille und Meditation am Tag und ein gemeinsamer Abend mit Austausch und gemeinsamem Kochen am Abend: Das sind ökumenische Alltagsexerzitien für junge Menschen. \nUnter dem Motto “gehörT” wollen wir mit Euch eine besondere Fastenzeit erleben. Ihr bekommt Bilder und Anregungen für einen täglichen Moment der Stille\, und wir treffen uns jeden Dienstagabend in der Fastenzeit um 18.00 Uhr (abwechselnd in der KHG und in der ESG) zum gegenseitigen Austausch in Form eines kleinen Gottesdienstes. Anschließend kochen wir gemeinsam. \nWeitere Infos und Anmeldung bei Eurer Hochschulseelsorgerin Barbara: barbara.goeb@erzbistum-bamberg.de \n\nA few minutes of silence and meditation during the day and an evening of sharing and cooking together in the evening: these are ecumenical everyday retreats for young people. \nUnder the motto ” gehörT” (“heard” or “belongs”) we want to experience a special Lent with you. You will be given pictures and suggestions for a daily moment of silence\, and we will meet every Tuesday evening during Lent at 6.00 pm (alternately in the KHG and in the ESG) for a mutual exchange in the form of a small service. Afterwards we cook together. \nFurther information and registration with your university chaplain Barbara: barbara.goeb@erzbistum-bamberg.de \n 
URL:https://www.khg-in-bayreuth.de/event/gehoert-junge-alltagsexerzitien-everyday-retreat-for-young-people/2022-03-22/
LOCATION:KHG Bayreuth\, Emil-Warburg-Weg 17\, KHG Bayreuth\, 95447\, Deutschland
END:VEVENT
BEGIN:VEVENT
DTSTART;TZID=UTC:20220328T170000
DTEND;TZID=UTC:20220328T190000
DTSTAMP:20260424T001429
CREATED:20190228T173552Z
LAST-MODIFIED:20190228T173552Z
UID:10003921-1648486800-1648494000@www.khg-in-bayreuth.de
SUMMARY:Bibelteilen // sharing the bible
DESCRIPTION:– English version below – \nNach der Methode des “Bibelteilens in sieben Schritten” bringen wir biblische Texte zusammen mit eigenen Lebenserfahrungen\, Fragen und Zweifeln. So begeben wir uns gemeinsam auf die Suche: Was ist jetzt “dran” für mich/ für uns? Wie kann ich das\, was ich denke\, fühle und erlebe\, anhand der biblischen Überlieferung deuten? Was ist jetzt zu tun?\nHerzliche Einladung an alle Gläubigen\, Agnostiker\, Atheisten\, Sinnsucher/-innen und Leute\, die etwas bewegen wollen! \nJeden Montag um 17.00 Uhr in der KHG (Frühstücksecke im Untergeschoss – ganz hinten). \n– English version – \nFollowing the “sharing the bible in seven steps” method\, we combine biblical texts with personal experiences\, doubts and questions. Thus we engage on a shared quest: What is “due” for me/ for us now? How can I interpret my own reality in the light of the gospel? \nEveryone’s invited to share\, regardless of culture or religon. \nEvery Monday at 5 pm in the KHG (breakfast table in the basement – at the rear).
URL:https://www.khg-in-bayreuth.de/event/bibelteilen-sharing-the-bible-22/2022-03-28/
END:VEVENT
BEGIN:VEVENT
DTSTART;TZID=Europe/Berlin:20220328T193000
DTEND;TZID=Europe/Berlin:20220328T200000
DTSTAMP:20260424T001429
CREATED:20220302T121250Z
LAST-MODIFIED:20220302T121305Z
UID:10004706-1648495800-1648497600@www.khg-in-bayreuth.de
SUMMARY:Pray for Ukraine - Friedensgebet
DESCRIPTION:Wir treffen uns zu einem ökumenischen Friedensgebet mit der ESG im Uni-Rondell auf dem Campus.\nBringt gerne ein Windlicht mit! \n______________________________________________________________________ \nWe meet for an ecumenical peace prayer with the ESG at the roundabout on Uni Bayreuth campus.\nBring a hand lantern\, if possible!
URL:https://www.khg-in-bayreuth.de/event/pray-for-ukraine-friedensgebet-2/2022-03-28/
LOCATION:KHG Bayreuth\, Emil-Warburg-Weg 17\, KHG Bayreuth\, 95447\, Deutschland
END:VEVENT
BEGIN:VEVENT
DTSTART;TZID=Europe/Berlin:20220329T180000
DTEND;TZID=Europe/Berlin:20220329T200000
DTSTAMP:20260424T001429
CREATED:20220208T162032Z
LAST-MODIFIED:20220208T162127Z
UID:10004694-1648576800-1648584000@www.khg-in-bayreuth.de
SUMMARY:„gehörT“ – Junge Alltagsexerzitien // Everyday retreat for young people
DESCRIPTION:Ein paar Minuten Stille und Meditation am Tag und ein gemeinsamer Abend mit Austausch und gemeinsamem Kochen am Abend: Das sind ökumenische Alltagsexerzitien für junge Menschen. \nUnter dem Motto “gehörT” wollen wir mit Euch eine besondere Fastenzeit erleben. Ihr bekommt Bilder und Anregungen für einen täglichen Moment der Stille\, und wir treffen uns jeden Dienstagabend in der Fastenzeit um 18.00 Uhr (abwechselnd in der KHG und in der ESG) zum gegenseitigen Austausch in Form eines kleinen Gottesdienstes. Anschließend kochen wir gemeinsam. \nWeitere Infos und Anmeldung bei Eurer Hochschulseelsorgerin Barbara: barbara.goeb@erzbistum-bamberg.de \n\nA few minutes of silence and meditation during the day and an evening of sharing and cooking together in the evening: these are ecumenical everyday retreats for young people. \nUnder the motto ” gehörT” (“heard” or “belongs”) we want to experience a special Lent with you. You will be given pictures and suggestions for a daily moment of silence\, and we will meet every Tuesday evening during Lent at 6.00 pm (alternately in the KHG and in the ESG) for a mutual exchange in the form of a small service. Afterwards we cook together. \nFurther information and registration with your university chaplain Barbara: barbara.goeb@erzbistum-bamberg.de \n 
URL:https://www.khg-in-bayreuth.de/event/gehoert-junge-alltagsexerzitien-everyday-retreat-for-young-people/2022-03-29/
LOCATION:KHG Bayreuth\, Emil-Warburg-Weg 17\, KHG Bayreuth\, 95447\, Deutschland
END:VEVENT
END:VCALENDAR