BEGIN:VCALENDAR
VERSION:2.0
PRODID:-//KHG Bayreuth - ECPv6.15.3//NONSGML v1.0//EN
CALSCALE:GREGORIAN
METHOD:PUBLISH
X-ORIGINAL-URL:https://www.khg-in-bayreuth.de
X-WR-CALDESC:Veranstaltungen für KHG Bayreuth
REFRESH-INTERVAL;VALUE=DURATION:PT1H
X-Robots-Tag:noindex
X-PUBLISHED-TTL:PT1H
BEGIN:VTIMEZONE
TZID:UTC
BEGIN:STANDARD
TZOFFSETFROM:+0000
TZOFFSETTO:+0000
TZNAME:UTC
DTSTART:20220101T000000
END:STANDARD
END:VTIMEZONE
BEGIN:VTIMEZONE
TZID:Europe/Berlin
BEGIN:DAYLIGHT
TZOFFSETFROM:+0100
TZOFFSETTO:+0200
TZNAME:CEST
DTSTART:20220327T010000
END:DAYLIGHT
BEGIN:STANDARD
TZOFFSETFROM:+0200
TZOFFSETTO:+0100
TZNAME:CET
DTSTART:20221030T010000
END:STANDARD
END:VTIMEZONE
BEGIN:VEVENT
DTSTART;TZID=UTC:20220404T170000
DTEND;TZID=UTC:20220404T190000
DTSTAMP:20260423T224059
CREATED:20190228T173552Z
LAST-MODIFIED:20190228T173552Z
UID:10003922-1649091600-1649098800@www.khg-in-bayreuth.de
SUMMARY:Bibelteilen // sharing the bible
DESCRIPTION:– English version below – \nNach der Methode des “Bibelteilens in sieben Schritten” bringen wir biblische Texte zusammen mit eigenen Lebenserfahrungen\, Fragen und Zweifeln. So begeben wir uns gemeinsam auf die Suche: Was ist jetzt “dran” für mich/ für uns? Wie kann ich das\, was ich denke\, fühle und erlebe\, anhand der biblischen Überlieferung deuten? Was ist jetzt zu tun?\nHerzliche Einladung an alle Gläubigen\, Agnostiker\, Atheisten\, Sinnsucher/-innen und Leute\, die etwas bewegen wollen! \nJeden Montag um 17.00 Uhr in der KHG (Frühstücksecke im Untergeschoss – ganz hinten). \n– English version – \nFollowing the “sharing the bible in seven steps” method\, we combine biblical texts with personal experiences\, doubts and questions. Thus we engage on a shared quest: What is “due” for me/ for us now? How can I interpret my own reality in the light of the gospel? \nEveryone’s invited to share\, regardless of culture or religon. \nEvery Monday at 5 pm in the KHG (breakfast table in the basement – at the rear).
URL:https://www.khg-in-bayreuth.de/event/bibelteilen-sharing-the-bible-22/2022-04-04/
END:VEVENT
BEGIN:VEVENT
DTSTART;TZID=Europe/Berlin:20220404T193000
DTEND;TZID=Europe/Berlin:20220404T200000
DTSTAMP:20260423T224059
CREATED:20220302T121250Z
LAST-MODIFIED:20220302T121305Z
UID:10004707-1649100600-1649102400@www.khg-in-bayreuth.de
SUMMARY:Pray for Ukraine - Friedensgebet
DESCRIPTION:Wir treffen uns zu einem ökumenischen Friedensgebet mit der ESG im Uni-Rondell auf dem Campus.\nBringt gerne ein Windlicht mit! \n______________________________________________________________________ \nWe meet for an ecumenical peace prayer with the ESG at the roundabout on Uni Bayreuth campus.\nBring a hand lantern\, if possible!
URL:https://www.khg-in-bayreuth.de/event/pray-for-ukraine-friedensgebet-2/2022-04-04/
LOCATION:KHG Bayreuth\, Emil-Warburg-Weg 17\, KHG Bayreuth\, 95447\, Deutschland
END:VEVENT
BEGIN:VEVENT
DTSTART;TZID=Europe/Berlin:20220405T180000
DTEND;TZID=Europe/Berlin:20220405T200000
DTSTAMP:20260423T224059
CREATED:20220208T162032Z
LAST-MODIFIED:20220208T162127Z
UID:10004695-1649181600-1649188800@www.khg-in-bayreuth.de
SUMMARY:„gehörT“ – Junge Alltagsexerzitien // Everyday retreat for young people
DESCRIPTION:Ein paar Minuten Stille und Meditation am Tag und ein gemeinsamer Abend mit Austausch und gemeinsamem Kochen am Abend: Das sind ökumenische Alltagsexerzitien für junge Menschen. \nUnter dem Motto “gehörT” wollen wir mit Euch eine besondere Fastenzeit erleben. Ihr bekommt Bilder und Anregungen für einen täglichen Moment der Stille\, und wir treffen uns jeden Dienstagabend in der Fastenzeit um 18.00 Uhr (abwechselnd in der KHG und in der ESG) zum gegenseitigen Austausch in Form eines kleinen Gottesdienstes. Anschließend kochen wir gemeinsam. \nWeitere Infos und Anmeldung bei Eurer Hochschulseelsorgerin Barbara: barbara.goeb@erzbistum-bamberg.de \n\nA few minutes of silence and meditation during the day and an evening of sharing and cooking together in the evening: these are ecumenical everyday retreats for young people. \nUnder the motto ” gehörT” (“heard” or “belongs”) we want to experience a special Lent with you. You will be given pictures and suggestions for a daily moment of silence\, and we will meet every Tuesday evening during Lent at 6.00 pm (alternately in the KHG and in the ESG) for a mutual exchange in the form of a small service. Afterwards we cook together. \nFurther information and registration with your university chaplain Barbara: barbara.goeb@erzbistum-bamberg.de \n 
URL:https://www.khg-in-bayreuth.de/event/gehoert-junge-alltagsexerzitien-everyday-retreat-for-young-people/2022-04-05/
LOCATION:KHG Bayreuth\, Emil-Warburg-Weg 17\, KHG Bayreuth\, 95447\, Deutschland
END:VEVENT
BEGIN:VEVENT
DTSTART;TZID=UTC:20220411T170000
DTEND;TZID=UTC:20220411T190000
DTSTAMP:20260423T224059
CREATED:20190228T173552Z
LAST-MODIFIED:20190228T173552Z
UID:10003923-1649696400-1649703600@www.khg-in-bayreuth.de
SUMMARY:Bibelteilen // sharing the bible
DESCRIPTION:– English version below – \nNach der Methode des “Bibelteilens in sieben Schritten” bringen wir biblische Texte zusammen mit eigenen Lebenserfahrungen\, Fragen und Zweifeln. So begeben wir uns gemeinsam auf die Suche: Was ist jetzt “dran” für mich/ für uns? Wie kann ich das\, was ich denke\, fühle und erlebe\, anhand der biblischen Überlieferung deuten? Was ist jetzt zu tun?\nHerzliche Einladung an alle Gläubigen\, Agnostiker\, Atheisten\, Sinnsucher/-innen und Leute\, die etwas bewegen wollen! \nJeden Montag um 17.00 Uhr in der KHG (Frühstücksecke im Untergeschoss – ganz hinten). \n– English version – \nFollowing the “sharing the bible in seven steps” method\, we combine biblical texts with personal experiences\, doubts and questions. Thus we engage on a shared quest: What is “due” for me/ for us now? How can I interpret my own reality in the light of the gospel? \nEveryone’s invited to share\, regardless of culture or religon. \nEvery Monday at 5 pm in the KHG (breakfast table in the basement – at the rear).
URL:https://www.khg-in-bayreuth.de/event/bibelteilen-sharing-the-bible-22/2022-04-11/
END:VEVENT
BEGIN:VEVENT
DTSTART;TZID=Europe/Berlin:20220411T190000
DTEND;TZID=Europe/Berlin:20220411T213000
DTSTAMP:20260423T224059
CREATED:20220221T143830Z
LAST-MODIFIED:20220321T071722Z
UID:10004696-1649703600-1649712600@www.khg-in-bayreuth.de
SUMMARY:Online-Vortrag: "Ohne Energie läuft nichts!?"
DESCRIPTION:Impulse zum Umgang mit unserem Energiehunger\nmit Sebastian Zink\, Umweltreferent des Erzbistums Bamberg \nDer Vortrag ist Teil der Veranstaltungsreihe „7 Wochen ohne Stillstand“. \nOhne Energie geht gar nichts in unserer modernen Welt – kein Licht\, keine Heizung\, kein Auto\, kein Internet\, … Energie in ausreichender Menge zur Verfügung zu haben\, um unser Leben und unsere Gesellschaft am Laufen zu halten ist eine der zentralen Herausforderungen der nächsten Jahre. Denn die Ressourcen schwinden oder schaden unserem Klima\, erneuerbare Energien aber brauchen Platz und kosten. Wäre es da nicht Zeit\, darüber nachzudenken\, wo wir Energie sparen können\, Verschwendung eindämmen? \nIm Vortrag werden die Herausforderungen skizziert\, vor denen wir im Energiebereich stehen sowie (große und kleine) Ideen für einen bewussteren Umgang mit unserem Energieverbrauch vorgestellt. \nAnmeldung nicht erforderlich. Man kann sich am Veranstaltungstag direkt über den Link auf der Homepage der KEB Bayreuth (www.keb-bayreuth.de) zuschalten. \nDer Vortrag ist kostenfrei.
URL:https://www.khg-in-bayreuth.de/event/online-vortrag-ohne-energie-laeuft-nichts/
LOCATION:KHG Bayreuth\, Emil-Warburg-Weg 17\, KHG Bayreuth\, 95447\, Deutschland
END:VEVENT
BEGIN:VEVENT
DTSTART;TZID=Europe/Berlin:20220411T193000
DTEND;TZID=Europe/Berlin:20220411T200000
DTSTAMP:20260423T224059
CREATED:20220302T121250Z
LAST-MODIFIED:20220302T121305Z
UID:10004708-1649705400-1649707200@www.khg-in-bayreuth.de
SUMMARY:Pray for Ukraine - Friedensgebet
DESCRIPTION:Wir treffen uns zu einem ökumenischen Friedensgebet mit der ESG im Uni-Rondell auf dem Campus.\nBringt gerne ein Windlicht mit! \n______________________________________________________________________ \nWe meet for an ecumenical peace prayer with the ESG at the roundabout on Uni Bayreuth campus.\nBring a hand lantern\, if possible!
URL:https://www.khg-in-bayreuth.de/event/pray-for-ukraine-friedensgebet-2/2022-04-11/
LOCATION:KHG Bayreuth\, Emil-Warburg-Weg 17\, KHG Bayreuth\, 95447\, Deutschland
END:VEVENT
BEGIN:VEVENT
DTSTART;TZID=UTC:20220418T170000
DTEND;TZID=UTC:20220418T190000
DTSTAMP:20260423T224059
CREATED:20190228T173552Z
LAST-MODIFIED:20190228T173552Z
UID:10003924-1650301200-1650308400@www.khg-in-bayreuth.de
SUMMARY:Bibelteilen // sharing the bible
DESCRIPTION:– English version below – \nNach der Methode des “Bibelteilens in sieben Schritten” bringen wir biblische Texte zusammen mit eigenen Lebenserfahrungen\, Fragen und Zweifeln. So begeben wir uns gemeinsam auf die Suche: Was ist jetzt “dran” für mich/ für uns? Wie kann ich das\, was ich denke\, fühle und erlebe\, anhand der biblischen Überlieferung deuten? Was ist jetzt zu tun?\nHerzliche Einladung an alle Gläubigen\, Agnostiker\, Atheisten\, Sinnsucher/-innen und Leute\, die etwas bewegen wollen! \nJeden Montag um 17.00 Uhr in der KHG (Frühstücksecke im Untergeschoss – ganz hinten). \n– English version – \nFollowing the “sharing the bible in seven steps” method\, we combine biblical texts with personal experiences\, doubts and questions. Thus we engage on a shared quest: What is “due” for me/ for us now? How can I interpret my own reality in the light of the gospel? \nEveryone’s invited to share\, regardless of culture or religon. \nEvery Monday at 5 pm in the KHG (breakfast table in the basement – at the rear).
URL:https://www.khg-in-bayreuth.de/event/bibelteilen-sharing-the-bible-22/2022-04-18/
END:VEVENT
BEGIN:VEVENT
DTSTART;TZID=Europe/Berlin:20220418T193000
DTEND;TZID=Europe/Berlin:20220418T200000
DTSTAMP:20260423T224059
CREATED:20220302T121250Z
LAST-MODIFIED:20220302T121305Z
UID:10004709-1650310200-1650312000@www.khg-in-bayreuth.de
SUMMARY:Pray for Ukraine - Friedensgebet
DESCRIPTION:Wir treffen uns zu einem ökumenischen Friedensgebet mit der ESG im Uni-Rondell auf dem Campus.\nBringt gerne ein Windlicht mit! \n______________________________________________________________________ \nWe meet for an ecumenical peace prayer with the ESG at the roundabout on Uni Bayreuth campus.\nBring a hand lantern\, if possible!
URL:https://www.khg-in-bayreuth.de/event/pray-for-ukraine-friedensgebet-2/2022-04-18/
LOCATION:KHG Bayreuth\, Emil-Warburg-Weg 17\, KHG Bayreuth\, 95447\, Deutschland
END:VEVENT
BEGIN:VEVENT
DTSTART;TZID=Europe/Berlin:20220421T201500
DTEND;TZID=Europe/Berlin:20220421T230000
DTSTAMP:20260423T224059
CREATED:20220413T095018Z
LAST-MODIFIED:20220422T065018Z
UID:10004781-1650572100-1650582000@www.khg-in-bayreuth.de
SUMMARY:Swahili Chor Bayreuth // Suahili Choir
DESCRIPTION:Lust auf gemeinsames Singen und Bewegen? Unser „Swahili Chor Bayreuth“ singt und tanzt christliche und weltliche Lieder in Swahili\, aber auch in anderen afrikanischen Sprachen. Neueinsteiger*innen herzlich willkommen! \n\nWould you like to sing and move together? Our “Swahili Choir Bayreuth” sings and dances Christian and secular songs in Swahili\, but also in other African languages. Newcomers are welcome
URL:https://www.khg-in-bayreuth.de/event/swahili-chor-bayreuth-suahili-choir/2022-04-21/
LOCATION:KHG Bayreuth\, Emil-Warburg-Weg 17\, KHG Bayreuth\, 95447\, Deutschland
END:VEVENT
BEGIN:VEVENT
DTSTART;TZID=Europe/Berlin:20220424T140000
DTEND;TZID=Europe/Berlin:20220424T200000
DTSTAMP:20260423T224059
CREATED:20220223T121300Z
LAST-MODIFIED:20220422T062118Z
UID:10004697-1650808800-1650830400@www.khg-in-bayreuth.de
SUMMARY:Deutschland for beginners
DESCRIPTION:New in Germany? A humorous introduction for international students to get to know each other (mostly in English). You can expect: Information about Germany and its different cultural regions\, a quiz\, games – and of course delicious German food!You can get a lively impression here: https://www.youtube.com/watch?v=A7Wm90T5-gc \nThis is the crowning final to the Welcome Week organised by ESN (Erasmus Students‘ Network).
URL:https://www.khg-in-bayreuth.de/event/deutschland-for-beginners-7/
LOCATION:KHG Bayreuth\, Emil-Warburg-Weg 17\, KHG Bayreuth\, 95447\, Deutschland
END:VEVENT
BEGIN:VEVENT
DTSTART;TZID=UTC:20220425T170000
DTEND;TZID=UTC:20220425T190000
DTSTAMP:20260423T224059
CREATED:20190228T173552Z
LAST-MODIFIED:20190228T173552Z
UID:10003925-1650906000-1650913200@www.khg-in-bayreuth.de
SUMMARY:Bibelteilen // sharing the bible
DESCRIPTION:– English version below – \nNach der Methode des “Bibelteilens in sieben Schritten” bringen wir biblische Texte zusammen mit eigenen Lebenserfahrungen\, Fragen und Zweifeln. So begeben wir uns gemeinsam auf die Suche: Was ist jetzt “dran” für mich/ für uns? Wie kann ich das\, was ich denke\, fühle und erlebe\, anhand der biblischen Überlieferung deuten? Was ist jetzt zu tun?\nHerzliche Einladung an alle Gläubigen\, Agnostiker\, Atheisten\, Sinnsucher/-innen und Leute\, die etwas bewegen wollen! \nJeden Montag um 17.00 Uhr in der KHG (Frühstücksecke im Untergeschoss – ganz hinten). \n– English version – \nFollowing the “sharing the bible in seven steps” method\, we combine biblical texts with personal experiences\, doubts and questions. Thus we engage on a shared quest: What is “due” for me/ for us now? How can I interpret my own reality in the light of the gospel? \nEveryone’s invited to share\, regardless of culture or religon. \nEvery Monday at 5 pm in the KHG (breakfast table in the basement – at the rear).
URL:https://www.khg-in-bayreuth.de/event/bibelteilen-sharing-the-bible-22/2022-04-25/
END:VEVENT
BEGIN:VEVENT
DTSTART;TZID=Europe/Berlin:20220425T180000
DTEND;TZID=Europe/Berlin:20220425T210000
DTSTAMP:20260423T224059
CREATED:20220413T094456Z
LAST-MODIFIED:20220413T094521Z
UID:10004766-1650909600-1650920400@www.khg-in-bayreuth.de
SUMMARY:Theatergruppe "Die Schwarzen Schafe" // Theatre group
DESCRIPTION:Unsere Theatergruppe “Die schwarzen Schafe” trifft sich jeden Montag. Bis zum Ende des Semesters soll wieder ein Stück geprobt und inszeniert werden. Neueinsteiger:innen willkommen! \nOur theatre group “The Black Sheep” meets every Monday. We plan to rehearse and stage another play by the end of the semester. New members are welcome!
URL:https://www.khg-in-bayreuth.de/event/theatergruppe-die-schwarzen-schafe-theatre-group-3/2022-04-25/
LOCATION:KHG Bayreuth\, Emil-Warburg-Weg 17\, KHG Bayreuth\, 95447\, Deutschland
END:VEVENT
BEGIN:VEVENT
DTSTART;TZID=Europe/Berlin:20220425T193000
DTEND;TZID=Europe/Berlin:20220425T200000
DTSTAMP:20260423T224059
CREATED:20220422T062721Z
LAST-MODIFIED:20220422T062801Z
UID:10004812-1650915000-1650916800@www.khg-in-bayreuth.de
SUMMARY:Ökumenisches Friedensgebet für die Ukraine // Ecumenical Prayer for Peace for Ukraine
DESCRIPTION:Wir treffen uns bis auf weiteres jeden Montag zu einem einfachen Friedensgebet mit Taizé-Gesängen auf der KHG-Wiese\, um für Frieden in der Ukraine und auf der Welt zu beten. \nUntil further notice we will meet every Monday for a simple prayer for peace with Taizé songs on the KHG meadow to pray for peace in Ukraine and the world.
URL:https://www.khg-in-bayreuth.de/event/oekumenisches-friedensgebet-fuer-die-ukraine-ecumenical-prayer-for-peace-for-ukraine/2022-04-25/
LOCATION:KHG Bayreuth\, Emil-Warburg-Weg 17\, KHG Bayreuth\, 95447\, Deutschland
END:VEVENT
BEGIN:VEVENT
DTSTART;TZID=Europe/Berlin:20220426T201500
DTEND;TZID=Europe/Berlin:20220426T220000
DTSTAMP:20260423T224059
CREATED:20220228T135334Z
LAST-MODIFIED:20220321T142117Z
UID:10004700-1651004100-1651010400@www.khg-in-bayreuth.de
SUMMARY:Kneipenquiz // PubQuiz
DESCRIPTION:Herzliche Einladung zum Kneipenquiz. Trumpft mit Allgemein- und Nerd-Wissen in 7 verschiedenen Kategorien. Angestoßen wird in der KHG. \nCordial invitation to the pub quiz. Trumps with general and nerd knowledge in 7 different categories. The toast will be held in the KHG.
URL:https://www.khg-in-bayreuth.de/event/pubquiz/
LOCATION:KHG Bayreuth\, Emil-Warburg-Weg 17\, KHG Bayreuth\, 95447\, Deutschland
END:VEVENT
BEGIN:VEVENT
DTSTART;TZID=Europe/Berlin:20220427T120000
DTEND;TZID=Europe/Berlin:20220427T123000
DTSTAMP:20260423T224059
CREATED:20220330T095549Z
LAST-MODIFIED:20220330T104757Z
UID:10004732-1651060800-1651062600@www.khg-in-bayreuth.de
SUMMARY:Mittagspause für Leib und Seele // Lunch break for body and soul
DESCRIPTION:Jeden Mittwoch feiern wir die Mitte der Woche mit einer besonderen Mittagspause: Wir treffen uns um 12.00 Uhr in der KHG-Kapelle zum Mittagsgebet. Anschließend löffeln wir gemeinsam vegetarische Suppe. \nWer Lust hat\, beim Kochen der Suppe zu helfen\, darf gerne vorher (ab ca. 11.00 Uhr) in der KHG-Küche vorbeikommen. Auch eigene Rezepte sind gerne gesehen! \n\nEvery Wednesday we celebrate the middle of the week with a special lunch break: we meet  at 12.00 in the KHG chapel for midday prayer. Afterwards we spoon vegetarian soup together. \nAnyone who would like to help make the soup is welcome to come to the KHG kitchen beforehand (from about 11.00 a.m.). Your own recipes are also welcome!
URL:https://www.khg-in-bayreuth.de/event/mittagspause-fuer-leib-und-seele-lunch-break-for-body-and-soul/
LOCATION:KHG Bayreuth\, Emil-Warburg-Weg 17\, KHG Bayreuth\, 95447\, Deutschland
END:VEVENT
BEGIN:VEVENT
DTSTART;TZID=Europe/Berlin:20220427T200000
DTEND;TZID=Europe/Berlin:20220427T213000
DTSTAMP:20260423T224059
CREATED:20220228T135556Z
LAST-MODIFIED:20220422T063216Z
UID:10004701-1651089600-1651095000@www.khg-in-bayreuth.de
SUMMARY:Ökumenischer Semesteranfangsgottesdienst // Ecumenical start-of-term service
DESCRIPTION:Wir eröffnen das Semester mit einem gemeinsamen Gottesdienst in der Stadtkirche. Begleiten wird uns unser ökumenischer Gospelchor Bayreuth. Natürlich gibt es im Anschluss wieder Pizza für alle – diesmal in der ESG! \n\nWe open the semester with a joint service in the Stadtkirche. We will be accompanied by our ecumenical Gospel Choir Bayreuth. Of course there will be pizza for everyone afterwards – this time in the ESG!
URL:https://www.khg-in-bayreuth.de/event/oekumenischer-semesteranfangsgottesdienst-ecumenical-start-of-term-service-4/
LOCATION:Stadtkirche\, Kanzleistr. 9\, Bayreuth\, 95444\, Deutschland
END:VEVENT
BEGIN:VEVENT
DTSTART;TZID=Europe/Berlin:20220428T133000
DTEND;TZID=Europe/Berlin:20220428T150000
DTSTAMP:20260423T224059
CREATED:20220413T093419Z
LAST-MODIFIED:20220422T063343Z
UID:10004752-1651152600-1651158000@www.khg-in-bayreuth.de
SUMMARY:International Bible group
DESCRIPTION:A short break in the week for spiritual empowerment. We’re going to use the method of “bible sharing”: reading a biblical text and meditating on it. What has it to say for me\, for my life\, but also for us as a community?
URL:https://www.khg-in-bayreuth.de/event/international-bible-group-2/2022-04-28/
LOCATION:KHG Bayreuth\, Emil-Warburg-Weg 17\, KHG Bayreuth\, 95447\, Deutschland
END:VEVENT
BEGIN:VEVENT
DTSTART;TZID=Europe/Berlin:20220428T162000
DTEND;TZID=Europe/Berlin:20220428T180000
DTSTAMP:20260423T224059
CREATED:20220422T063838Z
LAST-MODIFIED:20220422T063909Z
UID:10004818-1651162800-1651168800@www.khg-in-bayreuth.de
SUMMARY:KHG-Café //
DESCRIPTION:Offener Treff\, besonders auch für internationale Studierende. \n\nOpen meeting\, especially for international students.
URL:https://www.khg-in-bayreuth.de/event/khg-cafe/2022-04-28/
LOCATION:KHG Bayreuth\, Emil-Warburg-Weg 17\, KHG Bayreuth\, 95447\, Deutschland
END:VEVENT
BEGIN:VEVENT
DTSTART;TZID=Europe/Berlin:20220428T201500
DTEND;TZID=Europe/Berlin:20220428T230000
DTSTAMP:20260423T224059
CREATED:20220413T095018Z
LAST-MODIFIED:20220422T065018Z
UID:10004782-1651176900-1651186800@www.khg-in-bayreuth.de
SUMMARY:Swahili Chor Bayreuth // Suahili Choir
DESCRIPTION:Lust auf gemeinsames Singen und Bewegen? Unser „Swahili Chor Bayreuth“ singt und tanzt christliche und weltliche Lieder in Swahili\, aber auch in anderen afrikanischen Sprachen. Neueinsteiger*innen herzlich willkommen! \n\nWould you like to sing and move together? Our “Swahili Choir Bayreuth” sings and dances Christian and secular songs in Swahili\, but also in other African languages. Newcomers are welcome
URL:https://www.khg-in-bayreuth.de/event/swahili-chor-bayreuth-suahili-choir/2022-04-28/
LOCATION:KHG Bayreuth\, Emil-Warburg-Weg 17\, KHG Bayreuth\, 95447\, Deutschland
END:VEVENT
BEGIN:VEVENT
DTSTART;TZID=Europe/Berlin:20220429T183000
DTEND;TZID=Europe/Berlin:20220429T210000
DTSTAMP:20260423T224059
CREATED:20220420T112542Z
LAST-MODIFIED:20220422T071229Z
UID:10004809-1651257000-1651266000@www.khg-in-bayreuth.de
SUMMARY:Deutsch-chinesischer Stammtisch: Urlaubserfahrungen  // German-Chinese regulars' table: Holiday experiences
DESCRIPTION:Das Semester beginnt – und wir treffen uns wieder zum interkulturellen Austausch! Reisen kann in Deutschland und in China ganz unterschiedliche Bedeutungen haben. Wir tauschen uns über unsere Reise- und Urlaubserfahrungen aus und verbringen einen gemütlichen Abend an der Bar. \n\nThe semester begins – and we meet again for intercultural exchange! Travelling can have very different meanings in Germany and China. We exchange our travel and holiday experiences and spend a pleasant evening at the bar.
URL:https://www.khg-in-bayreuth.de/event/deutsch-chinesischer-stammtisch-6/
LOCATION:KHG Bayreuth\, Emil-Warburg-Weg 17\, KHG Bayreuth\, 95447\, Deutschland
END:VEVENT
BEGIN:VEVENT
DTSTART;VALUE=DATE:20220430
DTEND;VALUE=DATE:20220501
DTSTAMP:20260423T224059
CREATED:20220228T141139Z
LAST-MODIFIED:20220422T070617Z
UID:10004702-1651276800-1651363199@www.khg-in-bayreuth.de
SUMMARY:Bau eines Hochbeets vor der KHG // Building a raised bed in front of the KH
DESCRIPTION:Lust auf Gärtnern in Gemeinschaft? Wir bauen zusammen ein Hochbeet\, in dem wir den Sommer über leckere Kräuter und gesundes Gemüse anbauen. Nähere Infos und Anmeldung zum Mitmachen: barbara.goeb@erzbistum-bamberg.de \nDie Aktion ist ein Beitrag zur Klimawoche an der Universität Bayreuth. \n\nWould you like to garden in community? We will build a raised bed together in which we will grow delicious herbs and healthy vegetables throughout the summer. More information and registration: barbara.goeb@erzbistum-bamberg.de \nThe event is a contribution to Climate Week at the University of Bayreuth. \n 
URL:https://www.khg-in-bayreuth.de/event/klimadiskussion-wir-muessen-wenden-climate-discussion-we-must-turn-around/
LOCATION:KHG Bayreuth\, Emil-Warburg-Weg 17\, KHG Bayreuth\, 95447\, Deutschland
END:VEVENT
END:VCALENDAR