BEGIN:VCALENDAR
VERSION:2.0
PRODID:-//KHG Bayreuth - ECPv6.15.3//NONSGML v1.0//EN
CALSCALE:GREGORIAN
METHOD:PUBLISH
X-WR-CALNAME:KHG Bayreuth
X-ORIGINAL-URL:https://www.khg-in-bayreuth.de
X-WR-CALDESC:Veranstaltungen für KHG Bayreuth
REFRESH-INTERVAL;VALUE=DURATION:PT1H
X-Robots-Tag:noindex
X-PUBLISHED-TTL:PT1H
BEGIN:VTIMEZONE
TZID:UTC
BEGIN:STANDARD
TZOFFSETFROM:+0000
TZOFFSETTO:+0000
TZNAME:UTC
DTSTART:20220101T000000
END:STANDARD
END:VTIMEZONE
BEGIN:VTIMEZONE
TZID:Europe/Berlin
BEGIN:DAYLIGHT
TZOFFSETFROM:+0100
TZOFFSETTO:+0200
TZNAME:CEST
DTSTART:20220327T010000
END:DAYLIGHT
BEGIN:STANDARD
TZOFFSETFROM:+0200
TZOFFSETTO:+0100
TZNAME:CET
DTSTART:20221030T010000
END:STANDARD
END:VTIMEZONE
BEGIN:VEVENT
DTSTART;TZID=UTC:20220801T170000
DTEND;TZID=UTC:20220801T190000
DTSTAMP:20260423T132032
CREATED:20190228T173552Z
LAST-MODIFIED:20190228T173552Z
UID:10003939-1659373200-1659380400@www.khg-in-bayreuth.de
SUMMARY:Bibelteilen // sharing the bible
DESCRIPTION:– English version below – \nNach der Methode des “Bibelteilens in sieben Schritten” bringen wir biblische Texte zusammen mit eigenen Lebenserfahrungen\, Fragen und Zweifeln. So begeben wir uns gemeinsam auf die Suche: Was ist jetzt “dran” für mich/ für uns? Wie kann ich das\, was ich denke\, fühle und erlebe\, anhand der biblischen Überlieferung deuten? Was ist jetzt zu tun?\nHerzliche Einladung an alle Gläubigen\, Agnostiker\, Atheisten\, Sinnsucher/-innen und Leute\, die etwas bewegen wollen! \nJeden Montag um 17.00 Uhr in der KHG (Frühstücksecke im Untergeschoss – ganz hinten). \n– English version – \nFollowing the “sharing the bible in seven steps” method\, we combine biblical texts with personal experiences\, doubts and questions. Thus we engage on a shared quest: What is “due” for me/ for us now? How can I interpret my own reality in the light of the gospel? \nEveryone’s invited to share\, regardless of culture or religon. \nEvery Monday at 5 pm in the KHG (breakfast table in the basement – at the rear).
URL:https://www.khg-in-bayreuth.de/event/bibelteilen-sharing-the-bible-22/2022-08-01/
END:VEVENT
BEGIN:VEVENT
DTSTART;TZID=Europe/Berlin:20220801T180000
DTEND;TZID=Europe/Berlin:20220801T210000
DTSTAMP:20260423T132032
CREATED:20220413T094456Z
LAST-MODIFIED:20220413T094521Z
UID:10004780-1659376800-1659387600@www.khg-in-bayreuth.de
SUMMARY:Theatergruppe "Die Schwarzen Schafe" // Theatre group
DESCRIPTION:Unsere Theatergruppe “Die schwarzen Schafe” trifft sich jeden Montag. Bis zum Ende des Semesters soll wieder ein Stück geprobt und inszeniert werden. Neueinsteiger:innen willkommen! \nOur theatre group “The Black Sheep” meets every Monday. We plan to rehearse and stage another play by the end of the semester. New members are welcome!
URL:https://www.khg-in-bayreuth.de/event/theatergruppe-die-schwarzen-schafe-theatre-group-3/2022-08-01/
LOCATION:KHG Bayreuth\, Emil-Warburg-Weg 17\, KHG Bayreuth\, 95447\, Deutschland
END:VEVENT
BEGIN:VEVENT
DTSTART;TZID=Europe/Berlin:20220801T200000
DTEND;TZID=Europe/Berlin:20220801T220000
DTSTAMP:20260423T132032
CREATED:20220718T150334Z
LAST-MODIFIED:20220718T150334Z
UID:10004851-1659384000-1659391200@www.khg-in-bayreuth.de
SUMMARY:"Die Nibelungen. Eine Gaunerkomödie" (Theateraufführung der Schwarzen Schafe)
DESCRIPTION:Die Nibelungen – eine Gaunerkomödie von Danilo Fioriti \nSchon ist wieder ein Semester voller Theaterproben\, Probenwochenenden und Spaß vorbei. Unsere “Schwarzen Schafe” freuen sich\, euch dieses Semester endlich wieder bei uns in der KHG begrüßen zu dürfen. \nLasst euch von den drei Hexen des Odenwaldes bezaubern\, während sie nach Worms und Isenstein reisen und auf kurioseste Art und Weise versuchen\, den Nibelungenschatz an sich zu reißen! \nKartenverkauf: 18.-29.07.\, jeweils 11-14 Uhr vor der Unimensa\, kleines Online-Kontingent (siehe unten) \nVorstellungstermine: \nPremiere: 30.07.22\n2. Aufführung: 01.08.22\n3. Aufführung: 03.08.22\n4. Aufführung: 05.08.22\nDernière: 07.08.22 \n\nAufführungsbeginn jeweils 20 Uhr\nEinlass: 19:30 Uhr\nEintritt: 5€ \nWir freuen uns auf euch! \nInfos zu Kartenverkauf/ Online-Reservierungen: \nDer Verkaufsstand ist wie gewohnt vor der Mensa vom 18 Juli bis zum 29 Juli. Immer um 11 Uhr bis 14 Uhr.\nJedoch kann vorher ein kleines Kontingent an Karten über ein Online-Portal reserviert werden. Diese Reservierung ist in der ersten Woche möglich (Montag – Sonntag) und die Karten müssen bis Montag den 25. Juli abgeholt werden! Danach werden diese Karten wieder freigegeben! \nWenn ihr also nicht zum Ticketverkauf da seid\, kein Problem: reserviert euch möglichst schnell den Tag und sucht euch jemanden\, der die Karten für euch abholt. Bezahlung erfolgt erst vor Ort. Die Reservierung wird am 18. Juli um 11 Uhr freigeschaltet. Wenn es eine starke Nachfrage gibt werden wir eventuell nochmal Karten zum Reservieren freischalten. \nHier ist der Link zur Reservierung: Ticketleo – Die Nibelungen – Eine Gaunerkomödie \nNach der Premiere wird es traditionell ein kleines Buffet geben.\nDie Karten für die Derniere im Glashaus werden dort verkauft und nicht über uns! \nLeider ist Corona immer noch ein Thema. Wir bitten euch daher\, bei den Aufführungen Masken zu tragen.
URL:https://www.khg-in-bayreuth.de/event/die-nibelungen-eine-gaunerkomoedie-theaterauffuehrung-der-schwarzen-schafe-2/
LOCATION:Roncalli-Saal in der KHG
END:VEVENT
BEGIN:VEVENT
DTSTART;TZID=Europe/Berlin:20220803T200000
DTEND;TZID=Europe/Berlin:20220803T220000
DTSTAMP:20260423T132032
CREATED:20220718T150459Z
LAST-MODIFIED:20220718T150459Z
UID:10004852-1659556800-1659564000@www.khg-in-bayreuth.de
SUMMARY:"Die Nibelungen. Eine Gaunerkomödie" (Theateraufführung der Schwarzen Schafe)
DESCRIPTION:Die Nibelungen – eine Gaunerkomödie von Danilo Fioriti \nSchon ist wieder ein Semester voller Theaterproben\, Probenwochenenden und Spaß vorbei. Unsere “Schwarzen Schafe” freuen sich\, euch dieses Semester endlich wieder bei uns in der KHG begrüßen zu dürfen. \nLasst euch von den drei Hexen des Odenwaldes bezaubern\, während sie nach Worms und Isenstein reisen und auf kurioseste Art und Weise versuchen\, den Nibelungenschatz an sich zu reißen! \nKartenverkauf: 18.-29.07.\, jeweils 11-14 Uhr vor der Unimensa\, kleines Online-Kontingent (siehe unten) \nVorstellungstermine: \nPremiere: 30.07.22\n2. Aufführung: 01.08.22\n3. Aufführung: 03.08.22\n4. Aufführung: 05.08.22\nDernière: 07.08.22 \n\nAufführungsbeginn jeweils 20 Uhr\nEinlass: 19:30 Uhr\nEintritt: 5€ \nWir freuen uns auf euch! \nInfos zu Kartenverkauf/ Online-Reservierungen: \nDer Verkaufsstand ist wie gewohnt vor der Mensa vom 18 Juli bis zum 29 Juli. Immer um 11 Uhr bis 14 Uhr.\nJedoch kann vorher ein kleines Kontingent an Karten über ein Online-Portal reserviert werden. Diese Reservierung ist in der ersten Woche möglich (Montag – Sonntag) und die Karten müssen bis Montag den 25. Juli abgeholt werden! Danach werden diese Karten wieder freigegeben! \nWenn ihr also nicht zum Ticketverkauf da seid\, kein Problem: reserviert euch möglichst schnell den Tag und sucht euch jemanden\, der die Karten für euch abholt. Bezahlung erfolgt erst vor Ort. Die Reservierung wird am 18. Juli um 11 Uhr freigeschaltet. Wenn es eine starke Nachfrage gibt werden wir eventuell nochmal Karten zum Reservieren freischalten. \nHier ist der Link zur Reservierung: Ticketleo – Die Nibelungen – Eine Gaunerkomödie \nNach der Premiere wird es traditionell ein kleines Buffet geben.\nDie Karten für die Derniere im Glashaus werden dort verkauft und nicht über uns! \nLeider ist Corona immer noch ein Thema. Wir bitten euch daher\, bei den Aufführungen Masken zu tragen.
URL:https://www.khg-in-bayreuth.de/event/die-nibelungen-eine-gaunerkomoedie-theaterauffuehrung-der-schwarzen-schafe-3/
LOCATION:Roncalli-Saal in der KHG
END:VEVENT
BEGIN:VEVENT
DTSTART;TZID=Europe/Berlin:20220805T200000
DTEND;TZID=Europe/Berlin:20220805T220000
DTSTAMP:20260423T132032
CREATED:20220718T150554Z
LAST-MODIFIED:20220718T150554Z
UID:10004853-1659729600-1659736800@www.khg-in-bayreuth.de
SUMMARY:"Die Nibelungen. Eine Gaunerkomödie" (Theateraufführung der Schwarzen Schafe)
DESCRIPTION:Die Nibelungen – eine Gaunerkomödie von Danilo Fioriti \nSchon ist wieder ein Semester voller Theaterproben\, Probenwochenenden und Spaß vorbei. Unsere “Schwarzen Schafe” freuen sich\, euch dieses Semester endlich wieder bei uns in der KHG begrüßen zu dürfen. \nLasst euch von den drei Hexen des Odenwaldes bezaubern\, während sie nach Worms und Isenstein reisen und auf kurioseste Art und Weise versuchen\, den Nibelungenschatz an sich zu reißen! \nKartenverkauf: 18.-29.07.\, jeweils 11-14 Uhr vor der Unimensa\, kleines Online-Kontingent (siehe unten) \nVorstellungstermine: \nPremiere: 30.07.22\n2. Aufführung: 01.08.22\n3. Aufführung: 03.08.22\n4. Aufführung: 05.08.22\nDernière: 07.08.22 \n\nAufführungsbeginn jeweils 20 Uhr\nEinlass: 19:30 Uhr\nEintritt: 5€ \nWir freuen uns auf euch! \nInfos zu Kartenverkauf/ Online-Reservierungen: \nDer Verkaufsstand ist wie gewohnt vor der Mensa vom 18 Juli bis zum 29 Juli. Immer um 11 Uhr bis 14 Uhr.\nJedoch kann vorher ein kleines Kontingent an Karten über ein Online-Portal reserviert werden. Diese Reservierung ist in der ersten Woche möglich (Montag – Sonntag) und die Karten müssen bis Montag den 25. Juli abgeholt werden! Danach werden diese Karten wieder freigegeben! \nWenn ihr also nicht zum Ticketverkauf da seid\, kein Problem: reserviert euch möglichst schnell den Tag und sucht euch jemanden\, der die Karten für euch abholt. Bezahlung erfolgt erst vor Ort. Die Reservierung wird am 18. Juli um 11 Uhr freigeschaltet. Wenn es eine starke Nachfrage gibt werden wir eventuell nochmal Karten zum Reservieren freischalten. \nHier ist der Link zur Reservierung: Ticketleo – Die Nibelungen – Eine Gaunerkomödie \nNach der Premiere wird es traditionell ein kleines Buffet geben.\nDie Karten für die Derniere im Glashaus werden dort verkauft und nicht über uns! \nLeider ist Corona immer noch ein Thema. Wir bitten euch daher\, bei den Aufführungen Masken zu tragen.
URL:https://www.khg-in-bayreuth.de/event/die-nibelungen-eine-gaunerkomoedie-theaterauffuehrung-der-schwarzen-schafe-4/
LOCATION:Roncalli-Saal in der KHG
END:VEVENT
BEGIN:VEVENT
DTSTART;TZID=Europe/Berlin:20220807T200000
DTEND;TZID=Europe/Berlin:20220807T220000
DTSTAMP:20260423T132032
CREATED:20220718T150720Z
LAST-MODIFIED:20220718T153107Z
UID:10004854-1659902400-1659909600@www.khg-in-bayreuth.de
SUMMARY:"Die Nibelungen. Eine Gaunerkomödie" (Theateraufführung der Schwarzen Schafe)
DESCRIPTION:Die Nibelungen – eine Gaunerkomödie von Danilo Fioriti \nSchon ist wieder ein Semester voller Theaterproben\, Probenwochenenden und Spaß vorbei. Unsere “Schwarzen Schafe” freuen sich\, euch dieses Semester endlich wieder bei uns in der KHG begrüßen zu dürfen. \nLasst euch von den drei Hexen des Odenwaldes bezaubern\, während sie nach Worms und Isenstein reisen und auf kurioseste Art und Weise versuchen\, den Nibelungenschatz an sich zu reißen! \nKartenverkauf: 18.-29.07.\, jeweils 11-14 Uhr vor der Unimensa\, kleines Online-Kontingent (siehe unten) \nVorstellungstermine: \nPremiere: 30.07.22\n2. Aufführung: 01.08.22\n3. Aufführung: 03.08.22\n4. Aufführung: 05.08.22\nDernière: 07.08.22 \n\nAufführungsbeginn jeweils 20 Uhr\nEinlass: 19:30 Uhr\nEintritt: 5€ \nWir freuen uns auf euch! \nInfos zu Kartenverkauf/ Online-Reservierungen: \nDer Verkaufsstand ist wie gewohnt vor der Mensa vom 18 Juli bis zum 29 Juli. Immer um 11 Uhr bis 14 Uhr.\nJedoch kann vorher ein kleines Kontingent an Karten über ein Online-Portal reserviert werden. Diese Reservierung ist in der ersten Woche möglich (Montag – Sonntag) und die Karten müssen bis Montag den 25. Juli abgeholt werden! Danach werden diese Karten wieder freigegeben! \nWenn ihr also nicht zum Ticketverkauf da seid\, kein Problem: reserviert euch möglichst schnell den Tag und sucht euch jemanden\, der die Karten für euch abholt. Bezahlung erfolgt erst vor Ort. Die Reservierung wird am 18. Juli um 11 Uhr freigeschaltet. Wenn es eine starke Nachfrage gibt werden wir eventuell nochmal Karten zum Reservieren freischalten. \nHier ist der Link zur Reservierung: Ticketleo – Die Nibelungen – Eine Gaunerkomödie \nNach der Premiere wird es traditionell ein kleines Buffet geben.\nDie Karten für die Derniere im Glashaus werden dort verkauft und nicht über uns! \nLeider ist Corona immer noch ein Thema. Wir bitten euch daher\, bei den Aufführungen Masken zu tragen.
URL:https://www.khg-in-bayreuth.de/event/die-nibelungen-eine-gaunerkomoedie-theaterauffuehrung-der-schwarzen-schafe-5/
LOCATION:Glashaus\, Universitätsstr. 30 Baracke 6\, Bayreuth\, Uni Bayreuth\, Deutschland
END:VEVENT
BEGIN:VEVENT
DTSTART;TZID=UTC:20220808T170000
DTEND;TZID=UTC:20220808T190000
DTSTAMP:20260423T132032
CREATED:20190228T173552Z
LAST-MODIFIED:20190228T173552Z
UID:10003940-1659978000-1659985200@www.khg-in-bayreuth.de
SUMMARY:Bibelteilen // sharing the bible
DESCRIPTION:– English version below – \nNach der Methode des “Bibelteilens in sieben Schritten” bringen wir biblische Texte zusammen mit eigenen Lebenserfahrungen\, Fragen und Zweifeln. So begeben wir uns gemeinsam auf die Suche: Was ist jetzt “dran” für mich/ für uns? Wie kann ich das\, was ich denke\, fühle und erlebe\, anhand der biblischen Überlieferung deuten? Was ist jetzt zu tun?\nHerzliche Einladung an alle Gläubigen\, Agnostiker\, Atheisten\, Sinnsucher/-innen und Leute\, die etwas bewegen wollen! \nJeden Montag um 17.00 Uhr in der KHG (Frühstücksecke im Untergeschoss – ganz hinten). \n– English version – \nFollowing the “sharing the bible in seven steps” method\, we combine biblical texts with personal experiences\, doubts and questions. Thus we engage on a shared quest: What is “due” for me/ for us now? How can I interpret my own reality in the light of the gospel? \nEveryone’s invited to share\, regardless of culture or religon. \nEvery Monday at 5 pm in the KHG (breakfast table in the basement – at the rear).
URL:https://www.khg-in-bayreuth.de/event/bibelteilen-sharing-the-bible-22/2022-08-08/
END:VEVENT
BEGIN:VEVENT
DTSTART;TZID=UTC:20220815T170000
DTEND;TZID=UTC:20220815T190000
DTSTAMP:20260423T132032
CREATED:20190228T173552Z
LAST-MODIFIED:20190228T173552Z
UID:10003941-1660582800-1660590000@www.khg-in-bayreuth.de
SUMMARY:Bibelteilen // sharing the bible
DESCRIPTION:– English version below – \nNach der Methode des “Bibelteilens in sieben Schritten” bringen wir biblische Texte zusammen mit eigenen Lebenserfahrungen\, Fragen und Zweifeln. So begeben wir uns gemeinsam auf die Suche: Was ist jetzt “dran” für mich/ für uns? Wie kann ich das\, was ich denke\, fühle und erlebe\, anhand der biblischen Überlieferung deuten? Was ist jetzt zu tun?\nHerzliche Einladung an alle Gläubigen\, Agnostiker\, Atheisten\, Sinnsucher/-innen und Leute\, die etwas bewegen wollen! \nJeden Montag um 17.00 Uhr in der KHG (Frühstücksecke im Untergeschoss – ganz hinten). \n– English version – \nFollowing the “sharing the bible in seven steps” method\, we combine biblical texts with personal experiences\, doubts and questions. Thus we engage on a shared quest: What is “due” for me/ for us now? How can I interpret my own reality in the light of the gospel? \nEveryone’s invited to share\, regardless of culture or religon. \nEvery Monday at 5 pm in the KHG (breakfast table in the basement – at the rear).
URL:https://www.khg-in-bayreuth.de/event/bibelteilen-sharing-the-bible-22/2022-08-15/
END:VEVENT
BEGIN:VEVENT
DTSTART;TZID=UTC:20220822T170000
DTEND;TZID=UTC:20220822T190000
DTSTAMP:20260423T132032
CREATED:20190228T173552Z
LAST-MODIFIED:20190228T173552Z
UID:10003942-1661187600-1661194800@www.khg-in-bayreuth.de
SUMMARY:Bibelteilen // sharing the bible
DESCRIPTION:– English version below – \nNach der Methode des “Bibelteilens in sieben Schritten” bringen wir biblische Texte zusammen mit eigenen Lebenserfahrungen\, Fragen und Zweifeln. So begeben wir uns gemeinsam auf die Suche: Was ist jetzt “dran” für mich/ für uns? Wie kann ich das\, was ich denke\, fühle und erlebe\, anhand der biblischen Überlieferung deuten? Was ist jetzt zu tun?\nHerzliche Einladung an alle Gläubigen\, Agnostiker\, Atheisten\, Sinnsucher/-innen und Leute\, die etwas bewegen wollen! \nJeden Montag um 17.00 Uhr in der KHG (Frühstücksecke im Untergeschoss – ganz hinten). \n– English version – \nFollowing the “sharing the bible in seven steps” method\, we combine biblical texts with personal experiences\, doubts and questions. Thus we engage on a shared quest: What is “due” for me/ for us now? How can I interpret my own reality in the light of the gospel? \nEveryone’s invited to share\, regardless of culture or religon. \nEvery Monday at 5 pm in the KHG (breakfast table in the basement – at the rear).
URL:https://www.khg-in-bayreuth.de/event/bibelteilen-sharing-the-bible-22/2022-08-22/
END:VEVENT
BEGIN:VEVENT
DTSTART;TZID=UTC:20220829T170000
DTEND;TZID=UTC:20220829T190000
DTSTAMP:20260423T132032
CREATED:20190228T173552Z
LAST-MODIFIED:20190228T173552Z
UID:10003943-1661792400-1661799600@www.khg-in-bayreuth.de
SUMMARY:Bibelteilen // sharing the bible
DESCRIPTION:– English version below – \nNach der Methode des “Bibelteilens in sieben Schritten” bringen wir biblische Texte zusammen mit eigenen Lebenserfahrungen\, Fragen und Zweifeln. So begeben wir uns gemeinsam auf die Suche: Was ist jetzt “dran” für mich/ für uns? Wie kann ich das\, was ich denke\, fühle und erlebe\, anhand der biblischen Überlieferung deuten? Was ist jetzt zu tun?\nHerzliche Einladung an alle Gläubigen\, Agnostiker\, Atheisten\, Sinnsucher/-innen und Leute\, die etwas bewegen wollen! \nJeden Montag um 17.00 Uhr in der KHG (Frühstücksecke im Untergeschoss – ganz hinten). \n– English version – \nFollowing the “sharing the bible in seven steps” method\, we combine biblical texts with personal experiences\, doubts and questions. Thus we engage on a shared quest: What is “due” for me/ for us now? How can I interpret my own reality in the light of the gospel? \nEveryone’s invited to share\, regardless of culture or religon. \nEvery Monday at 5 pm in the KHG (breakfast table in the basement – at the rear).
URL:https://www.khg-in-bayreuth.de/event/bibelteilen-sharing-the-bible-22/2022-08-29/
END:VEVENT
END:VCALENDAR