BEGIN:VCALENDAR
VERSION:2.0
PRODID:-//KHG Bayreuth - ECPv6.15.3//NONSGML v1.0//EN
CALSCALE:GREGORIAN
METHOD:PUBLISH
X-WR-CALNAME:KHG Bayreuth
X-ORIGINAL-URL:https://www.khg-in-bayreuth.de
X-WR-CALDESC:Veranstaltungen für KHG Bayreuth
REFRESH-INTERVAL;VALUE=DURATION:PT1H
X-Robots-Tag:noindex
X-PUBLISHED-TTL:PT1H
BEGIN:VTIMEZONE
TZID:Europe/Berlin
BEGIN:DAYLIGHT
TZOFFSETFROM:+0100
TZOFFSETTO:+0200
TZNAME:CEST
DTSTART:20230326T010000
END:DAYLIGHT
BEGIN:STANDARD
TZOFFSETFROM:+0200
TZOFFSETTO:+0100
TZNAME:CET
DTSTART:20231029T010000
END:STANDARD
END:VTIMEZONE
BEGIN:VEVENT
DTSTART;VALUE=DATE:20231101
DTEND;VALUE=DATE:20231102
DTSTAMP:20260422T053807
CREATED:20231030T163039Z
LAST-MODIFIED:20231030T163039Z
UID:10006586-1698796800-1698883199@www.khg-in-bayreuth.de
SUMMARY:Allerheiligen // All Saints Day
DESCRIPTION:Wegen des Feiertags Allerheiligen bleibt die KHG geschlossen. \nDue to the All Saints Day public holiday the KHG remains closed.
URL:https://www.khg-in-bayreuth.de/event/allerheiligen-all-saints-day/
LOCATION:KHG Bayreuth\, Emil-Warburg-Weg 17\, KHG Bayreuth\, 95447\, Deutschland
END:VEVENT
BEGIN:VEVENT
DTSTART;TZID=Europe/Berlin:20231102T180000
DTEND;TZID=Europe/Berlin:20231102T200000
DTSTAMP:20260422T053807
CREATED:20230129T174221Z
LAST-MODIFIED:20230129T174257Z
UID:10005424-1698948000-1698955200@www.khg-in-bayreuth.de
SUMMARY:Latin Rhythms class
DESCRIPTION:Join us! Salsa\, Reggaeton\, Merengue\, Bachata and other Latin rhythms.
URL:https://www.khg-in-bayreuth.de/event/latin-rhythms-class-3/2023-11-02/
LOCATION:KHG Bayreuth\, Emil-Warburg-Weg 17\, KHG Bayreuth\, 95447\, Deutschland
END:VEVENT
BEGIN:VEVENT
DTSTART;TZID=Europe/Berlin:20231102T201500
DTEND;TZID=Europe/Berlin:20231102T220000
DTSTAMP:20260422T053807
CREATED:20231011T105106Z
LAST-MODIFIED:20240104T125757Z
UID:10006448-1698956100-1698962400@www.khg-in-bayreuth.de
SUMMARY:Swahili Chor Bayreuth // Suahili Choir
DESCRIPTION:Jeden Donnerstag probt unser Swahili-Chor afrikanische Lieder in der KHG. Neue Sänger*innen sind jederzeit herzlich willkommen!\nEvery Thursday\, our Suahili choir rehearses African songs in the KHG. New singers are always welcome!
URL:https://www.khg-in-bayreuth.de/event/swahili-chor-bayreuth-suahili-choir-3/2023-11-02/
LOCATION:KHG Bayreuth\, Emil-Warburg-Weg 17\, KHG Bayreuth\, 95447\, Deutschland
END:VEVENT
BEGIN:VEVENT
DTSTART;TZID=Europe/Berlin:20231103T183000
DTEND;TZID=Europe/Berlin:20231103T200000
DTSTAMP:20260422T053807
CREATED:20231011T105611Z
LAST-MODIFIED:20231011T105645Z
UID:10006486-1699036200-1699041600@www.khg-in-bayreuth.de
SUMMARY:Salsa & Bachata
DESCRIPTION:Kostenlose Tanzstunde: Es wird Salsa und Bachata getanzt. Herzlich willkommen!
URL:https://www.khg-in-bayreuth.de/event/salsa-bachata-2/2023-11-03/
LOCATION:KHG Bayreuth\, Emil-Warburg-Weg 17\, KHG Bayreuth\, 95447\, Deutschland
END:VEVENT
BEGIN:VEVENT
DTSTART;TZID=Europe/Berlin:20231106T180000
DTEND;TZID=Europe/Berlin:20231106T220000
DTSTAMP:20260422T053807
CREATED:20231011T104249Z
LAST-MODIFIED:20231011T104323Z
UID:10006414-1699293600-1699308000@www.khg-in-bayreuth.de
SUMMARY:Theatergruppe “Die Schwarzen Schafe” // Theatre group “The Black Sheep”
DESCRIPTION:Die legendären “Schwarzen Schafe” treffen sich jeden Montag in der KHG. Neueinsteiger*innen sind besonders am Anfang des Semesters herzlich willkommen!\nDenn: Zu Beginn des Semesters suchen alle gemeinsam ein Stück aus\, danach wird regelmäßig geprobt. Am Semesterende wird die KHG dann zur Bühne für die Aufführung des Stücks.\nOur legendary “Black Sheep” meet every Monday in the KHG. Newcomers are especially welcome at the beginning of the semester!\nBecause: At the beginning of the semester\, everyone chooses a play together and then rehearses regularly. At the end of the semester\, the KHG becomes the stage for the performance of the play.
URL:https://www.khg-in-bayreuth.de/event/theatergruppe-die-schwarzen-schafe-theatre-group-the-black-sheep-3/2023-11-06/
LOCATION:KHG Bayreuth\, Emil-Warburg-Weg 17\, KHG Bayreuth\, 95447\, Deutschland
END:VEVENT
BEGIN:VEVENT
DTSTART;TZID=Europe/Berlin:20231106T200000
DTEND;TZID=Europe/Berlin:20231106T210000
DTSTAMP:20260422T053807
CREATED:20230830T114537Z
LAST-MODIFIED:20230830T114544Z
UID:10006219-1699300800-1699304400@www.khg-in-bayreuth.de
SUMMARY:Taizégebet in der KHG // Taizé prayer in the KHG
DESCRIPTION:Der Taizé-Kreis von ESG und KHG lädt herzlich ein zum Taizé-Gebet mit Kerzenschein\, meditativen Liedern und Texten aus der Bibel. Anschließend gibt es Tee und Kekse.  \nThe Taizé circle of ESG and KHG cordially invites you to Taizé prayer with candlelight\, meditative songs and texts from the bible. Afterwards there will be tea and cookies.
URL:https://www.khg-in-bayreuth.de/event/taizegebet-in-der-khg-taize-prayer-in-the-khg-2/
LOCATION:KHG Bayreuth\, Emil-Warburg-Weg 17\, KHG Bayreuth\, 95447\, Deutschland
END:VEVENT
BEGIN:VEVENT
DTSTART;TZID=Europe/Berlin:20231107T200000
DTEND;TZID=Europe/Berlin:20231107T220000
DTSTAMP:20260422T053807
CREATED:20230830T114854Z
LAST-MODIFIED:20231030T132042Z
UID:10006220-1699387200-1699394400@www.khg-in-bayreuth.de
SUMMARY:KHG-Barabend: Bayreuth im Nationalsozialismus (Arbeitstitel)// Bayreuth under National Socialism (working title)
DESCRIPTION:Von übermalten Hakenkreuzen\, geschändeten Gräbern und einer gerade noch vor der Zerstörung geretteten Synagoge: Der Historiker Dr. Norbert Aas nimmt uns mit auf eine virtuelle Stadtführung durch die “Gauhauptstadt” Bayreuth vor 85 Jahren. Was geschah damals in der “HuPflA”\, der Heil- und Pflegeanstalt? Welche Gebäude fielen der “Arisierung” zum Opfer? Wie zog sich der Oberbürgermeister später aus der Affäre? Welche Spuren der NS-Vergangenheit sind bis heute sichtbar? \nIn unserem Vortrags- und Gesprächsabend stellen wir uns den Schatten der Vergangenheit. Fragen und Diskussionen sind ausdrücklich erwünscht! \nReferent: Dr. Norbert Aas\, Historiker   \nOf swastikas painted over\, desecrated graves and a synagogue just saved from destruction: historian Dr. Norbert Aas takes us on a virtual city tour of the “Gauhauptstadt” Bayreuth 85 years ago. What happened at that time in the “HuPflA”\, the sanatorium and nursing home? Which buildings fell victim to the “Aryanization”? How did the mayor later get out of the affair? What traces of the Nazi past are still visible today? \nIn our lecture and discussion evening\, we will confront the shadows of the past. Questions and discussions are explicitly welcome! \nSpeaker: Dr. Norbert Aas\, Historian
URL:https://www.khg-in-bayreuth.de/event/khg-barabend-nationalsozialismus-und-justiz-in-bayreuth-national-socialism-and-justice-in-bayreuth/
LOCATION:KHG Bayreuth\, Emil-Warburg-Weg 17\, KHG Bayreuth\, 95447\, Deutschland
END:VEVENT
BEGIN:VEVENT
DTSTART;TZID=Europe/Berlin:20231108T120000
DTEND;TZID=Europe/Berlin:20231108T133000
DTSTAMP:20260422T053807
CREATED:20230919T170351Z
LAST-MODIFIED:20230919T170351Z
UID:10006392-1699444800-1699450200@www.khg-in-bayreuth.de
SUMMARY:Mittagspause für Leib und Seele // Lunch break for body and soul
DESCRIPTION:Jeden Mittwoch feiern wir die Mitte der Woche mit einer besonderen Mittagspause: Wir treffen uns um 12.00 Uhr in der KHG-Kapelle zum Mittagsgebet. Anschließend löffeln wir gemeinsam vegetarische Suppe. \nWer Lust hat\, beim Kochen der Suppe zu helfen\, darf gerne vorher (ab ca. 11.00 Uhr) in der KHG-Küche vorbeikommen. Auch eigene Rezepte sind gerne gesehen! \n– English version – \nEvery Wednesday we celebrate the middle of the week with a special lunch break: we meet  at 12.00 in the KHG chapel for midday prayer. Afterwards we spoon vegetarian soup together. \nAnyone who would like to help make the soup is welcome to come to the KHG kitchen beforehand (from about 11.00 a.m.). Your own recipes are also welcome!
URL:https://www.khg-in-bayreuth.de/event/mittagspause-fuer-leib-und-seele-lunch-break-for-body-and-soul-5/2023-11-08/
LOCATION:Emil-Warburg-Weg 17\, Bayreuth\, 95447\, Deutschland
END:VEVENT
BEGIN:VEVENT
DTSTART;TZID=Europe/Berlin:20231108T133000
DTEND;TZID=Europe/Berlin:20231108T150000
DTSTAMP:20260422T053807
CREATED:20230919T164052Z
LAST-MODIFIED:20230919T164740Z
UID:10006382-1699450200-1699455600@www.khg-in-bayreuth.de
SUMMARY:Sprachkurs Deutsch // German language course
DESCRIPTION:Studierende der Universität Bayreuth geben ehrenamtlich Deutschunterricht für Geflüchtete und weitere Interessierte. Nähere Infos auf Anfrage! \nStudents of the University of Bayreuth volunteer to teach German to refugees and other interested parties. More information on request!
URL:https://www.khg-in-bayreuth.de/event/sprachcafe-deutsch-german-language-cafe-2/2023-11-08/
LOCATION:KHG Bayreuth\, Emil-Warburg-Weg 17\, KHG Bayreuth\, 95447\, Deutschland
END:VEVENT
BEGIN:VEVENT
DTSTART;TZID=Europe/Berlin:20231108T180000
DTEND;TZID=Europe/Berlin:20231108T193000
DTSTAMP:20260422T053807
CREATED:20231026T151049Z
LAST-MODIFIED:20240112T110006Z
UID:10006518-1699466400-1699471800@www.khg-in-bayreuth.de
SUMMARY:Yoga
DESCRIPTION:Offene Yogastunde in ukrainischer und englischer Sprache \nOpen Yoga lesson in Ukrainian and English
URL:https://www.khg-in-bayreuth.de/event/yoga-13/2023-11-08/
LOCATION:KHG Bayreuth\, Emil-Warburg-Weg 17\, KHG Bayreuth\, 95447\, Deutschland
END:VEVENT
BEGIN:VEVENT
DTSTART;TZID=Europe/Berlin:20231109T180000
DTEND;TZID=Europe/Berlin:20231109T200000
DTSTAMP:20260422T053807
CREATED:20230129T174221Z
LAST-MODIFIED:20230129T174257Z
UID:10005425-1699552800-1699560000@www.khg-in-bayreuth.de
SUMMARY:Latin Rhythms class
DESCRIPTION:Join us! Salsa\, Reggaeton\, Merengue\, Bachata and other Latin rhythms.
URL:https://www.khg-in-bayreuth.de/event/latin-rhythms-class-3/2023-11-09/
LOCATION:KHG Bayreuth\, Emil-Warburg-Weg 17\, KHG Bayreuth\, 95447\, Deutschland
END:VEVENT
BEGIN:VEVENT
DTSTART;TZID=Europe/Berlin:20231109T201500
DTEND;TZID=Europe/Berlin:20231109T220000
DTSTAMP:20260422T053807
CREATED:20231011T105106Z
LAST-MODIFIED:20240104T125757Z
UID:10006449-1699560900-1699567200@www.khg-in-bayreuth.de
SUMMARY:Swahili Chor Bayreuth // Suahili Choir
DESCRIPTION:Jeden Donnerstag probt unser Swahili-Chor afrikanische Lieder in der KHG. Neue Sänger*innen sind jederzeit herzlich willkommen!\nEvery Thursday\, our Suahili choir rehearses African songs in the KHG. New singers are always welcome!
URL:https://www.khg-in-bayreuth.de/event/swahili-chor-bayreuth-suahili-choir-3/2023-11-09/
LOCATION:KHG Bayreuth\, Emil-Warburg-Weg 17\, KHG Bayreuth\, 95447\, Deutschland
END:VEVENT
BEGIN:VEVENT
DTSTART;TZID=Europe/Berlin:20231110T143000
DTEND;TZID=Europe/Berlin:20231110T170000
DTSTAMP:20260422T053807
CREATED:20230830T120247Z
LAST-MODIFIED:20231030T130705Z
UID:10006221-1699626600-1699635600@www.khg-in-bayreuth.de
SUMMARY:Töpferkurs im Töpfermuseum in Thurnau // Pottery course in the pottery museum in Thurnau
DESCRIPTION:Anmeldung bis 04.11.2023 12 Uhr unter khg@uni-bayreuth.de\nBeginn: 14.30 Uhr – Ende:17.00 Uhr\nUnkostenbeitrag: 15 € plus 5 € pro getöpfertes Objekt\nDie Kosten für den Töpferkurs sind in bar im Töpfermuseum zu begleichen. Für das Arbeiten mit Ton wird eine “strapazierfähige” Kleidung empfohlen.
URL:https://www.khg-in-bayreuth.de/event/toepferkurs-im-toepfermuseum-in-thurnau-pottery-course-in-the-pottery-museum-in-thurnau/
LOCATION:KHG Bayreuth\, Emil-Warburg-Weg 17\, KHG Bayreuth\, 95447\, Deutschland
END:VEVENT
BEGIN:VEVENT
DTSTART;TZID=Europe/Berlin:20231110T183000
DTEND;TZID=Europe/Berlin:20231110T200000
DTSTAMP:20260422T053807
CREATED:20231011T105611Z
LAST-MODIFIED:20231011T105645Z
UID:10006487-1699641000-1699646400@www.khg-in-bayreuth.de
SUMMARY:Salsa & Bachata
DESCRIPTION:Kostenlose Tanzstunde: Es wird Salsa und Bachata getanzt. Herzlich willkommen!
URL:https://www.khg-in-bayreuth.de/event/salsa-bachata-2/2023-11-10/
LOCATION:KHG Bayreuth\, Emil-Warburg-Weg 17\, KHG Bayreuth\, 95447\, Deutschland
END:VEVENT
BEGIN:VEVENT
DTSTART;TZID=Europe/Berlin:20231112T190000
DTEND;TZID=Europe/Berlin:20231112T200000
DTSTAMP:20260422T053807
CREATED:20231011T100646Z
LAST-MODIFIED:20231011T100657Z
UID:10006406-1699815600-1699819200@www.khg-in-bayreuth.de
SUMMARY:KHG-Messe // Holy Mass
DESCRIPTION:Wir feiern eine studentisch mitgestaltete Hl. Messe in der KHG-Kapelle. Kommt vorbei! Anschließend herzliche Einladung zum geselligen Beisammensein mit Pizza. \nWe will celebrate a student co-facilitated Mass in the KHG Chapel. Come by! Afterwards\, you are cordially invited to a social gathering with pizza.
URL:https://www.khg-in-bayreuth.de/event/khg-messe-holy-mass-9/
LOCATION:KHG Bayreuth\, Emil-Warburg-Weg 17\, KHG Bayreuth\, 95447\, Deutschland
END:VEVENT
BEGIN:VEVENT
DTSTART;TZID=Europe/Berlin:20231113T180000
DTEND;TZID=Europe/Berlin:20231113T220000
DTSTAMP:20260422T053807
CREATED:20231011T104249Z
LAST-MODIFIED:20231011T104323Z
UID:10006415-1699898400-1699912800@www.khg-in-bayreuth.de
SUMMARY:Theatergruppe “Die Schwarzen Schafe” // Theatre group “The Black Sheep”
DESCRIPTION:Die legendären “Schwarzen Schafe” treffen sich jeden Montag in der KHG. Neueinsteiger*innen sind besonders am Anfang des Semesters herzlich willkommen!\nDenn: Zu Beginn des Semesters suchen alle gemeinsam ein Stück aus\, danach wird regelmäßig geprobt. Am Semesterende wird die KHG dann zur Bühne für die Aufführung des Stücks.\nOur legendary “Black Sheep” meet every Monday in the KHG. Newcomers are especially welcome at the beginning of the semester!\nBecause: At the beginning of the semester\, everyone chooses a play together and then rehearses regularly. At the end of the semester\, the KHG becomes the stage for the performance of the play.
URL:https://www.khg-in-bayreuth.de/event/theatergruppe-die-schwarzen-schafe-theatre-group-the-black-sheep-3/2023-11-13/
LOCATION:KHG Bayreuth\, Emil-Warburg-Weg 17\, KHG Bayreuth\, 95447\, Deutschland
END:VEVENT
BEGIN:VEVENT
DTSTART;TZID=Europe/Berlin:20231114T200000
DTEND;TZID=Europe/Berlin:20231114T220000
DTSTAMP:20260422T053807
CREATED:20230830T121003Z
LAST-MODIFIED:20231025T081003Z
UID:10006222-1699992000-1699999200@www.khg-in-bayreuth.de
SUMMARY:KHG-Barabend: Offener Abend //  Open evening
DESCRIPTION:Wir sitzen gemütlich an der Bar\, ratschen\, spielen Spiele oder was uns sonst noch einfällt ….. \nWe sit comfortably at the bar\, chat\, play games or whatever else comes to mind …..
URL:https://www.khg-in-bayreuth.de/event/khg-barabend-offener-abend-open-evening/
LOCATION:KHG Bayreuth\, Emil-Warburg-Weg 17\, KHG Bayreuth\, 95447\, Deutschland
END:VEVENT
BEGIN:VEVENT
DTSTART;TZID=Europe/Berlin:20231115T120000
DTEND;TZID=Europe/Berlin:20231115T133000
DTSTAMP:20260422T053807
CREATED:20230919T170351Z
LAST-MODIFIED:20230919T170351Z
UID:10006393-1700049600-1700055000@www.khg-in-bayreuth.de
SUMMARY:Mittagspause für Leib und Seele // Lunch break for body and soul
DESCRIPTION:Jeden Mittwoch feiern wir die Mitte der Woche mit einer besonderen Mittagspause: Wir treffen uns um 12.00 Uhr in der KHG-Kapelle zum Mittagsgebet. Anschließend löffeln wir gemeinsam vegetarische Suppe. \nWer Lust hat\, beim Kochen der Suppe zu helfen\, darf gerne vorher (ab ca. 11.00 Uhr) in der KHG-Küche vorbeikommen. Auch eigene Rezepte sind gerne gesehen! \n– English version – \nEvery Wednesday we celebrate the middle of the week with a special lunch break: we meet  at 12.00 in the KHG chapel for midday prayer. Afterwards we spoon vegetarian soup together. \nAnyone who would like to help make the soup is welcome to come to the KHG kitchen beforehand (from about 11.00 a.m.). Your own recipes are also welcome!
URL:https://www.khg-in-bayreuth.de/event/mittagspause-fuer-leib-und-seele-lunch-break-for-body-and-soul-5/2023-11-15/
LOCATION:Emil-Warburg-Weg 17\, Bayreuth\, 95447\, Deutschland
END:VEVENT
BEGIN:VEVENT
DTSTART;TZID=Europe/Berlin:20231115T133000
DTEND;TZID=Europe/Berlin:20231115T150000
DTSTAMP:20260422T053807
CREATED:20230919T164052Z
LAST-MODIFIED:20230919T164740Z
UID:10006383-1700055000-1700060400@www.khg-in-bayreuth.de
SUMMARY:Sprachkurs Deutsch // German language course
DESCRIPTION:Studierende der Universität Bayreuth geben ehrenamtlich Deutschunterricht für Geflüchtete und weitere Interessierte. Nähere Infos auf Anfrage! \nStudents of the University of Bayreuth volunteer to teach German to refugees and other interested parties. More information on request!
URL:https://www.khg-in-bayreuth.de/event/sprachcafe-deutsch-german-language-cafe-2/2023-11-15/
LOCATION:KHG Bayreuth\, Emil-Warburg-Weg 17\, KHG Bayreuth\, 95447\, Deutschland
END:VEVENT
BEGIN:VEVENT
DTSTART;TZID=Europe/Berlin:20231115T180000
DTEND;TZID=Europe/Berlin:20231115T193000
DTSTAMP:20260422T053807
CREATED:20231026T151049Z
LAST-MODIFIED:20240112T110006Z
UID:10006519-1700071200-1700076600@www.khg-in-bayreuth.de
SUMMARY:Yoga
DESCRIPTION:Offene Yogastunde in ukrainischer und englischer Sprache \nOpen Yoga lesson in Ukrainian and English
URL:https://www.khg-in-bayreuth.de/event/yoga-13/2023-11-15/
LOCATION:KHG Bayreuth\, Emil-Warburg-Weg 17\, KHG Bayreuth\, 95447\, Deutschland
END:VEVENT
BEGIN:VEVENT
DTSTART;TZID=Europe/Berlin:20231116T180000
DTEND;TZID=Europe/Berlin:20231116T200000
DTSTAMP:20260422T053807
CREATED:20230129T174221Z
LAST-MODIFIED:20230129T174257Z
UID:10005426-1700157600-1700164800@www.khg-in-bayreuth.de
SUMMARY:Latin Rhythms class
DESCRIPTION:Join us! Salsa\, Reggaeton\, Merengue\, Bachata and other Latin rhythms.
URL:https://www.khg-in-bayreuth.de/event/latin-rhythms-class-3/2023-11-16/
LOCATION:KHG Bayreuth\, Emil-Warburg-Weg 17\, KHG Bayreuth\, 95447\, Deutschland
END:VEVENT
BEGIN:VEVENT
DTSTART;TZID=Europe/Berlin:20231116T190000
DTEND;TZID=Europe/Berlin:20231116T213000
DTSTAMP:20260422T053807
CREATED:20230830T121428Z
LAST-MODIFIED:20230920T121321Z
UID:10006223-1700161200-1700170200@www.khg-in-bayreuth.de
SUMMARY:Online Pub Quiz der deutschen Hochschulgemeinden // Online Pub Quiz of the German University Communities
DESCRIPTION:Wir treffen uns wieder ökumenisch und quizzen mit vielen anderen Hochschulgemeinden um den Pokal! \nWe will meet ecumenically again and quiz for the trophy with many other college churches!
URL:https://www.khg-in-bayreuth.de/event/online-pub-quiz-der-deutschen-hochschulgemeinden-online-pub-quiz-of-the-german-university-communities/
LOCATION:KHG Bayreuth\, Emil-Warburg-Weg 17\, KHG Bayreuth\, 95447\, Deutschland
END:VEVENT
BEGIN:VEVENT
DTSTART;TZID=Europe/Berlin:20231116T201500
DTEND;TZID=Europe/Berlin:20231116T220000
DTSTAMP:20260422T053807
CREATED:20231011T105106Z
LAST-MODIFIED:20240104T125757Z
UID:10006450-1700165700-1700172000@www.khg-in-bayreuth.de
SUMMARY:Swahili Chor Bayreuth // Suahili Choir
DESCRIPTION:Jeden Donnerstag probt unser Swahili-Chor afrikanische Lieder in der KHG. Neue Sänger*innen sind jederzeit herzlich willkommen!\nEvery Thursday\, our Suahili choir rehearses African songs in the KHG. New singers are always welcome!
URL:https://www.khg-in-bayreuth.de/event/swahili-chor-bayreuth-suahili-choir-3/2023-11-16/
LOCATION:KHG Bayreuth\, Emil-Warburg-Weg 17\, KHG Bayreuth\, 95447\, Deutschland
END:VEVENT
BEGIN:VEVENT
DTSTART;TZID=Europe/Berlin:20231117T183000
DTEND;TZID=Europe/Berlin:20231117T200000
DTSTAMP:20260422T053807
CREATED:20231011T105611Z
LAST-MODIFIED:20231011T105645Z
UID:10006488-1700245800-1700251200@www.khg-in-bayreuth.de
SUMMARY:Salsa & Bachata
DESCRIPTION:Kostenlose Tanzstunde: Es wird Salsa und Bachata getanzt. Herzlich willkommen!
URL:https://www.khg-in-bayreuth.de/event/salsa-bachata-2/2023-11-17/
LOCATION:KHG Bayreuth\, Emil-Warburg-Weg 17\, KHG Bayreuth\, 95447\, Deutschland
END:VEVENT
BEGIN:VEVENT
DTSTART;TZID=Europe/Berlin:20231117T200000
DTEND;TZID=Europe/Berlin:20231117T220000
DTSTAMP:20260422T053807
CREATED:20231011T101609Z
LAST-MODIFIED:20231011T101616Z
UID:10006409-1700251200-1700258400@www.khg-in-bayreuth.de
SUMMARY:Deutsch-chinesischer Stammtisch // German-Chinese regulars' table
DESCRIPTION:Nähere Infos folgen. \nMore info to follow.
URL:https://www.khg-in-bayreuth.de/event/deutsch-chinesischer-stammtisch-german-chinese-regulars-table-8/
LOCATION:KHG Bayreuth\, Emil-Warburg-Weg 17\, KHG Bayreuth\, 95447\, Deutschland
END:VEVENT
BEGIN:VEVENT
DTSTART;TZID=Europe/Berlin:20231120T180000
DTEND;TZID=Europe/Berlin:20231120T220000
DTSTAMP:20260422T053807
CREATED:20231011T104249Z
LAST-MODIFIED:20231011T104323Z
UID:10006416-1700503200-1700517600@www.khg-in-bayreuth.de
SUMMARY:Theatergruppe “Die Schwarzen Schafe” // Theatre group “The Black Sheep”
DESCRIPTION:Die legendären “Schwarzen Schafe” treffen sich jeden Montag in der KHG. Neueinsteiger*innen sind besonders am Anfang des Semesters herzlich willkommen!\nDenn: Zu Beginn des Semesters suchen alle gemeinsam ein Stück aus\, danach wird regelmäßig geprobt. Am Semesterende wird die KHG dann zur Bühne für die Aufführung des Stücks.\nOur legendary “Black Sheep” meet every Monday in the KHG. Newcomers are especially welcome at the beginning of the semester!\nBecause: At the beginning of the semester\, everyone chooses a play together and then rehearses regularly. At the end of the semester\, the KHG becomes the stage for the performance of the play.
URL:https://www.khg-in-bayreuth.de/event/theatergruppe-die-schwarzen-schafe-theatre-group-the-black-sheep-3/2023-11-20/
LOCATION:KHG Bayreuth\, Emil-Warburg-Weg 17\, KHG Bayreuth\, 95447\, Deutschland
END:VEVENT
BEGIN:VEVENT
DTSTART;TZID=Europe/Berlin:20231121T200000
DTEND;TZID=Europe/Berlin:20231121T220000
DTSTAMP:20260422T053807
CREATED:20230830T121627Z
LAST-MODIFIED:20231115T084205Z
UID:10006224-1700596800-1700604000@www.khg-in-bayreuth.de
SUMMARY:KHG-Barabend: Kreativabend //  Creative evening
DESCRIPTION:Wir basteln Teeadventskalender\, falten weihnachtliche Origami und machen Schneeflocken-Scherenschnitte. Unkostenbeitrag: 3 Euro. \nWe make tea advent calendars\, fold Christmas origami and make snowflake silhouettes. Contribution towards expenses: 3 euros.
URL:https://www.khg-in-bayreuth.de/event/khg-barabend-kreativabend-creative-evening-2/
LOCATION:KHG Bayreuth\, Emil-Warburg-Weg 17\, KHG Bayreuth\, 95447\, Deutschland
END:VEVENT
BEGIN:VEVENT
DTSTART;TZID=Europe/Berlin:20231122T120000
DTEND;TZID=Europe/Berlin:20231122T133000
DTSTAMP:20260422T053807
CREATED:20230919T170351Z
LAST-MODIFIED:20230919T170351Z
UID:10006394-1700654400-1700659800@www.khg-in-bayreuth.de
SUMMARY:Mittagspause für Leib und Seele // Lunch break for body and soul
DESCRIPTION:Jeden Mittwoch feiern wir die Mitte der Woche mit einer besonderen Mittagspause: Wir treffen uns um 12.00 Uhr in der KHG-Kapelle zum Mittagsgebet. Anschließend löffeln wir gemeinsam vegetarische Suppe. \nWer Lust hat\, beim Kochen der Suppe zu helfen\, darf gerne vorher (ab ca. 11.00 Uhr) in der KHG-Küche vorbeikommen. Auch eigene Rezepte sind gerne gesehen! \n– English version – \nEvery Wednesday we celebrate the middle of the week with a special lunch break: we meet  at 12.00 in the KHG chapel for midday prayer. Afterwards we spoon vegetarian soup together. \nAnyone who would like to help make the soup is welcome to come to the KHG kitchen beforehand (from about 11.00 a.m.). Your own recipes are also welcome!
URL:https://www.khg-in-bayreuth.de/event/mittagspause-fuer-leib-und-seele-lunch-break-for-body-and-soul-5/2023-11-22/
LOCATION:Emil-Warburg-Weg 17\, Bayreuth\, 95447\, Deutschland
END:VEVENT
BEGIN:VEVENT
DTSTART;TZID=Europe/Berlin:20231122T133000
DTEND;TZID=Europe/Berlin:20231122T150000
DTSTAMP:20260422T053807
CREATED:20230919T164052Z
LAST-MODIFIED:20230919T164740Z
UID:10006384-1700659800-1700665200@www.khg-in-bayreuth.de
SUMMARY:Sprachkurs Deutsch // German language course
DESCRIPTION:Studierende der Universität Bayreuth geben ehrenamtlich Deutschunterricht für Geflüchtete und weitere Interessierte. Nähere Infos auf Anfrage! \nStudents of the University of Bayreuth volunteer to teach German to refugees and other interested parties. More information on request!
URL:https://www.khg-in-bayreuth.de/event/sprachcafe-deutsch-german-language-cafe-2/2023-11-22/
LOCATION:KHG Bayreuth\, Emil-Warburg-Weg 17\, KHG Bayreuth\, 95447\, Deutschland
END:VEVENT
BEGIN:VEVENT
DTSTART;TZID=Europe/Berlin:20231122T180000
DTEND;TZID=Europe/Berlin:20231122T193000
DTSTAMP:20260422T053807
CREATED:20231026T151049Z
LAST-MODIFIED:20240112T110006Z
UID:10006520-1700676000-1700681400@www.khg-in-bayreuth.de
SUMMARY:Yoga
DESCRIPTION:Offene Yogastunde in ukrainischer und englischer Sprache \nOpen Yoga lesson in Ukrainian and English
URL:https://www.khg-in-bayreuth.de/event/yoga-13/2023-11-22/
LOCATION:KHG Bayreuth\, Emil-Warburg-Weg 17\, KHG Bayreuth\, 95447\, Deutschland
END:VEVENT
END:VCALENDAR