BEGIN:VCALENDAR
VERSION:2.0
PRODID:-//KHG Bayreuth - ECPv6.15.3//NONSGML v1.0//EN
CALSCALE:GREGORIAN
METHOD:PUBLISH
X-WR-CALNAME:KHG Bayreuth
X-ORIGINAL-URL:https://www.khg-in-bayreuth.de
X-WR-CALDESC:Veranstaltungen für KHG Bayreuth
REFRESH-INTERVAL;VALUE=DURATION:PT1H
X-Robots-Tag:noindex
X-PUBLISHED-TTL:PT1H
BEGIN:VTIMEZONE
TZID:Europe/Berlin
BEGIN:DAYLIGHT
TZOFFSETFROM:+0100
TZOFFSETTO:+0200
TZNAME:CEST
DTSTART:20230326T010000
END:DAYLIGHT
BEGIN:STANDARD
TZOFFSETFROM:+0200
TZOFFSETTO:+0100
TZNAME:CET
DTSTART:20231029T010000
END:STANDARD
END:VTIMEZONE
BEGIN:VEVENT
DTSTART;TZID=Europe/Berlin:20231201T183000
DTEND;TZID=Europe/Berlin:20231201T200000
DTSTAMP:20260422T034619
CREATED:20231011T105611Z
LAST-MODIFIED:20231011T105645Z
UID:10006490-1701455400-1701460800@www.khg-in-bayreuth.de
SUMMARY:Salsa & Bachata
DESCRIPTION:Kostenlose Tanzstunde: Es wird Salsa und Bachata getanzt. Herzlich willkommen!
URL:https://www.khg-in-bayreuth.de/event/salsa-bachata-2/2023-12-01/
LOCATION:KHG Bayreuth\, Emil-Warburg-Weg 17\, KHG Bayreuth\, 95447\, Deutschland
END:VEVENT
BEGIN:VEVENT
DTSTART;TZID=Europe/Berlin:20231203T193000
DTEND;TZID=Europe/Berlin:20231203T203000
DTSTAMP:20260422T034619
CREATED:20230830T114128Z
LAST-MODIFIED:20230830T114135Z
UID:10006216-1701631800-1701635400@www.khg-in-bayreuth.de
SUMMARY:Sunday Evening Church im Irish Pub "Dubliner"
DESCRIPTION:An den Adventssonntagen seid Ihr wieder sehr herzlich eingeladen zur “Sunday Evening Church” im Dubliner Irish Pub.\nGemeinsam mit vielen anderen katholischen und evangelischen Gemeinden in Bayreuth gestalten wir besondere Adventsandachten. Euch erwarten Impulse zum Nachdenken\, Mitmachaktionen und Adventslieder. \nYou’re welcome to our “Sunday Evening Church” in the Dubliner Irish Pub Bayreuth!\nTogether with various other Catholic and Protestant communities in Bayreuth we celebrate somewhat different Advent worships. In German\, because this is a city-wide event not only for students.
URL:https://www.khg-in-bayreuth.de/event/sunday-evening-church-im-irish-pub-dubliner/
LOCATION:Dubliner Irish Pub\, Wittelsbacherring 2-4\, Bayreuth\, 95444\, Deutschland
END:VEVENT
BEGIN:VEVENT
DTSTART;TZID=Europe/Berlin:20231204T180000
DTEND;TZID=Europe/Berlin:20231204T220000
DTSTAMP:20260422T034619
CREATED:20231011T104249Z
LAST-MODIFIED:20231011T104323Z
UID:10006418-1701712800-1701727200@www.khg-in-bayreuth.de
SUMMARY:Theatergruppe “Die Schwarzen Schafe” // Theatre group “The Black Sheep”
DESCRIPTION:Die legendären “Schwarzen Schafe” treffen sich jeden Montag in der KHG. Neueinsteiger*innen sind besonders am Anfang des Semesters herzlich willkommen!\nDenn: Zu Beginn des Semesters suchen alle gemeinsam ein Stück aus\, danach wird regelmäßig geprobt. Am Semesterende wird die KHG dann zur Bühne für die Aufführung des Stücks.\nOur legendary “Black Sheep” meet every Monday in the KHG. Newcomers are especially welcome at the beginning of the semester!\nBecause: At the beginning of the semester\, everyone chooses a play together and then rehearses regularly. At the end of the semester\, the KHG becomes the stage for the performance of the play.
URL:https://www.khg-in-bayreuth.de/event/theatergruppe-die-schwarzen-schafe-theatre-group-the-black-sheep-3/2023-12-04/
LOCATION:KHG Bayreuth\, Emil-Warburg-Weg 17\, KHG Bayreuth\, 95447\, Deutschland
END:VEVENT
BEGIN:VEVENT
DTSTART;TZID=Europe/Berlin:20231205T200000
DTEND;TZID=Europe/Berlin:20231205T220000
DTSTAMP:20260422T034619
CREATED:20230830T123129Z
LAST-MODIFIED:20231127T110105Z
UID:10006226-1701806400-1701813600@www.khg-in-bayreuth.de
SUMMARY:KHG-Barabend: Adventlicher Länderabend Sachsen //  Advent country evening Sachsen
DESCRIPTION:Gemütlicher Abend mit sächsischer Kultur\, weihnachtlicher Erzgebirgsholzkunst\, Verkostung sächsischer Weihnachtsspezialitäten und vielem mehr. \nCozy evening with Saxon culture\, Christmas wood art from the Ore Mountains\, tasting of Saxon Christmas specialties and much more.
URL:https://www.khg-in-bayreuth.de/event/khg-barabend-adventlicher-laenderabend-sachsen-advent-country-evening-sachsen/
LOCATION:KHG Bayreuth\, Emil-Warburg-Weg 17\, KHG Bayreuth\, 95447\, Deutschland
END:VEVENT
BEGIN:VEVENT
DTSTART;TZID=Europe/Berlin:20231206T120000
DTEND;TZID=Europe/Berlin:20231206T133000
DTSTAMP:20260422T034619
CREATED:20230919T170351Z
LAST-MODIFIED:20230919T170351Z
UID:10006396-1701864000-1701869400@www.khg-in-bayreuth.de
SUMMARY:Mittagspause für Leib und Seele // Lunch break for body and soul
DESCRIPTION:Jeden Mittwoch feiern wir die Mitte der Woche mit einer besonderen Mittagspause: Wir treffen uns um 12.00 Uhr in der KHG-Kapelle zum Mittagsgebet. Anschließend löffeln wir gemeinsam vegetarische Suppe. \nWer Lust hat\, beim Kochen der Suppe zu helfen\, darf gerne vorher (ab ca. 11.00 Uhr) in der KHG-Küche vorbeikommen. Auch eigene Rezepte sind gerne gesehen! \n– English version – \nEvery Wednesday we celebrate the middle of the week with a special lunch break: we meet  at 12.00 in the KHG chapel for midday prayer. Afterwards we spoon vegetarian soup together. \nAnyone who would like to help make the soup is welcome to come to the KHG kitchen beforehand (from about 11.00 a.m.). Your own recipes are also welcome!
URL:https://www.khg-in-bayreuth.de/event/mittagspause-fuer-leib-und-seele-lunch-break-for-body-and-soul-5/2023-12-06/
LOCATION:Emil-Warburg-Weg 17\, Bayreuth\, 95447\, Deutschland
END:VEVENT
BEGIN:VEVENT
DTSTART;TZID=Europe/Berlin:20231206T133000
DTEND;TZID=Europe/Berlin:20231206T150000
DTSTAMP:20260422T034619
CREATED:20230919T164052Z
LAST-MODIFIED:20230919T164740Z
UID:10006386-1701869400-1701874800@www.khg-in-bayreuth.de
SUMMARY:Sprachkurs Deutsch // German language course
DESCRIPTION:Studierende der Universität Bayreuth geben ehrenamtlich Deutschunterricht für Geflüchtete und weitere Interessierte. Nähere Infos auf Anfrage! \nStudents of the University of Bayreuth volunteer to teach German to refugees and other interested parties. More information on request!
URL:https://www.khg-in-bayreuth.de/event/sprachcafe-deutsch-german-language-cafe-2/2023-12-06/
LOCATION:KHG Bayreuth\, Emil-Warburg-Weg 17\, KHG Bayreuth\, 95447\, Deutschland
END:VEVENT
BEGIN:VEVENT
DTSTART;TZID=Europe/Berlin:20231206T180000
DTEND;TZID=Europe/Berlin:20231206T193000
DTSTAMP:20260422T034619
CREATED:20231026T151049Z
LAST-MODIFIED:20240112T110006Z
UID:10006522-1701885600-1701891000@www.khg-in-bayreuth.de
SUMMARY:Yoga
DESCRIPTION:Offene Yogastunde in ukrainischer und englischer Sprache \nOpen Yoga lesson in Ukrainian and English
URL:https://www.khg-in-bayreuth.de/event/yoga-13/2023-12-06/
LOCATION:KHG Bayreuth\, Emil-Warburg-Weg 17\, KHG Bayreuth\, 95447\, Deutschland
END:VEVENT
BEGIN:VEVENT
DTSTART;TZID=Europe/Berlin:20231206T190000
DTEND;TZID=Europe/Berlin:20231206T220000
DTSTAMP:20260422T034619
CREATED:20230830T123320Z
LAST-MODIFIED:20231206T104803Z
UID:10006227-1701889200-1701900000@www.khg-in-bayreuth.de
SUMMARY:Ökumenische Waldweihnacht //  Ecumenical Forest Christmas
DESCRIPTION:Eine stimmungsvolle Weihnacht mit Feuer\, Adventsliedern\, Musik und im Anschluss Punsch und Glühwein. \n\nTreffpunkt Festspielhaus\n\n\nFestspielhügel 1-2\n95445 Bayreuth\n\nAn atmospheric forest Christmas with fire\, Advent carols\, music and afterwards punch and mulled wine. \n\nMeeting point Festspielhaus
URL:https://www.khg-in-bayreuth.de/event/oekumenische-waldweihnacht-ecumenical-forest-christmas/
LOCATION:KHG Bayreuth\, Emil-Warburg-Weg 17\, KHG Bayreuth\, 95447\, Deutschland
END:VEVENT
BEGIN:VEVENT
DTSTART;TZID=Europe/Berlin:20231207T180000
DTEND;TZID=Europe/Berlin:20231207T200000
DTSTAMP:20260422T034619
CREATED:20230129T174221Z
LAST-MODIFIED:20230129T174257Z
UID:10005429-1701972000-1701979200@www.khg-in-bayreuth.de
SUMMARY:Latin Rhythms class
DESCRIPTION:Join us! Salsa\, Reggaeton\, Merengue\, Bachata and other Latin rhythms.
URL:https://www.khg-in-bayreuth.de/event/latin-rhythms-class-3/2023-12-07/
LOCATION:KHG Bayreuth\, Emil-Warburg-Weg 17\, KHG Bayreuth\, 95447\, Deutschland
END:VEVENT
BEGIN:VEVENT
DTSTART;TZID=Europe/Berlin:20231207T201500
DTEND;TZID=Europe/Berlin:20231207T220000
DTSTAMP:20260422T034619
CREATED:20231011T105106Z
LAST-MODIFIED:20240104T125757Z
UID:10006453-1701980100-1701986400@www.khg-in-bayreuth.de
SUMMARY:Swahili Chor Bayreuth // Suahili Choir
DESCRIPTION:Jeden Donnerstag probt unser Swahili-Chor afrikanische Lieder in der KHG. Neue Sänger*innen sind jederzeit herzlich willkommen!\nEvery Thursday\, our Suahili choir rehearses African songs in the KHG. New singers are always welcome!
URL:https://www.khg-in-bayreuth.de/event/swahili-chor-bayreuth-suahili-choir-3/2023-12-07/
LOCATION:KHG Bayreuth\, Emil-Warburg-Weg 17\, KHG Bayreuth\, 95447\, Deutschland
END:VEVENT
BEGIN:VEVENT
DTSTART;TZID=Europe/Berlin:20231208T183000
DTEND;TZID=Europe/Berlin:20231208T200000
DTSTAMP:20260422T034619
CREATED:20231011T105611Z
LAST-MODIFIED:20231011T105645Z
UID:10006491-1702060200-1702065600@www.khg-in-bayreuth.de
SUMMARY:Salsa & Bachata
DESCRIPTION:Kostenlose Tanzstunde: Es wird Salsa und Bachata getanzt. Herzlich willkommen!
URL:https://www.khg-in-bayreuth.de/event/salsa-bachata-2/2023-12-08/
LOCATION:KHG Bayreuth\, Emil-Warburg-Weg 17\, KHG Bayreuth\, 95447\, Deutschland
END:VEVENT
BEGIN:VEVENT
DTSTART;TZID=Europe/Berlin:20231210T193000
DTEND;TZID=Europe/Berlin:20231210T203000
DTSTAMP:20260422T034619
CREATED:20230830T114251Z
LAST-MODIFIED:20230830T114258Z
UID:10006217-1702236600-1702240200@www.khg-in-bayreuth.de
SUMMARY:Sunday Evening Church im Irish Pub "Dubliner"
DESCRIPTION:An den Adventssonntagen seid Ihr wieder sehr herzlich eingeladen zur “Sunday Evening Church” im Dubliner Irish Pub.\nGemeinsam mit vielen anderen katholischen und evangelischen Gemeinden in Bayreuth gestalten wir besondere Adventsandachten. Euch erwarten Impulse zum Nachdenken\, Mitmachaktionen und Adventslieder. \nYou’re welcome to our “Sunday Evening Church” in the Dubliner Irish Pub Bayreuth!\nTogether with various other Catholic and Protestant communities in Bayreuth we celebrate somewhat different Advent worships. In German\, because this is a city-wide event not only for students.
URL:https://www.khg-in-bayreuth.de/event/sunday-evening-church-im-irish-pub-dubliner-2/
LOCATION:Dubliner Irish Pub\, Wittelsbacherring 2-4\, Bayreuth\, 95444\, Deutschland
END:VEVENT
BEGIN:VEVENT
DTSTART;TZID=Europe/Berlin:20231211T180000
DTEND;TZID=Europe/Berlin:20231211T220000
DTSTAMP:20260422T034619
CREATED:20231011T104249Z
LAST-MODIFIED:20231011T104323Z
UID:10006419-1702317600-1702332000@www.khg-in-bayreuth.de
SUMMARY:Theatergruppe “Die Schwarzen Schafe” // Theatre group “The Black Sheep”
DESCRIPTION:Die legendären “Schwarzen Schafe” treffen sich jeden Montag in der KHG. Neueinsteiger*innen sind besonders am Anfang des Semesters herzlich willkommen!\nDenn: Zu Beginn des Semesters suchen alle gemeinsam ein Stück aus\, danach wird regelmäßig geprobt. Am Semesterende wird die KHG dann zur Bühne für die Aufführung des Stücks.\nOur legendary “Black Sheep” meet every Monday in the KHG. Newcomers are especially welcome at the beginning of the semester!\nBecause: At the beginning of the semester\, everyone chooses a play together and then rehearses regularly. At the end of the semester\, the KHG becomes the stage for the performance of the play.
URL:https://www.khg-in-bayreuth.de/event/theatergruppe-die-schwarzen-schafe-theatre-group-the-black-sheep-3/2023-12-11/
LOCATION:KHG Bayreuth\, Emil-Warburg-Weg 17\, KHG Bayreuth\, 95447\, Deutschland
END:VEVENT
BEGIN:VEVENT
DTSTART;TZID=Europe/Berlin:20231212T190000
DTEND;TZID=Europe/Berlin:20231212T210000
DTSTAMP:20260422T034619
CREATED:20230830T124215Z
LAST-MODIFIED:20231011T095049Z
UID:10006228-1702407600-1702414800@www.khg-in-bayreuth.de
SUMMARY:Ökumenische Adventsandacht mit dem "Swahili Chor" Bayreuth im Ökologisch Botanischen Garten der Univeristät Bayreuth // Ecumenical Advent devotion with the "Swahili Choir" Bayreuth in the Ecological Botanical Garden of the University of Bayreuth
DESCRIPTION:Wir feiern eine besondere Advenstandacht mit der ESG im Ausstellungsraum des Ökologisch-Botanischen Garten der Uni Bayreuth\, begleitet von afrikanischen Liedern unseres “Swahili Chor” Bayreuth. Im Anschlusss treffen wir uns draußen am Feuer zu Punsch und Lebkuchen. \nWe celebrate a special Advent devotion with the ESG in the exhibition room of the Ecological-Botanical Garden of the University of Bayreuth\, accompanied by African songs of our “Swahili Choir” Bayreuth. Afterwards we will meet outside at the fire for punch and gingerbread.
URL:https://www.khg-in-bayreuth.de/event/oekumenische-adventsandacht-mit-dem-swahili-chor-bayreuth-im-oekologisch-botanischen-garten-der-univeristaet-bayreuth-ecumenical-advent-devotion-with-the-swahili-choir-bayreuth-in-the-ecolo/
LOCATION:KHG Bayreuth\, Emil-Warburg-Weg 17\, KHG Bayreuth\, 95447\, Deutschland
END:VEVENT
BEGIN:VEVENT
DTSTART;TZID=Europe/Berlin:20231213T120000
DTEND;TZID=Europe/Berlin:20231213T133000
DTSTAMP:20260422T034619
CREATED:20230919T170351Z
LAST-MODIFIED:20230919T170351Z
UID:10006397-1702468800-1702474200@www.khg-in-bayreuth.de
SUMMARY:Mittagspause für Leib und Seele // Lunch break for body and soul
DESCRIPTION:Jeden Mittwoch feiern wir die Mitte der Woche mit einer besonderen Mittagspause: Wir treffen uns um 12.00 Uhr in der KHG-Kapelle zum Mittagsgebet. Anschließend löffeln wir gemeinsam vegetarische Suppe. \nWer Lust hat\, beim Kochen der Suppe zu helfen\, darf gerne vorher (ab ca. 11.00 Uhr) in der KHG-Küche vorbeikommen. Auch eigene Rezepte sind gerne gesehen! \n– English version – \nEvery Wednesday we celebrate the middle of the week with a special lunch break: we meet  at 12.00 in the KHG chapel for midday prayer. Afterwards we spoon vegetarian soup together. \nAnyone who would like to help make the soup is welcome to come to the KHG kitchen beforehand (from about 11.00 a.m.). Your own recipes are also welcome!
URL:https://www.khg-in-bayreuth.de/event/mittagspause-fuer-leib-und-seele-lunch-break-for-body-and-soul-5/2023-12-13/
LOCATION:Emil-Warburg-Weg 17\, Bayreuth\, 95447\, Deutschland
END:VEVENT
BEGIN:VEVENT
DTSTART;TZID=Europe/Berlin:20231213T133000
DTEND;TZID=Europe/Berlin:20231213T150000
DTSTAMP:20260422T034619
CREATED:20230919T164052Z
LAST-MODIFIED:20230919T164740Z
UID:10006387-1702474200-1702479600@www.khg-in-bayreuth.de
SUMMARY:Sprachkurs Deutsch // German language course
DESCRIPTION:Studierende der Universität Bayreuth geben ehrenamtlich Deutschunterricht für Geflüchtete und weitere Interessierte. Nähere Infos auf Anfrage! \nStudents of the University of Bayreuth volunteer to teach German to refugees and other interested parties. More information on request!
URL:https://www.khg-in-bayreuth.de/event/sprachcafe-deutsch-german-language-cafe-2/2023-12-13/
LOCATION:KHG Bayreuth\, Emil-Warburg-Weg 17\, KHG Bayreuth\, 95447\, Deutschland
END:VEVENT
BEGIN:VEVENT
DTSTART;TZID=Europe/Berlin:20231213T180000
DTEND;TZID=Europe/Berlin:20231213T193000
DTSTAMP:20260422T034619
CREATED:20231026T151049Z
LAST-MODIFIED:20240112T110006Z
UID:10006523-1702490400-1702495800@www.khg-in-bayreuth.de
SUMMARY:Yoga
DESCRIPTION:Offene Yogastunde in ukrainischer und englischer Sprache \nOpen Yoga lesson in Ukrainian and English
URL:https://www.khg-in-bayreuth.de/event/yoga-13/2023-12-13/
LOCATION:KHG Bayreuth\, Emil-Warburg-Weg 17\, KHG Bayreuth\, 95447\, Deutschland
END:VEVENT
BEGIN:VEVENT
DTSTART;TZID=Europe/Berlin:20231214T180000
DTEND;TZID=Europe/Berlin:20231214T200000
DTSTAMP:20260422T034619
CREATED:20230129T174221Z
LAST-MODIFIED:20230129T174257Z
UID:10005430-1702576800-1702584000@www.khg-in-bayreuth.de
SUMMARY:Latin Rhythms class
DESCRIPTION:Join us! Salsa\, Reggaeton\, Merengue\, Bachata and other Latin rhythms.
URL:https://www.khg-in-bayreuth.de/event/latin-rhythms-class-3/2023-12-14/
LOCATION:KHG Bayreuth\, Emil-Warburg-Weg 17\, KHG Bayreuth\, 95447\, Deutschland
END:VEVENT
BEGIN:VEVENT
DTSTART;TZID=Europe/Berlin:20231214T201500
DTEND;TZID=Europe/Berlin:20231214T220000
DTSTAMP:20260422T034619
CREATED:20231011T105106Z
LAST-MODIFIED:20240104T125757Z
UID:10006454-1702584900-1702591200@www.khg-in-bayreuth.de
SUMMARY:Swahili Chor Bayreuth // Suahili Choir
DESCRIPTION:Jeden Donnerstag probt unser Swahili-Chor afrikanische Lieder in der KHG. Neue Sänger*innen sind jederzeit herzlich willkommen!\nEvery Thursday\, our Suahili choir rehearses African songs in the KHG. New singers are always welcome!
URL:https://www.khg-in-bayreuth.de/event/swahili-chor-bayreuth-suahili-choir-3/2023-12-14/
LOCATION:KHG Bayreuth\, Emil-Warburg-Weg 17\, KHG Bayreuth\, 95447\, Deutschland
END:VEVENT
BEGIN:VEVENT
DTSTART;TZID=Europe/Berlin:20231215T183000
DTEND;TZID=Europe/Berlin:20231215T200000
DTSTAMP:20260422T034619
CREATED:20231011T105611Z
LAST-MODIFIED:20231011T105645Z
UID:10006492-1702665000-1702670400@www.khg-in-bayreuth.de
SUMMARY:Salsa & Bachata
DESCRIPTION:Kostenlose Tanzstunde: Es wird Salsa und Bachata getanzt. Herzlich willkommen!
URL:https://www.khg-in-bayreuth.de/event/salsa-bachata-2/2023-12-15/
LOCATION:KHG Bayreuth\, Emil-Warburg-Weg 17\, KHG Bayreuth\, 95447\, Deutschland
END:VEVENT
BEGIN:VEVENT
DTSTART;TZID=Europe/Berlin:20231217T193000
DTEND;TZID=Europe/Berlin:20231217T203000
DTSTAMP:20260422T034619
CREATED:20230830T114400Z
LAST-MODIFIED:20230830T114407Z
UID:10006218-1702841400-1702845000@www.khg-in-bayreuth.de
SUMMARY:Sunday Evening Church im Irish Pub "Dubliner"
DESCRIPTION:An den Adventssonntagen seid Ihr wieder sehr herzlich eingeladen zur “Sunday Evening Church” im Dubliner Irish Pub.\nGemeinsam mit vielen anderen katholischen und evangelischen Gemeinden in Bayreuth gestalten wir besondere Adventsandachten. Euch erwarten Impulse zum Nachdenken\, Mitmachaktionen und Adventslieder. \nYou’re welcome to our “Sunday Evening Church” in the Dubliner Irish Pub Bayreuth!\nTogether with various other Catholic and Protestant communities in Bayreuth we celebrate somewhat different Advent worships. In German\, because this is a city-wide event not only for students.
URL:https://www.khg-in-bayreuth.de/event/sunday-evening-church-im-irish-pub-dubliner-3/
LOCATION:Dubliner Irish Pub\, Wittelsbacherring 2-4\, Bayreuth\, 95444\, Deutschland
END:VEVENT
BEGIN:VEVENT
DTSTART;TZID=Europe/Berlin:20231218T180000
DTEND;TZID=Europe/Berlin:20231218T220000
DTSTAMP:20260422T034619
CREATED:20231011T104249Z
LAST-MODIFIED:20231011T104323Z
UID:10006420-1702922400-1702936800@www.khg-in-bayreuth.de
SUMMARY:Theatergruppe “Die Schwarzen Schafe” // Theatre group “The Black Sheep”
DESCRIPTION:Die legendären “Schwarzen Schafe” treffen sich jeden Montag in der KHG. Neueinsteiger*innen sind besonders am Anfang des Semesters herzlich willkommen!\nDenn: Zu Beginn des Semesters suchen alle gemeinsam ein Stück aus\, danach wird regelmäßig geprobt. Am Semesterende wird die KHG dann zur Bühne für die Aufführung des Stücks.\nOur legendary “Black Sheep” meet every Monday in the KHG. Newcomers are especially welcome at the beginning of the semester!\nBecause: At the beginning of the semester\, everyone chooses a play together and then rehearses regularly. At the end of the semester\, the KHG becomes the stage for the performance of the play.
URL:https://www.khg-in-bayreuth.de/event/theatergruppe-die-schwarzen-schafe-theatre-group-the-black-sheep-3/2023-12-18/
LOCATION:KHG Bayreuth\, Emil-Warburg-Weg 17\, KHG Bayreuth\, 95447\, Deutschland
END:VEVENT
BEGIN:VEVENT
DTSTART;TZID=Europe/Berlin:20231219T190000
DTEND;TZID=Europe/Berlin:20231219T230000
DTSTAMP:20260422T034619
CREATED:20230830T124549Z
LAST-MODIFIED:20230830T124557Z
UID:10006229-1703012400-1703026800@www.khg-in-bayreuth.de
SUMMARY:KHG Weihnachtsfeier // KHG Christmas Party
DESCRIPTION:
URL:https://www.khg-in-bayreuth.de/event/khg-weihnachtsfeier-khg-christmas-party/
LOCATION:KHG Bayreuth\, Emil-Warburg-Weg 17\, KHG Bayreuth\, 95447\, Deutschland
END:VEVENT
BEGIN:VEVENT
DTSTART;TZID=Europe/Berlin:20231220T120000
DTEND;TZID=Europe/Berlin:20231220T133000
DTSTAMP:20260422T034619
CREATED:20230919T170351Z
LAST-MODIFIED:20230919T170351Z
UID:10006398-1703073600-1703079000@www.khg-in-bayreuth.de
SUMMARY:Mittagspause für Leib und Seele // Lunch break for body and soul
DESCRIPTION:Jeden Mittwoch feiern wir die Mitte der Woche mit einer besonderen Mittagspause: Wir treffen uns um 12.00 Uhr in der KHG-Kapelle zum Mittagsgebet. Anschließend löffeln wir gemeinsam vegetarische Suppe. \nWer Lust hat\, beim Kochen der Suppe zu helfen\, darf gerne vorher (ab ca. 11.00 Uhr) in der KHG-Küche vorbeikommen. Auch eigene Rezepte sind gerne gesehen! \n– English version – \nEvery Wednesday we celebrate the middle of the week with a special lunch break: we meet  at 12.00 in the KHG chapel for midday prayer. Afterwards we spoon vegetarian soup together. \nAnyone who would like to help make the soup is welcome to come to the KHG kitchen beforehand (from about 11.00 a.m.). Your own recipes are also welcome!
URL:https://www.khg-in-bayreuth.de/event/mittagspause-fuer-leib-und-seele-lunch-break-for-body-and-soul-5/2023-12-20/
LOCATION:Emil-Warburg-Weg 17\, Bayreuth\, 95447\, Deutschland
END:VEVENT
BEGIN:VEVENT
DTSTART;TZID=Europe/Berlin:20231220T133000
DTEND;TZID=Europe/Berlin:20231220T150000
DTSTAMP:20260422T034619
CREATED:20230919T164052Z
LAST-MODIFIED:20230919T164740Z
UID:10006388-1703079000-1703084400@www.khg-in-bayreuth.de
SUMMARY:Sprachkurs Deutsch // German language course
DESCRIPTION:Studierende der Universität Bayreuth geben ehrenamtlich Deutschunterricht für Geflüchtete und weitere Interessierte. Nähere Infos auf Anfrage! \nStudents of the University of Bayreuth volunteer to teach German to refugees and other interested parties. More information on request!
URL:https://www.khg-in-bayreuth.de/event/sprachcafe-deutsch-german-language-cafe-2/2023-12-20/
LOCATION:KHG Bayreuth\, Emil-Warburg-Weg 17\, KHG Bayreuth\, 95447\, Deutschland
END:VEVENT
BEGIN:VEVENT
DTSTART;TZID=Europe/Berlin:20231220T180000
DTEND;TZID=Europe/Berlin:20231220T193000
DTSTAMP:20260422T034619
CREATED:20231026T151049Z
LAST-MODIFIED:20240112T110006Z
UID:10006524-1703095200-1703100600@www.khg-in-bayreuth.de
SUMMARY:Yoga
DESCRIPTION:Offene Yogastunde in ukrainischer und englischer Sprache \nOpen Yoga lesson in Ukrainian and English
URL:https://www.khg-in-bayreuth.de/event/yoga-13/2023-12-20/
LOCATION:KHG Bayreuth\, Emil-Warburg-Weg 17\, KHG Bayreuth\, 95447\, Deutschland
END:VEVENT
BEGIN:VEVENT
DTSTART;TZID=Europe/Berlin:20231221T180000
DTEND;TZID=Europe/Berlin:20231221T200000
DTSTAMP:20260422T034619
CREATED:20230129T174221Z
LAST-MODIFIED:20230129T174257Z
UID:10005431-1703181600-1703188800@www.khg-in-bayreuth.de
SUMMARY:Latin Rhythms class
DESCRIPTION:Join us! Salsa\, Reggaeton\, Merengue\, Bachata and other Latin rhythms.
URL:https://www.khg-in-bayreuth.de/event/latin-rhythms-class-3/2023-12-21/
LOCATION:KHG Bayreuth\, Emil-Warburg-Weg 17\, KHG Bayreuth\, 95447\, Deutschland
END:VEVENT
BEGIN:VEVENT
DTSTART;TZID=Europe/Berlin:20231221T201500
DTEND;TZID=Europe/Berlin:20231221T220000
DTSTAMP:20260422T034619
CREATED:20231011T105106Z
LAST-MODIFIED:20240104T125757Z
UID:10006455-1703189700-1703196000@www.khg-in-bayreuth.de
SUMMARY:Swahili Chor Bayreuth // Suahili Choir
DESCRIPTION:Jeden Donnerstag probt unser Swahili-Chor afrikanische Lieder in der KHG. Neue Sänger*innen sind jederzeit herzlich willkommen!\nEvery Thursday\, our Suahili choir rehearses African songs in the KHG. New singers are always welcome!
URL:https://www.khg-in-bayreuth.de/event/swahili-chor-bayreuth-suahili-choir-3/2023-12-21/
LOCATION:KHG Bayreuth\, Emil-Warburg-Weg 17\, KHG Bayreuth\, 95447\, Deutschland
END:VEVENT
BEGIN:VEVENT
DTSTART;TZID=Europe/Berlin:20231222T183000
DTEND;TZID=Europe/Berlin:20231222T200000
DTSTAMP:20260422T034619
CREATED:20231011T105611Z
LAST-MODIFIED:20231011T105645Z
UID:10006493-1703269800-1703275200@www.khg-in-bayreuth.de
SUMMARY:Salsa & Bachata
DESCRIPTION:Kostenlose Tanzstunde: Es wird Salsa und Bachata getanzt. Herzlich willkommen!
URL:https://www.khg-in-bayreuth.de/event/salsa-bachata-2/2023-12-22/
LOCATION:KHG Bayreuth\, Emil-Warburg-Weg 17\, KHG Bayreuth\, 95447\, Deutschland
END:VEVENT
BEGIN:VEVENT
DTSTART;TZID=Europe/Berlin:20231228T180000
DTEND;TZID=Europe/Berlin:20231228T200000
DTSTAMP:20260422T034619
CREATED:20230129T174221Z
LAST-MODIFIED:20230129T174257Z
UID:10005432-1703786400-1703793600@www.khg-in-bayreuth.de
SUMMARY:Latin Rhythms class
DESCRIPTION:Join us! Salsa\, Reggaeton\, Merengue\, Bachata and other Latin rhythms.
URL:https://www.khg-in-bayreuth.de/event/latin-rhythms-class-3/2023-12-28/
LOCATION:KHG Bayreuth\, Emil-Warburg-Weg 17\, KHG Bayreuth\, 95447\, Deutschland
END:VEVENT
END:VCALENDAR