BEGIN:VCALENDAR
VERSION:2.0
PRODID:-//KHG Bayreuth - ECPv6.15.3//NONSGML v1.0//EN
CALSCALE:GREGORIAN
METHOD:PUBLISH
X-WR-CALNAME:KHG Bayreuth
X-ORIGINAL-URL:https://www.khg-in-bayreuth.de
X-WR-CALDESC:Veranstaltungen für KHG Bayreuth
REFRESH-INTERVAL;VALUE=DURATION:PT1H
X-Robots-Tag:noindex
X-PUBLISHED-TTL:PT1H
BEGIN:VTIMEZONE
TZID:Europe/Berlin
BEGIN:DAYLIGHT
TZOFFSETFROM:+0100
TZOFFSETTO:+0200
TZNAME:CEST
DTSTART:20240331T010000
END:DAYLIGHT
BEGIN:STANDARD
TZOFFSETFROM:+0200
TZOFFSETTO:+0100
TZNAME:CET
DTSTART:20241027T010000
END:STANDARD
END:VTIMEZONE
BEGIN:VEVENT
DTSTART;TZID=Europe/Berlin:20240103T180000
DTEND;TZID=Europe/Berlin:20240103T193000
DTSTAMP:20260422T015643
CREATED:20231026T151049Z
LAST-MODIFIED:20240112T110006Z
UID:10006526-1704304800-1704310200@www.khg-in-bayreuth.de
SUMMARY:Yoga
DESCRIPTION:Offene Yogastunde in ukrainischer und englischer Sprache \nOpen Yoga lesson in Ukrainian and English
URL:https://www.khg-in-bayreuth.de/event/yoga-13/2024-01-03/
LOCATION:KHG Bayreuth\, Emil-Warburg-Weg 17\, KHG Bayreuth\, 95447\, Deutschland
END:VEVENT
BEGIN:VEVENT
DTSTART;TZID=Europe/Berlin:20240104T180000
DTEND;TZID=Europe/Berlin:20240104T200000
DTSTAMP:20260422T015643
CREATED:20230129T174221Z
LAST-MODIFIED:20230129T174257Z
UID:10005433-1704391200-1704398400@www.khg-in-bayreuth.de
SUMMARY:Latin Rhythms class
DESCRIPTION:Join us! Salsa\, Reggaeton\, Merengue\, Bachata and other Latin rhythms.
URL:https://www.khg-in-bayreuth.de/event/latin-rhythms-class-3/2024-01-04/
LOCATION:KHG Bayreuth\, Emil-Warburg-Weg 17\, KHG Bayreuth\, 95447\, Deutschland
END:VEVENT
BEGIN:VEVENT
DTSTART;TZID=Europe/Berlin:20240104T201500
DTEND;TZID=Europe/Berlin:20240104T220000
DTSTAMP:20260422T015643
CREATED:20231011T105106Z
LAST-MODIFIED:20240104T125757Z
UID:10006457-1704399300-1704405600@www.khg-in-bayreuth.de
SUMMARY:Swahili Chor Bayreuth // Suahili Choir
DESCRIPTION:Jeden Donnerstag probt unser Swahili-Chor afrikanische Lieder in der KHG. Neue Sänger*innen sind jederzeit herzlich willkommen!\nEvery Thursday\, our Suahili choir rehearses African songs in the KHG. New singers are always welcome!
URL:https://www.khg-in-bayreuth.de/event/swahili-chor-bayreuth-suahili-choir-3/2024-01-04/
LOCATION:KHG Bayreuth\, Emil-Warburg-Weg 17\, KHG Bayreuth\, 95447\, Deutschland
END:VEVENT
BEGIN:VEVENT
DTSTART;TZID=Europe/Berlin:20240105T183000
DTEND;TZID=Europe/Berlin:20240105T200000
DTSTAMP:20260422T015643
CREATED:20231011T105611Z
LAST-MODIFIED:20231011T105645Z
UID:10006495-1704479400-1704484800@www.khg-in-bayreuth.de
SUMMARY:Salsa & Bachata
DESCRIPTION:Kostenlose Tanzstunde: Es wird Salsa und Bachata getanzt. Herzlich willkommen!
URL:https://www.khg-in-bayreuth.de/event/salsa-bachata-2/2024-01-05/
LOCATION:KHG Bayreuth\, Emil-Warburg-Weg 17\, KHG Bayreuth\, 95447\, Deutschland
END:VEVENT
BEGIN:VEVENT
DTSTART;TZID=Europe/Berlin:20240108T140000
DTEND;TZID=Europe/Berlin:20240108T160000
DTSTAMP:20260422T015643
CREATED:20240106T170641Z
LAST-MODIFIED:20240108T122624Z
UID:10006718-1704722400-1704729600@www.khg-in-bayreuth.de
SUMMARY:Kurs "Grundlagen des Improvisationstheaters" // Course "Basics of improvisational theatre"
DESCRIPTION:Das Improvisationstheater ermutigt uns\, aus dem „Nichts“ Szenen und Geschichten auf der Bühne entstehen zu lassen. Vorerfahrungen sind nicht notwendig\, lediglich die Bereitschaft sich vollkommen auf die Gruppe\, den Moment und die Zusammenarbeit einzulassen. \nTermine: \nJeweils montags von 14:15 – 15:45Uhr \n(08.01./ 15.01. / 22.01. / 29.01. / 05.02.) \nDozentin: Eva Ockelmann\, wissenschaftliche Mitarbeiterin für Darstellendes Spiel und Theaterdidaktik an der Universität Bayreuth – nähere Infos und Anmeldung bei ihr: https://www.didaktikdeutsch.uni-bayreuth.de/de/team \n– English version – \nImprovisational theatre encourages us to create scenes and stories on stage out of “nothing”. No previous experience is necessary\, just a willingness to fully engage with the group\, the moment and the collaboration. \nDates: \nMondays from 14:15 – 15:45 \n(08.01./ 15.01. / 22.01. / 29.01. / 05.02.) \nLecturer: Eva Ockelmann\, research assistant for performing arts and theatre didactics at the University of Bayreuth – for further information and registration please contact her: https://www.didaktikdeutsch.uni-bayreuth.de/de/team \n 
URL:https://www.khg-in-bayreuth.de/event/kurs-theaterdidaktik-theatre-course-2/2024-01-08/
LOCATION:KHG Bayreuth\, Emil-Warburg-Weg 17\, KHG Bayreuth\, 95447\, Deutschland
END:VEVENT
BEGIN:VEVENT
DTSTART;TZID=Europe/Berlin:20240108T180000
DTEND;TZID=Europe/Berlin:20240108T220000
DTSTAMP:20260422T015643
CREATED:20231011T104249Z
LAST-MODIFIED:20231011T104323Z
UID:10006423-1704736800-1704751200@www.khg-in-bayreuth.de
SUMMARY:Theatergruppe “Die Schwarzen Schafe” // Theatre group “The Black Sheep”
DESCRIPTION:Die legendären “Schwarzen Schafe” treffen sich jeden Montag in der KHG. Neueinsteiger*innen sind besonders am Anfang des Semesters herzlich willkommen!\nDenn: Zu Beginn des Semesters suchen alle gemeinsam ein Stück aus\, danach wird regelmäßig geprobt. Am Semesterende wird die KHG dann zur Bühne für die Aufführung des Stücks.\nOur legendary “Black Sheep” meet every Monday in the KHG. Newcomers are especially welcome at the beginning of the semester!\nBecause: At the beginning of the semester\, everyone chooses a play together and then rehearses regularly. At the end of the semester\, the KHG becomes the stage for the performance of the play.
URL:https://www.khg-in-bayreuth.de/event/theatergruppe-die-schwarzen-schafe-theatre-group-the-black-sheep-3/2024-01-08/
LOCATION:KHG Bayreuth\, Emil-Warburg-Weg 17\, KHG Bayreuth\, 95447\, Deutschland
END:VEVENT
BEGIN:VEVENT
DTSTART;TZID=Europe/Berlin:20240109T200000
DTEND;TZID=Europe/Berlin:20240109T220000
DTSTAMP:20260422T015643
CREATED:20230901T065916Z
LAST-MODIFIED:20231215T111326Z
UID:10006231-1704830400-1704837600@www.khg-in-bayreuth.de
SUMMARY:KHG-Barabend: Winterfeuer vor der KHG // Winter fire in front of the KHG
DESCRIPTION:Wir beginnen das neue Jahr gemütlich mit einem Winterfeuer\, Stockbrot und Punsch. Herzliche Einladung! \nWe start the new year with a cozy winter fire\, stick bread and punch. A warm invitation!
URL:https://www.khg-in-bayreuth.de/event/khg-barabend-winterfeuer-winter-fire/
LOCATION:KHG Bayreuth\, Emil-Warburg-Weg 17\, KHG Bayreuth\, 95447\, Deutschland
END:VEVENT
BEGIN:VEVENT
DTSTART;TZID=Europe/Berlin:20240110T120000
DTEND;TZID=Europe/Berlin:20240110T133000
DTSTAMP:20260422T015643
CREATED:20230919T170351Z
LAST-MODIFIED:20230919T170351Z
UID:10006399-1704888000-1704893400@www.khg-in-bayreuth.de
SUMMARY:Mittagspause für Leib und Seele // Lunch break for body and soul
DESCRIPTION:Jeden Mittwoch feiern wir die Mitte der Woche mit einer besonderen Mittagspause: Wir treffen uns um 12.00 Uhr in der KHG-Kapelle zum Mittagsgebet. Anschließend löffeln wir gemeinsam vegetarische Suppe. \nWer Lust hat\, beim Kochen der Suppe zu helfen\, darf gerne vorher (ab ca. 11.00 Uhr) in der KHG-Küche vorbeikommen. Auch eigene Rezepte sind gerne gesehen! \n– English version – \nEvery Wednesday we celebrate the middle of the week with a special lunch break: we meet  at 12.00 in the KHG chapel for midday prayer. Afterwards we spoon vegetarian soup together. \nAnyone who would like to help make the soup is welcome to come to the KHG kitchen beforehand (from about 11.00 a.m.). Your own recipes are also welcome!
URL:https://www.khg-in-bayreuth.de/event/mittagspause-fuer-leib-und-seele-lunch-break-for-body-and-soul-5/2024-01-10/
LOCATION:Emil-Warburg-Weg 17\, Bayreuth\, 95447\, Deutschland
END:VEVENT
BEGIN:VEVENT
DTSTART;TZID=Europe/Berlin:20240110T180000
DTEND;TZID=Europe/Berlin:20240110T193000
DTSTAMP:20260422T015643
CREATED:20231026T151049Z
LAST-MODIFIED:20240112T110006Z
UID:10006527-1704909600-1704915000@www.khg-in-bayreuth.de
SUMMARY:Yoga
DESCRIPTION:Offene Yogastunde in ukrainischer und englischer Sprache \nOpen Yoga lesson in Ukrainian and English
URL:https://www.khg-in-bayreuth.de/event/yoga-13/2024-01-10/
LOCATION:KHG Bayreuth\, Emil-Warburg-Weg 17\, KHG Bayreuth\, 95447\, Deutschland
END:VEVENT
BEGIN:VEVENT
DTSTART;TZID=Europe/Berlin:20240110T194500
DTEND;TZID=Europe/Berlin:20240110T210000
DTSTAMP:20260422T015643
CREATED:20240106T151902Z
LAST-MODIFIED:20240106T152653Z
UID:10006589-1704915900-1704920400@www.khg-in-bayreuth.de
SUMMARY:Gospelchor // Gospel Choir
DESCRIPTION:Unser ökumenischer Gospelchor probt jeden Mittwoch ab 19.45 Uhr in der Albertus-Magnus-Kapelle. Wenn Du Spaß am Singen hast\, schau gerne vorbei! Keine Vorkenntnisse notwendig.  \nOur ecumenical gospel choir rehearses every Wednesday from 7.45 pm in the Albertus Magnus Chapel. If you enjoy singing\, just drop in! No previous experience necessary.
URL:https://www.khg-in-bayreuth.de/event/gospelchor-gospel-choir-7/2024-01-10/
LOCATION:KHG Bayreuth\, Emil-Warburg-Weg 17\, KHG Bayreuth\, 95447\, Deutschland
END:VEVENT
BEGIN:VEVENT
DTSTART;TZID=Europe/Berlin:20240111T180000
DTEND;TZID=Europe/Berlin:20240111T190000
DTSTAMP:20260422T015643
CREATED:20240111T152613Z
LAST-MODIFIED:20240111T152613Z
UID:10006727-1704996000-1704999600@www.khg-in-bayreuth.de
SUMMARY:Latin Rhythms Class
DESCRIPTION:Join us for free dance classes (in English language)! \nSalsa\, Reggaeton\, Merengue\, Bachata and other Latin rhythms. Everyone welcome!
URL:https://www.khg-in-bayreuth.de/event/latin-rhythms-class-6/2024-01-11/
LOCATION:KHG Bayreuth\, Emil-Warburg-Weg 17\, KHG Bayreuth\, 95447\, Deutschland
END:VEVENT
BEGIN:VEVENT
DTSTART;TZID=Europe/Berlin:20240111T180000
DTEND;TZID=Europe/Berlin:20240111T200000
DTSTAMP:20260422T015643
CREATED:20230129T174221Z
LAST-MODIFIED:20230129T174257Z
UID:10005434-1704996000-1705003200@www.khg-in-bayreuth.de
SUMMARY:Latin Rhythms class
DESCRIPTION:Join us! Salsa\, Reggaeton\, Merengue\, Bachata and other Latin rhythms.
URL:https://www.khg-in-bayreuth.de/event/latin-rhythms-class-3/2024-01-11/
LOCATION:KHG Bayreuth\, Emil-Warburg-Weg 17\, KHG Bayreuth\, 95447\, Deutschland
END:VEVENT
BEGIN:VEVENT
DTSTART;TZID=Europe/Berlin:20240111T201500
DTEND;TZID=Europe/Berlin:20240111T220000
DTSTAMP:20260422T015643
CREATED:20231011T105106Z
LAST-MODIFIED:20240104T125757Z
UID:10006458-1705004100-1705010400@www.khg-in-bayreuth.de
SUMMARY:Swahili Chor Bayreuth // Suahili Choir
DESCRIPTION:Jeden Donnerstag probt unser Swahili-Chor afrikanische Lieder in der KHG. Neue Sänger*innen sind jederzeit herzlich willkommen!\nEvery Thursday\, our Suahili choir rehearses African songs in the KHG. New singers are always welcome!
URL:https://www.khg-in-bayreuth.de/event/swahili-chor-bayreuth-suahili-choir-3/2024-01-11/
LOCATION:KHG Bayreuth\, Emil-Warburg-Weg 17\, KHG Bayreuth\, 95447\, Deutschland
END:VEVENT
BEGIN:VEVENT
DTSTART;TZID=Europe/Berlin:20240112T183000
DTEND;TZID=Europe/Berlin:20240112T200000
DTSTAMP:20260422T015643
CREATED:20231011T105611Z
LAST-MODIFIED:20231011T105645Z
UID:10006496-1705084200-1705089600@www.khg-in-bayreuth.de
SUMMARY:Salsa & Bachata
DESCRIPTION:Kostenlose Tanzstunde: Es wird Salsa und Bachata getanzt. Herzlich willkommen!
URL:https://www.khg-in-bayreuth.de/event/salsa-bachata-2/2024-01-12/
LOCATION:KHG Bayreuth\, Emil-Warburg-Weg 17\, KHG Bayreuth\, 95447\, Deutschland
END:VEVENT
BEGIN:VEVENT
DTSTART;TZID=Europe/Berlin:20240112T200000
DTEND;TZID=Europe/Berlin:20240112T220000
DTSTAMP:20260422T015643
CREATED:20231011T101658Z
LAST-MODIFIED:20240109T173532Z
UID:10006410-1705089600-1705096800@www.khg-in-bayreuth.de
SUMMARY:Deutsch-chinesischer Stammtisch // German-Chinese regulars' table
DESCRIPTION:Unser Deutsch-Chinesischer Stammtisch zeigt am Freitag einen chinesischen Dokumentarfilm über eine Familie aus dem Volk der Ewenken\, einer ethnischen Minderheit\, die in Russland\, der Mongolei und dem Norden Chinas lebt. Das Verbot der traditionellen Lebensweise durch die chinesische Regierung hat das Nomadenvolk\, das bisher von Rentierzucht und -jagd lebte\, an den sozialen Abgrund geführt. Im Anschluss besteht die Möglichkeit zum Filmgespräch. \nSprache: Chinesisch mit englischen Untertiteln \nOn Friday\, our German-Chinese Stammtisch will be showing a Chinese documentary film about a family from the Evenk people\, an ethnic minority living in Russia\, Mongolia and northern China. The Chinese government’s ban on the traditional way of life has led the nomadic people\, who previously lived from reindeer herding and hunting\, to the social abyss. The film will be followed by a discussion. \nLanguage: Chinese with English subtitles
URL:https://www.khg-in-bayreuth.de/event/deutsch-chinesischer-stammtisch-german-chinese-regulars-table-9/
LOCATION:KHG Bayreuth\, Emil-Warburg-Weg 17\, KHG Bayreuth\, 95447\, Deutschland
END:VEVENT
BEGIN:VEVENT
DTSTART;TZID=Europe/Berlin:20240114T190000
DTEND;TZID=Europe/Berlin:20240114T200000
DTSTAMP:20260422T015643
CREATED:20231011T100821Z
LAST-MODIFIED:20231011T100836Z
UID:10006407-1705258800-1705262400@www.khg-in-bayreuth.de
SUMMARY:KHG-Messe // Holy Mass
DESCRIPTION:Wir feiern eine studentisch mitgestaltete Hl. Messe in der KHG-Kapelle. Kommt vorbei! Anschließend herzliche Einladung zum geselligen Beisammensein mit Pizza. \nWe will celebrate a student co-facilitated Mass in the KHG Chapel. Come by! Afterwards\, you are cordially invited to a social gathering with pizza.
URL:https://www.khg-in-bayreuth.de/event/khg-messe-holy-mass-10/
LOCATION:KHG Bayreuth\, Emil-Warburg-Weg 17\, KHG Bayreuth\, 95447\, Deutschland
END:VEVENT
BEGIN:VEVENT
DTSTART;TZID=Europe/Berlin:20240115T140000
DTEND;TZID=Europe/Berlin:20240115T160000
DTSTAMP:20260422T015643
CREATED:20240106T170641Z
LAST-MODIFIED:20240108T122624Z
UID:10006719-1705327200-1705334400@www.khg-in-bayreuth.de
SUMMARY:Kurs "Grundlagen des Improvisationstheaters" // Course "Basics of improvisational theatre"
DESCRIPTION:Das Improvisationstheater ermutigt uns\, aus dem „Nichts“ Szenen und Geschichten auf der Bühne entstehen zu lassen. Vorerfahrungen sind nicht notwendig\, lediglich die Bereitschaft sich vollkommen auf die Gruppe\, den Moment und die Zusammenarbeit einzulassen. \nTermine: \nJeweils montags von 14:15 – 15:45Uhr \n(08.01./ 15.01. / 22.01. / 29.01. / 05.02.) \nDozentin: Eva Ockelmann\, wissenschaftliche Mitarbeiterin für Darstellendes Spiel und Theaterdidaktik an der Universität Bayreuth – nähere Infos und Anmeldung bei ihr: https://www.didaktikdeutsch.uni-bayreuth.de/de/team \n– English version – \nImprovisational theatre encourages us to create scenes and stories on stage out of “nothing”. No previous experience is necessary\, just a willingness to fully engage with the group\, the moment and the collaboration. \nDates: \nMondays from 14:15 – 15:45 \n(08.01./ 15.01. / 22.01. / 29.01. / 05.02.) \nLecturer: Eva Ockelmann\, research assistant for performing arts and theatre didactics at the University of Bayreuth – for further information and registration please contact her: https://www.didaktikdeutsch.uni-bayreuth.de/de/team \n 
URL:https://www.khg-in-bayreuth.de/event/kurs-theaterdidaktik-theatre-course-2/2024-01-15/
LOCATION:KHG Bayreuth\, Emil-Warburg-Weg 17\, KHG Bayreuth\, 95447\, Deutschland
END:VEVENT
BEGIN:VEVENT
DTSTART;TZID=Europe/Berlin:20240115T180000
DTEND;TZID=Europe/Berlin:20240115T220000
DTSTAMP:20260422T015643
CREATED:20231011T104249Z
LAST-MODIFIED:20231011T104323Z
UID:10006424-1705341600-1705356000@www.khg-in-bayreuth.de
SUMMARY:Theatergruppe “Die Schwarzen Schafe” // Theatre group “The Black Sheep”
DESCRIPTION:Die legendären “Schwarzen Schafe” treffen sich jeden Montag in der KHG. Neueinsteiger*innen sind besonders am Anfang des Semesters herzlich willkommen!\nDenn: Zu Beginn des Semesters suchen alle gemeinsam ein Stück aus\, danach wird regelmäßig geprobt. Am Semesterende wird die KHG dann zur Bühne für die Aufführung des Stücks.\nOur legendary “Black Sheep” meet every Monday in the KHG. Newcomers are especially welcome at the beginning of the semester!\nBecause: At the beginning of the semester\, everyone chooses a play together and then rehearses regularly. At the end of the semester\, the KHG becomes the stage for the performance of the play.
URL:https://www.khg-in-bayreuth.de/event/theatergruppe-die-schwarzen-schafe-theatre-group-the-black-sheep-3/2024-01-15/
LOCATION:KHG Bayreuth\, Emil-Warburg-Weg 17\, KHG Bayreuth\, 95447\, Deutschland
END:VEVENT
BEGIN:VEVENT
DTSTART;TZID=Europe/Berlin:20240116T200000
DTEND;TZID=Europe/Berlin:20240116T220000
DTSTAMP:20260422T015643
CREATED:20230901T070117Z
LAST-MODIFIED:20231115T083306Z
UID:10006232-1705435200-1705442400@www.khg-in-bayreuth.de
SUMMARY:KHG-Barabend: Feministisch glauben in einer misogynen Kirche? // Feminist beliefs in a misogynist church?
DESCRIPTION:Gesprächsabend mit Viola Kohlberger.\n\nWie schaffen wir es\, zu einer geschlechtergerechten Kirche zu kommen? Zu dieser Frage haben wir Viola Kohlberger eingeladen. Sie ist Doktorandin der Katholischen Theologie und Diözesankuratin (geistliche Leitung) der DPSG (Deutsche Pfadfinderschaft Sankt Georg) im Bistum Augsburg. In diesem Amt ist sie die erste Frau und Nicht-Priesterin – aber sie geht noch weiter: Im kommenden Jahr will sie auch als Bundeskuratin\, also als geistliche Leitung auf Bundesebene kandidieren – und wäre damit immerhin Leiterin des mitgliederstärksten katholischen Jugendverbandes in Deutschland.\n\nViola Kohlberger war auch eine der wenigen jungen Frauen auf dem Synodalen Weg der katholischen Kirche in Deutschland und wird von ihren Erfahrungen dort berichten. Das Thema Geschlechtergerechtigkeit hat sie auch dort begleitet. Sie wird positive Ansätze und Ideen vorstellen\, wie die Kirche aus ihrer Sicht frauen- und queerfreundlicher werden kann – aber auch vor falschen Hoffnungen und Ent-Täuschungen warnen. Nach ihrem Vortrag wird es reichlich Zeit für Diskussionen und Kontroverse geben.\nHerzliche Einladung!\n\n\nDiscussion evening with Viola Kohlberger \nHow can we achieve a gender-equitable church? We have invited Viola Kohlberger to discuss this question. She is a doctoral candidate in Catholic theology and diocesan curate (spiritual leadership) of the DPSG (German Scout Association of St. George) in the diocese of Augsburg. She is the first woman to hold this position and is not a priest – but she goes even further: next year\, she also wants to run for federal curate\, i.e. for spiritual leadership at federal level – which would make her the head of the Catholic youth association with the largest number of members in Germany. \nViola Kohlberger was also one of the few young women on the synodal path of the Catholic Church in Germany and will report on her experiences there. The topic of gender equality also accompanied her there. She will present positive approaches and ideas on how the church can become more women- and queer-friendly from her point of view – but also warn against false hopes and disappointments. After her talk\, there will be plenty of time for discussion and controversy. You are cordially invited!
URL:https://www.khg-in-bayreuth.de/event/khg-barabend-laenderabend-georgien-country-evening-georgia/
LOCATION:KHG Bayreuth\, Emil-Warburg-Weg 17\, KHG Bayreuth\, 95447\, Deutschland
END:VEVENT
BEGIN:VEVENT
DTSTART;TZID=Europe/Berlin:20240117T120000
DTEND;TZID=Europe/Berlin:20240117T133000
DTSTAMP:20260422T015643
CREATED:20230919T170351Z
LAST-MODIFIED:20230919T170351Z
UID:10006400-1705492800-1705498200@www.khg-in-bayreuth.de
SUMMARY:Mittagspause für Leib und Seele // Lunch break for body and soul
DESCRIPTION:Jeden Mittwoch feiern wir die Mitte der Woche mit einer besonderen Mittagspause: Wir treffen uns um 12.00 Uhr in der KHG-Kapelle zum Mittagsgebet. Anschließend löffeln wir gemeinsam vegetarische Suppe. \nWer Lust hat\, beim Kochen der Suppe zu helfen\, darf gerne vorher (ab ca. 11.00 Uhr) in der KHG-Küche vorbeikommen. Auch eigene Rezepte sind gerne gesehen! \n– English version – \nEvery Wednesday we celebrate the middle of the week with a special lunch break: we meet  at 12.00 in the KHG chapel for midday prayer. Afterwards we spoon vegetarian soup together. \nAnyone who would like to help make the soup is welcome to come to the KHG kitchen beforehand (from about 11.00 a.m.). Your own recipes are also welcome!
URL:https://www.khg-in-bayreuth.de/event/mittagspause-fuer-leib-und-seele-lunch-break-for-body-and-soul-5/2024-01-17/
LOCATION:Emil-Warburg-Weg 17\, Bayreuth\, 95447\, Deutschland
END:VEVENT
BEGIN:VEVENT
DTSTART;TZID=Europe/Berlin:20240117T180000
DTEND;TZID=Europe/Berlin:20240117T193000
DTSTAMP:20260422T015643
CREATED:20231026T151049Z
LAST-MODIFIED:20240112T110006Z
UID:10006528-1705514400-1705519800@www.khg-in-bayreuth.de
SUMMARY:Yoga
DESCRIPTION:Offene Yogastunde in ukrainischer und englischer Sprache \nOpen Yoga lesson in Ukrainian and English
URL:https://www.khg-in-bayreuth.de/event/yoga-13/2024-01-17/
LOCATION:KHG Bayreuth\, Emil-Warburg-Weg 17\, KHG Bayreuth\, 95447\, Deutschland
END:VEVENT
BEGIN:VEVENT
DTSTART;TZID=Europe/Berlin:20240117T194500
DTEND;TZID=Europe/Berlin:20240117T210000
DTSTAMP:20260422T015643
CREATED:20240106T151902Z
LAST-MODIFIED:20240106T152653Z
UID:10006590-1705520700-1705525200@www.khg-in-bayreuth.de
SUMMARY:Gospelchor // Gospel Choir
DESCRIPTION:Unser ökumenischer Gospelchor probt jeden Mittwoch ab 19.45 Uhr in der Albertus-Magnus-Kapelle. Wenn Du Spaß am Singen hast\, schau gerne vorbei! Keine Vorkenntnisse notwendig.  \nOur ecumenical gospel choir rehearses every Wednesday from 7.45 pm in the Albertus Magnus Chapel. If you enjoy singing\, just drop in! No previous experience necessary.
URL:https://www.khg-in-bayreuth.de/event/gospelchor-gospel-choir-7/2024-01-17/
LOCATION:KHG Bayreuth\, Emil-Warburg-Weg 17\, KHG Bayreuth\, 95447\, Deutschland
END:VEVENT
BEGIN:VEVENT
DTSTART;TZID=Europe/Berlin:20240118T160000
DTEND;TZID=Europe/Berlin:20240118T170000
DTSTAMP:20260422T015643
CREATED:20240109T164823Z
LAST-MODIFIED:20240109T164841Z
UID:10006723-1705593600-1705597200@www.khg-in-bayreuth.de
SUMMARY:Winter Yoga session
DESCRIPTION:The SKY Campus Bayreuth student group is organising a winter yoga session encompassing warm-up stretches and breathing techniques. Language: English
URL:https://www.khg-in-bayreuth.de/event/winter-yoga-session/
LOCATION:KHG Bayreuth\, Emil-Warburg-Weg 17\, KHG Bayreuth\, 95447\, Deutschland
END:VEVENT
BEGIN:VEVENT
DTSTART;TZID=Europe/Berlin:20240118T180000
DTEND;TZID=Europe/Berlin:20240118T190000
DTSTAMP:20260422T015643
CREATED:20240111T152613Z
LAST-MODIFIED:20240111T152613Z
UID:10006728-1705600800-1705604400@www.khg-in-bayreuth.de
SUMMARY:Latin Rhythms Class
DESCRIPTION:Join us for free dance classes (in English language)! \nSalsa\, Reggaeton\, Merengue\, Bachata and other Latin rhythms. Everyone welcome!
URL:https://www.khg-in-bayreuth.de/event/latin-rhythms-class-6/2024-01-18/
LOCATION:KHG Bayreuth\, Emil-Warburg-Weg 17\, KHG Bayreuth\, 95447\, Deutschland
END:VEVENT
BEGIN:VEVENT
DTSTART;TZID=Europe/Berlin:20240118T180000
DTEND;TZID=Europe/Berlin:20240118T200000
DTSTAMP:20260422T015643
CREATED:20230129T174221Z
LAST-MODIFIED:20230129T174257Z
UID:10005435-1705600800-1705608000@www.khg-in-bayreuth.de
SUMMARY:Latin Rhythms class
DESCRIPTION:Join us! Salsa\, Reggaeton\, Merengue\, Bachata and other Latin rhythms.
URL:https://www.khg-in-bayreuth.de/event/latin-rhythms-class-3/2024-01-18/
LOCATION:KHG Bayreuth\, Emil-Warburg-Weg 17\, KHG Bayreuth\, 95447\, Deutschland
END:VEVENT
BEGIN:VEVENT
DTSTART;TZID=Europe/Berlin:20240118T201500
DTEND;TZID=Europe/Berlin:20240118T220000
DTSTAMP:20260422T015643
CREATED:20231011T105106Z
LAST-MODIFIED:20240104T125757Z
UID:10006459-1705608900-1705615200@www.khg-in-bayreuth.de
SUMMARY:Swahili Chor Bayreuth // Suahili Choir
DESCRIPTION:Jeden Donnerstag probt unser Swahili-Chor afrikanische Lieder in der KHG. Neue Sänger*innen sind jederzeit herzlich willkommen!\nEvery Thursday\, our Suahili choir rehearses African songs in the KHG. New singers are always welcome!
URL:https://www.khg-in-bayreuth.de/event/swahili-chor-bayreuth-suahili-choir-3/2024-01-18/
LOCATION:KHG Bayreuth\, Emil-Warburg-Weg 17\, KHG Bayreuth\, 95447\, Deutschland
END:VEVENT
BEGIN:VEVENT
DTSTART;TZID=Europe/Berlin:20240119T183000
DTEND;TZID=Europe/Berlin:20240119T200000
DTSTAMP:20260422T015643
CREATED:20231011T105611Z
LAST-MODIFIED:20231011T105645Z
UID:10006497-1705689000-1705694400@www.khg-in-bayreuth.de
SUMMARY:Salsa & Bachata
DESCRIPTION:Kostenlose Tanzstunde: Es wird Salsa und Bachata getanzt. Herzlich willkommen!
URL:https://www.khg-in-bayreuth.de/event/salsa-bachata-2/2024-01-19/
LOCATION:KHG Bayreuth\, Emil-Warburg-Weg 17\, KHG Bayreuth\, 95447\, Deutschland
END:VEVENT
BEGIN:VEVENT
DTSTART;TZID=Europe/Berlin:20240122T070000
DTEND;TZID=Europe/Berlin:20240122T080000
DTSTAMP:20260422T015643
CREATED:20240109T175723Z
LAST-MODIFIED:20240109T175723Z
UID:10006725-1705906800-1705910400@www.khg-in-bayreuth.de
SUMMARY:Frühschicht // Morning prayer with breakfast
DESCRIPTION:Herzlich willkommen zur Frühschicht: Wir treffen uns alle zwei Wochen (dazwischen ist Morgengebet in der ESG) zu einem stimmungsvollen Morgengebet in der Kapelle und anschließend zum gemeinsamen Frühstück. \nWelcome to the “Morning Shift”: We meet every two weeks (in between there is morning prayer in the ESG) for an atmospheric morning prayer in the chapel and then for breakfast together.
URL:https://www.khg-in-bayreuth.de/event/fruehschicht-morning-prayer-with-breakfast/
LOCATION:KHG Bayreuth\, Emil-Warburg-Weg 17\, KHG Bayreuth\, 95447\, Deutschland
END:VEVENT
BEGIN:VEVENT
DTSTART;TZID=Europe/Berlin:20240122T140000
DTEND;TZID=Europe/Berlin:20240122T160000
DTSTAMP:20260422T015643
CREATED:20240106T170641Z
LAST-MODIFIED:20240108T122624Z
UID:10006720-1705932000-1705939200@www.khg-in-bayreuth.de
SUMMARY:Kurs "Grundlagen des Improvisationstheaters" // Course "Basics of improvisational theatre"
DESCRIPTION:Das Improvisationstheater ermutigt uns\, aus dem „Nichts“ Szenen und Geschichten auf der Bühne entstehen zu lassen. Vorerfahrungen sind nicht notwendig\, lediglich die Bereitschaft sich vollkommen auf die Gruppe\, den Moment und die Zusammenarbeit einzulassen. \nTermine: \nJeweils montags von 14:15 – 15:45Uhr \n(08.01./ 15.01. / 22.01. / 29.01. / 05.02.) \nDozentin: Eva Ockelmann\, wissenschaftliche Mitarbeiterin für Darstellendes Spiel und Theaterdidaktik an der Universität Bayreuth – nähere Infos und Anmeldung bei ihr: https://www.didaktikdeutsch.uni-bayreuth.de/de/team \n– English version – \nImprovisational theatre encourages us to create scenes and stories on stage out of “nothing”. No previous experience is necessary\, just a willingness to fully engage with the group\, the moment and the collaboration. \nDates: \nMondays from 14:15 – 15:45 \n(08.01./ 15.01. / 22.01. / 29.01. / 05.02.) \nLecturer: Eva Ockelmann\, research assistant for performing arts and theatre didactics at the University of Bayreuth – for further information and registration please contact her: https://www.didaktikdeutsch.uni-bayreuth.de/de/team \n 
URL:https://www.khg-in-bayreuth.de/event/kurs-theaterdidaktik-theatre-course-2/2024-01-22/
LOCATION:KHG Bayreuth\, Emil-Warburg-Weg 17\, KHG Bayreuth\, 95447\, Deutschland
END:VEVENT
BEGIN:VEVENT
DTSTART;TZID=Europe/Berlin:20240122T180000
DTEND;TZID=Europe/Berlin:20240122T220000
DTSTAMP:20260422T015643
CREATED:20231011T104249Z
LAST-MODIFIED:20231011T104323Z
UID:10006425-1705946400-1705960800@www.khg-in-bayreuth.de
SUMMARY:Theatergruppe “Die Schwarzen Schafe” // Theatre group “The Black Sheep”
DESCRIPTION:Die legendären “Schwarzen Schafe” treffen sich jeden Montag in der KHG. Neueinsteiger*innen sind besonders am Anfang des Semesters herzlich willkommen!\nDenn: Zu Beginn des Semesters suchen alle gemeinsam ein Stück aus\, danach wird regelmäßig geprobt. Am Semesterende wird die KHG dann zur Bühne für die Aufführung des Stücks.\nOur legendary “Black Sheep” meet every Monday in the KHG. Newcomers are especially welcome at the beginning of the semester!\nBecause: At the beginning of the semester\, everyone chooses a play together and then rehearses regularly. At the end of the semester\, the KHG becomes the stage for the performance of the play.
URL:https://www.khg-in-bayreuth.de/event/theatergruppe-die-schwarzen-schafe-theatre-group-the-black-sheep-3/2024-01-22/
LOCATION:KHG Bayreuth\, Emil-Warburg-Weg 17\, KHG Bayreuth\, 95447\, Deutschland
END:VEVENT
END:VCALENDAR