BEGIN:VCALENDAR
VERSION:2.0
PRODID:-//KHG Bayreuth - ECPv6.15.3//NONSGML v1.0//EN
CALSCALE:GREGORIAN
METHOD:PUBLISH
X-WR-CALNAME:KHG Bayreuth
X-ORIGINAL-URL:https://www.khg-in-bayreuth.de
X-WR-CALDESC:Veranstaltungen für KHG Bayreuth
REFRESH-INTERVAL;VALUE=DURATION:PT1H
X-Robots-Tag:noindex
X-PUBLISHED-TTL:PT1H
BEGIN:VTIMEZONE
TZID:Europe/Berlin
BEGIN:DAYLIGHT
TZOFFSETFROM:+0100
TZOFFSETTO:+0200
TZNAME:CEST
DTSTART:20240331T010000
END:DAYLIGHT
BEGIN:STANDARD
TZOFFSETFROM:+0200
TZOFFSETTO:+0100
TZNAME:CET
DTSTART:20241027T010000
END:STANDARD
END:VTIMEZONE
BEGIN:VEVENT
DTSTART;TZID=Europe/Berlin:20240201T180000
DTEND;TZID=Europe/Berlin:20240201T190000
DTSTAMP:20260422T000523
CREATED:20240111T152613Z
LAST-MODIFIED:20240111T152613Z
UID:10006730-1706810400-1706814000@www.khg-in-bayreuth.de
SUMMARY:Latin Rhythms Class
DESCRIPTION:Join us for free dance classes (in English language)! \nSalsa\, Reggaeton\, Merengue\, Bachata and other Latin rhythms. Everyone welcome!
URL:https://www.khg-in-bayreuth.de/event/latin-rhythms-class-6/2024-02-01/
LOCATION:KHG Bayreuth\, Emil-Warburg-Weg 17\, KHG Bayreuth\, 95447\, Deutschland
END:VEVENT
BEGIN:VEVENT
DTSTART;TZID=Europe/Berlin:20240201T201500
DTEND;TZID=Europe/Berlin:20240201T220000
DTSTAMP:20260422T000523
CREATED:20231011T105106Z
LAST-MODIFIED:20240104T125757Z
UID:10006461-1706818500-1706824800@www.khg-in-bayreuth.de
SUMMARY:Swahili Chor Bayreuth // Suahili Choir
DESCRIPTION:Jeden Donnerstag probt unser Swahili-Chor afrikanische Lieder in der KHG. Neue Sänger*innen sind jederzeit herzlich willkommen!\nEvery Thursday\, our Suahili choir rehearses African songs in the KHG. New singers are always welcome!
URL:https://www.khg-in-bayreuth.de/event/swahili-chor-bayreuth-suahili-choir-3/2024-02-01/
LOCATION:KHG Bayreuth\, Emil-Warburg-Weg 17\, KHG Bayreuth\, 95447\, Deutschland
END:VEVENT
BEGIN:VEVENT
DTSTART;TZID=Europe/Berlin:20240202T183000
DTEND;TZID=Europe/Berlin:20240202T200000
DTSTAMP:20260422T000523
CREATED:20231011T105611Z
LAST-MODIFIED:20231011T105645Z
UID:10006499-1706898600-1706904000@www.khg-in-bayreuth.de
SUMMARY:Salsa & Bachata
DESCRIPTION:Kostenlose Tanzstunde: Es wird Salsa und Bachata getanzt. Herzlich willkommen!
URL:https://www.khg-in-bayreuth.de/event/salsa-bachata-2/2024-02-02/
LOCATION:KHG Bayreuth\, Emil-Warburg-Weg 17\, KHG Bayreuth\, 95447\, Deutschland
END:VEVENT
BEGIN:VEVENT
DTSTART;TZID=Europe/Berlin:20240202T200000
DTEND;TZID=Europe/Berlin:20240202T220000
DTSTAMP:20260422T000523
CREATED:20231011T101757Z
LAST-MODIFIED:20240111T160659Z
UID:10006411-1706904000-1706911200@www.khg-in-bayreuth.de
SUMMARY:Deutsch-chinesischer Stammtisch // German-Chinese regulars' table
DESCRIPTION:Wir feiern das chinesische Neujahrsfest! \nWe celebrate the Chinese New Year!
URL:https://www.khg-in-bayreuth.de/event/deutsch-chinesischer-stammtisch-german-chinese-regulars-table-10/
LOCATION:KHG Bayreuth\, Emil-Warburg-Weg 17\, KHG Bayreuth\, 95447\, Deutschland
END:VEVENT
BEGIN:VEVENT
DTSTART;TZID=Europe/Berlin:20240203T180000
DTEND;TZID=Europe/Berlin:20240203T223000
DTSTAMP:20260422T000523
CREATED:20230906T064912Z
LAST-MODIFIED:20240111T160949Z
UID:10006236-1706983200-1706999400@www.khg-in-bayreuth.de
SUMMARY:KHG-Kärwa - Kirchweihgottesdienst und Festabend // Chapel Anniversary service and festive evening
DESCRIPTION:Es ist wieder so weit – wir feiern KHG-Kärwa! \n(Für Nicht-Franken: Kirchweih/ Kirmes/ Jubiläum des Weihetages der KHG-Kapelle …) Nach einem festlichen Kerwagottesdienst mit unserer neu gegründeten ökumenischen Band treffen wir uns zum Weiterfeiern an der Bar und im Roncalli-Saal. Musikalische\, schauspielerische\, spielerische oder sonstige kreative Einlagen sind herzlich willkommen! \n– English version – \nIt’s that time again – we’re celebrating KHG-Kärwa! \n(For non-Franconians: anniversary of the consecration day of the KHG chapel …) After a festive Church Anniversary service with our newly founded ecumenical band\, we meet at the bar and in the Roncalli Hall to continue the celebrations. Musical\, theatrical\, playful or other creative interludes are very welcome!
URL:https://www.khg-in-bayreuth.de/event/khg-kerwa-kirchweihgotttesdienst-und-festabend-kirchweih-service-and-festive-evening/
LOCATION:KHG Bayreuth\, Emil-Warburg-Weg 17\, KHG Bayreuth\, 95447\, Deutschland
END:VEVENT
BEGIN:VEVENT
DTSTART;TZID=Europe/Berlin:20240205T070000
DTEND;TZID=Europe/Berlin:20240205T080000
DTSTAMP:20260422T000523
CREATED:20240109T175853Z
LAST-MODIFIED:20240109T175853Z
UID:10006726-1707116400-1707120000@www.khg-in-bayreuth.de
SUMMARY:Frühschicht // Morning prayer with breakfast
DESCRIPTION:Herzlich willkommen zur Frühschicht: Wir treffen uns alle zwei Wochen (dazwischen ist Morgengebet in der ESG) zu einem stimmungsvollen Morgengebet in der Kapelle und anschließend zum gemeinsamen Frühstück. \nWelcome to the “Morning Shift”: We meet every two weeks (in between there is morning prayer in the ESG) for an atmospheric morning prayer in the chapel and then for breakfast together.
URL:https://www.khg-in-bayreuth.de/event/fruehschicht-morning-prayer-with-breakfast-2/
LOCATION:KHG Bayreuth\, Emil-Warburg-Weg 17\, KHG Bayreuth\, 95447\, Deutschland
END:VEVENT
BEGIN:VEVENT
DTSTART;TZID=Europe/Berlin:20240205T140000
DTEND;TZID=Europe/Berlin:20240205T160000
DTSTAMP:20260422T000523
CREATED:20240106T170641Z
LAST-MODIFIED:20240108T122624Z
UID:10006722-1707141600-1707148800@www.khg-in-bayreuth.de
SUMMARY:Kurs "Grundlagen des Improvisationstheaters" // Course "Basics of improvisational theatre"
DESCRIPTION:Das Improvisationstheater ermutigt uns\, aus dem „Nichts“ Szenen und Geschichten auf der Bühne entstehen zu lassen. Vorerfahrungen sind nicht notwendig\, lediglich die Bereitschaft sich vollkommen auf die Gruppe\, den Moment und die Zusammenarbeit einzulassen. \nTermine: \nJeweils montags von 14:15 – 15:45Uhr \n(08.01./ 15.01. / 22.01. / 29.01. / 05.02.) \nDozentin: Eva Ockelmann\, wissenschaftliche Mitarbeiterin für Darstellendes Spiel und Theaterdidaktik an der Universität Bayreuth – nähere Infos und Anmeldung bei ihr: https://www.didaktikdeutsch.uni-bayreuth.de/de/team \n– English version – \nImprovisational theatre encourages us to create scenes and stories on stage out of “nothing”. No previous experience is necessary\, just a willingness to fully engage with the group\, the moment and the collaboration. \nDates: \nMondays from 14:15 – 15:45 \n(08.01./ 15.01. / 22.01. / 29.01. / 05.02.) \nLecturer: Eva Ockelmann\, research assistant for performing arts and theatre didactics at the University of Bayreuth – for further information and registration please contact her: https://www.didaktikdeutsch.uni-bayreuth.de/de/team \n 
URL:https://www.khg-in-bayreuth.de/event/kurs-theaterdidaktik-theatre-course-2/2024-02-05/
LOCATION:KHG Bayreuth\, Emil-Warburg-Weg 17\, KHG Bayreuth\, 95447\, Deutschland
END:VEVENT
BEGIN:VEVENT
DTSTART;TZID=Europe/Berlin:20240205T180000
DTEND;TZID=Europe/Berlin:20240205T220000
DTSTAMP:20260422T000523
CREATED:20231011T104249Z
LAST-MODIFIED:20231011T104323Z
UID:10006427-1707156000-1707170400@www.khg-in-bayreuth.de
SUMMARY:Theatergruppe “Die Schwarzen Schafe” // Theatre group “The Black Sheep”
DESCRIPTION:Die legendären “Schwarzen Schafe” treffen sich jeden Montag in der KHG. Neueinsteiger*innen sind besonders am Anfang des Semesters herzlich willkommen!\nDenn: Zu Beginn des Semesters suchen alle gemeinsam ein Stück aus\, danach wird regelmäßig geprobt. Am Semesterende wird die KHG dann zur Bühne für die Aufführung des Stücks.\nOur legendary “Black Sheep” meet every Monday in the KHG. Newcomers are especially welcome at the beginning of the semester!\nBecause: At the beginning of the semester\, everyone chooses a play together and then rehearses regularly. At the end of the semester\, the KHG becomes the stage for the performance of the play.
URL:https://www.khg-in-bayreuth.de/event/theatergruppe-die-schwarzen-schafe-theatre-group-the-black-sheep-3/2024-02-05/
LOCATION:KHG Bayreuth\, Emil-Warburg-Weg 17\, KHG Bayreuth\, 95447\, Deutschland
END:VEVENT
BEGIN:VEVENT
DTSTART;TZID=Europe/Berlin:20240206T200000
DTEND;TZID=Europe/Berlin:20240206T220000
DTSTAMP:20260422T000523
CREATED:20230906T064742Z
LAST-MODIFIED:20240124T113401Z
UID:10006235-1707249600-1707256800@www.khg-in-bayreuth.de
SUMMARY:KHG-Barabend: Die Sonne macht Chemie - Solare Energiespeicherung // The sun makes chemistry - solar energy storage
DESCRIPTION:Vortrags- und Gesprächsabend mit Prof. Dr. Roland Marschall\, Uni Bayreuth \nLecture and discussion evening with Prof. Dr. Roland Marschall\, University of Bayreuth
URL:https://www.khg-in-bayreuth.de/event/khg-barabend-chemische-experimente-chemistry-experiments/
LOCATION:KHG Bayreuth\, Emil-Warburg-Weg 17\, KHG Bayreuth\, 95447\, Deutschland
END:VEVENT
BEGIN:VEVENT
DTSTART;TZID=Europe/Berlin:20240207T120000
DTEND;TZID=Europe/Berlin:20240207T133000
DTSTAMP:20260422T000523
CREATED:20230919T170351Z
LAST-MODIFIED:20230919T170351Z
UID:10006403-1707307200-1707312600@www.khg-in-bayreuth.de
SUMMARY:Mittagspause für Leib und Seele // Lunch break for body and soul
DESCRIPTION:Jeden Mittwoch feiern wir die Mitte der Woche mit einer besonderen Mittagspause: Wir treffen uns um 12.00 Uhr in der KHG-Kapelle zum Mittagsgebet. Anschließend löffeln wir gemeinsam vegetarische Suppe. \nWer Lust hat\, beim Kochen der Suppe zu helfen\, darf gerne vorher (ab ca. 11.00 Uhr) in der KHG-Küche vorbeikommen. Auch eigene Rezepte sind gerne gesehen! \n– English version – \nEvery Wednesday we celebrate the middle of the week with a special lunch break: we meet  at 12.00 in the KHG chapel for midday prayer. Afterwards we spoon vegetarian soup together. \nAnyone who would like to help make the soup is welcome to come to the KHG kitchen beforehand (from about 11.00 a.m.). Your own recipes are also welcome!
URL:https://www.khg-in-bayreuth.de/event/mittagspause-fuer-leib-und-seele-lunch-break-for-body-and-soul-5/2024-02-07/
LOCATION:Emil-Warburg-Weg 17\, Bayreuth\, 95447\, Deutschland
END:VEVENT
BEGIN:VEVENT
DTSTART;TZID=Europe/Berlin:20240207T194500
DTEND;TZID=Europe/Berlin:20240207T210000
DTSTAMP:20260422T000523
CREATED:20240106T151902Z
LAST-MODIFIED:20240106T152653Z
UID:10006593-1707335100-1707339600@www.khg-in-bayreuth.de
SUMMARY:Gospelchor // Gospel Choir
DESCRIPTION:Unser ökumenischer Gospelchor probt jeden Mittwoch ab 19.45 Uhr in der Albertus-Magnus-Kapelle. Wenn Du Spaß am Singen hast\, schau gerne vorbei! Keine Vorkenntnisse notwendig.  \nOur ecumenical gospel choir rehearses every Wednesday from 7.45 pm in the Albertus Magnus Chapel. If you enjoy singing\, just drop in! No previous experience necessary.
URL:https://www.khg-in-bayreuth.de/event/gospelchor-gospel-choir-7/2024-02-07/
LOCATION:KHG Bayreuth\, Emil-Warburg-Weg 17\, KHG Bayreuth\, 95447\, Deutschland
END:VEVENT
BEGIN:VEVENT
DTSTART;TZID=Europe/Berlin:20240208T180000
DTEND;TZID=Europe/Berlin:20240208T190000
DTSTAMP:20260422T000523
CREATED:20240111T152613Z
LAST-MODIFIED:20240111T152613Z
UID:10006731-1707415200-1707418800@www.khg-in-bayreuth.de
SUMMARY:Latin Rhythms Class
DESCRIPTION:Join us for free dance classes (in English language)! \nSalsa\, Reggaeton\, Merengue\, Bachata and other Latin rhythms. Everyone welcome!
URL:https://www.khg-in-bayreuth.de/event/latin-rhythms-class-6/2024-02-08/
LOCATION:KHG Bayreuth\, Emil-Warburg-Weg 17\, KHG Bayreuth\, 95447\, Deutschland
END:VEVENT
BEGIN:VEVENT
DTSTART;TZID=Europe/Berlin:20240208T190000
DTEND;TZID=Europe/Berlin:20240208T200000
DTSTAMP:20260422T000523
CREATED:20230906T071754Z
LAST-MODIFIED:20240131T105316Z
UID:10006238-1707418800-1707422400@www.khg-in-bayreuth.de
SUMMARY:Ökumenischer Semesterschlussgottesdienst // Ecumenical end-of-semester service
DESCRIPTION:KHG und ESG beenden das Semester gemeinsam mit einem besonderen Gottesdienst\, begleitet von unserem wunderbaren Gospelchor. Anschließend gibt es geselliges Beisammensein in der ESG mit Pizza! \nKHG and ESG end the semester together with a special service\, accompanied by our wonderful gospel choir. Afterwards there will be a social gathering at the ESG with pizza!
URL:https://www.khg-in-bayreuth.de/event/oekumenischer-semesterschlussgottesdienst-ecumenical-end-of-semester-service-3/
LOCATION:Stadtkirche\, Kanzleistr. 9\, Bayreuth\, 95444\, Deutschland
END:VEVENT
BEGIN:VEVENT
DTSTART;TZID=Europe/Berlin:20240208T201500
DTEND;TZID=Europe/Berlin:20240208T220000
DTSTAMP:20260422T000523
CREATED:20231011T105106Z
LAST-MODIFIED:20240104T125757Z
UID:10006462-1707423300-1707429600@www.khg-in-bayreuth.de
SUMMARY:Swahili Chor Bayreuth // Suahili Choir
DESCRIPTION:Jeden Donnerstag probt unser Swahili-Chor afrikanische Lieder in der KHG. Neue Sänger*innen sind jederzeit herzlich willkommen!\nEvery Thursday\, our Suahili choir rehearses African songs in the KHG. New singers are always welcome!
URL:https://www.khg-in-bayreuth.de/event/swahili-chor-bayreuth-suahili-choir-3/2024-02-08/
LOCATION:KHG Bayreuth\, Emil-Warburg-Weg 17\, KHG Bayreuth\, 95447\, Deutschland
END:VEVENT
BEGIN:VEVENT
DTSTART;TZID=Europe/Berlin:20240209T183000
DTEND;TZID=Europe/Berlin:20240209T200000
DTSTAMP:20260422T000523
CREATED:20231011T105611Z
LAST-MODIFIED:20231011T105645Z
UID:10006500-1707503400-1707508800@www.khg-in-bayreuth.de
SUMMARY:Salsa & Bachata
DESCRIPTION:Kostenlose Tanzstunde: Es wird Salsa und Bachata getanzt. Herzlich willkommen!
URL:https://www.khg-in-bayreuth.de/event/salsa-bachata-2/2024-02-09/
LOCATION:KHG Bayreuth\, Emil-Warburg-Weg 17\, KHG Bayreuth\, 95447\, Deutschland
END:VEVENT
BEGIN:VEVENT
DTSTART;TZID=Europe/Berlin:20240210T200000
DTEND;TZID=Europe/Berlin:20240210T220000
DTSTAMP:20260422T000523
CREATED:20240112T083712Z
LAST-MODIFIED:20240112T083806Z
UID:10006733-1707595200-1707602400@www.khg-in-bayreuth.de
SUMMARY:Premiere Theatergruppe Schwarze Schafe: Robin Hood - Theaterfassung nach Bernd Klaus Jerofke // Premiere of the theater group Schwarze Schafe: Robin Hood - theater version after Bernd Klaus Jerofke
DESCRIPTION:Es ist wieder soweit! Der Schwarze Schafe e.V. präsentiert das Theaterstück „Robin Hood“ von Bernd Klaus Jerofke: Der junge Bettelmönch Robin zieht durch die Lande und trifft im Sherwood Forest auf eine Gruppe Frauen\, der er sich anschließt. Als Robin Hood wird er durch seine zahlreichen Streiche bekannt und macht dem Sheriff das Leben zunehmend schwer. Dieser greift auf Rat seiner Frau Lady Joan zu immer drastischeren Maßnahmen\, um Robin Hood das Handwerk legen zu können. In einem finalen Kampf entscheidet es sich schlussendlich: Robin Hood oder der Sheriff von Nottingham!\nDie Schwarzen Schafe laden euch zu den Vorstellungen ein.\n Tickets: 5€\, ab 29.1.\, jeweils von 11-14 Uhr vor der Unimensa\, bei schlechtem Wetter drinnen. \nIt’s that time again! The Schwarze Schafe e.V. presents the play “Robin Hood” by Bernd Klaus Jerofke: The young beggar monk Robin travels through the countryside and meets a group of women in Sherwood Forest\, which he joins. As Robin Hood\, he becomes famous for his numerous pranks and makes life increasingly difficult for the sheriff. On the advice of his wife Lady Joan\, the Sheriff takes ever more drastic measures to put a stop to Robin Hood. In a final battle\, it is ultimately decided: Robin Hood or the Sheriff of Nottingham!\nThe Black Sheep invite you to the performances.\n Tickets: €5\, from 29.1.\, from 11 am to 2 pm in front of the Unimensa\, indoors in bad weather.
URL:https://www.khg-in-bayreuth.de/event/premiere-theatergruppe-schwarze-schafe-robin-hood-theaterfassung-nach-bernd-klaus-jerofke-premiere-of-the-theater-group-schwrobin-hood-theater-version-after-bernd-klaus-jerofke/
LOCATION:KHG Bayreuth\, Emil-Warburg-Weg 17\, KHG Bayreuth\, 95447\, Deutschland
END:VEVENT
BEGIN:VEVENT
DTSTART;TZID=Europe/Berlin:20240212T200000
DTEND;TZID=Europe/Berlin:20240212T220000
DTSTAMP:20260422T000523
CREATED:20240112T084212Z
LAST-MODIFIED:20240112T084220Z
UID:10006734-1707768000-1707775200@www.khg-in-bayreuth.de
SUMMARY:Theatergruppe Schwarze Schafe: Robin Hood - Theaterfassung nach Bernd Klaus Jerofke // Theater group Schwarze Schafe: Robin Hood - theater version after Bernd Klaus Jerofke
DESCRIPTION:Es ist wieder soweit! Der Schwarze Schafe e.V. präsentiert das Theaterstück „Robin Hood“ von Bernd Klaus Jerofke: Der junge Bettelmönch Robin zieht durch die Lande und trifft im Sherwood Forest auf eine Gruppe Frauen\, der er sich anschließt. Als Robin Hood wird er durch seine zahlreichen Streiche bekannt und macht dem Sheriff das Leben zunehmend schwer. Dieser greift auf Rat seiner Frau Lady Joan zu immer drastischeren Maßnahmen\, um Robin Hood das Handwerk legen zu können. In einem finalen Kampf entscheidet es sich schlussendlich: Robin Hood oder der Sheriff von Nottingham!\nDie Schwarzen Schafe laden euch zu den Vorstellungen ein.\n Tickets: 5€\, ab 29.1.\, jeweils von 11-14 Uhr vor der Unimensa\, bei schlechtem Wetter drinnen. \nIt’s that time again! The Schwarze Schafe e.V. presents the play “Robin Hood” by Bernd Klaus Jerofke: The young beggar monk Robin travels through the countryside and meets a group of women in Sherwood Forest\, which he joins. As Robin Hood\, he becomes famous for his numerous pranks and makes life increasingly difficult for the sheriff. On the advice of his wife Lady Joan\, the Sheriff takes ever more drastic measures to put a stop to Robin Hood. In a final battle\, it is ultimately decided: Robin Hood or the Sheriff of Nottingham!\nThe Black Sheep invite you to the performances.\n Tickets: €5\, from 29.1.\, from 11 am to 2 pm in front of the Unimensa\, indoors in bad weather.
URL:https://www.khg-in-bayreuth.de/event/theatergruppe-schwarze-schafe-robin-hood-theaterfassung-nach-bernd-klaus-jerofke-theater-group-schwarze-schafe-robin-hood-theater-version-after-bernd-klaus-jerofke/
LOCATION:KHG Bayreuth\, Emil-Warburg-Weg 17\, KHG Bayreuth\, 95447\, Deutschland
END:VEVENT
BEGIN:VEVENT
DTSTART;TZID=Europe/Berlin:20240215T200000
DTEND;TZID=Europe/Berlin:20240215T220000
DTSTAMP:20260422T000523
CREATED:20240112T084342Z
LAST-MODIFIED:20240112T084349Z
UID:10006735-1708027200-1708034400@www.khg-in-bayreuth.de
SUMMARY:Theatergruppe Schwarze Schafe: Robin Hood - Theaterfassung nach Bernd Klaus Jerofke // Theater group Schwarze Schafe: Robin Hood - theater version after Bernd Klaus Jerofke
DESCRIPTION:Es ist wieder soweit! Der Schwarze Schafe e.V. präsentiert das Theaterstück „Robin Hood“ von Bernd Klaus Jerofke: Der junge Bettelmönch Robin zieht durch die Lande und trifft im Sherwood Forest auf eine Gruppe Frauen\, der er sich anschließt. Als Robin Hood wird er durch seine zahlreichen Streiche bekannt und macht dem Sheriff das Leben zunehmend schwer. Dieser greift auf Rat seiner Frau Lady Joan zu immer drastischeren Maßnahmen\, um Robin Hood das Handwerk legen zu können. In einem finalen Kampf entscheidet es sich schlussendlich: Robin Hood oder der Sheriff von Nottingham!\nDie Schwarzen Schafe laden euch zu den Vorstellungen ein.\n Tickets: 5€\, ab 29.1.\, jeweils von 11-14 Uhr vor der Unimensa\, bei schlechtem Wetter drinnen. \nIt’s that time again! The Schwarze Schafe e.V. presents the play “Robin Hood” by Bernd Klaus Jerofke: The young beggar monk Robin travels through the countryside and meets a group of women in Sherwood Forest\, which he joins. As Robin Hood\, he becomes famous for his numerous pranks and makes life increasingly difficult for the sheriff. On the advice of his wife Lady Joan\, the Sheriff takes ever more drastic measures to put a stop to Robin Hood. In a final battle\, it is ultimately decided: Robin Hood or the Sheriff of Nottingham!\nThe Black Sheep invite you to the performances.\n Tickets: €5\, from 29.1.\, from 11 am to 2 pm in front of the Unimensa\, indoors in bad weather.
URL:https://www.khg-in-bayreuth.de/event/theatergruppe-schwarze-schafe-robin-hood-theaterfassung-nach-bernd-klaus-jerofke-theater-group-schwarze-schafe-robin-hood-theater-version-after-bernd-klaus-jerofke-2/
LOCATION:KHG Bayreuth\, Emil-Warburg-Weg 17\, KHG Bayreuth\, 95447\, Deutschland
END:VEVENT
BEGIN:VEVENT
DTSTART;TZID=Europe/Berlin:20240215T201500
DTEND;TZID=Europe/Berlin:20240215T220000
DTSTAMP:20260422T000523
CREATED:20231011T105106Z
LAST-MODIFIED:20240104T125757Z
UID:10006463-1708028100-1708034400@www.khg-in-bayreuth.de
SUMMARY:Swahili Chor Bayreuth // Suahili Choir
DESCRIPTION:Jeden Donnerstag probt unser Swahili-Chor afrikanische Lieder in der KHG. Neue Sänger*innen sind jederzeit herzlich willkommen!\nEvery Thursday\, our Suahili choir rehearses African songs in the KHG. New singers are always welcome!
URL:https://www.khg-in-bayreuth.de/event/swahili-chor-bayreuth-suahili-choir-3/2024-02-15/
LOCATION:KHG Bayreuth\, Emil-Warburg-Weg 17\, KHG Bayreuth\, 95447\, Deutschland
END:VEVENT
BEGIN:VEVENT
DTSTART;TZID=Europe/Berlin:20240216T200000
DTEND;TZID=Europe/Berlin:20240216T220000
DTSTAMP:20260422T000523
CREATED:20240112T084459Z
LAST-MODIFIED:20240112T084459Z
UID:10006736-1708113600-1708120800@www.khg-in-bayreuth.de
SUMMARY:Theatergruppe Schwarze Schafe: Robin Hood - Theaterfassung nach Bernd Klaus Jerofke // Theater group Schwarze Schafe: Robin Hood - theater version after Bernd Klaus Jerofke
DESCRIPTION:Es ist wieder soweit! Der Schwarze Schafe e.V. präsentiert das Theaterstück „Robin Hood“ von Bernd Klaus Jerofke: Der junge Bettelmönch Robin zieht durch die Lande und trifft im Sherwood Forest auf eine Gruppe Frauen\, der er sich anschließt. Als Robin Hood wird er durch seine zahlreichen Streiche bekannt und macht dem Sheriff das Leben zunehmend schwer. Dieser greift auf Rat seiner Frau Lady Joan zu immer drastischeren Maßnahmen\, um Robin Hood das Handwerk legen zu können. In einem finalen Kampf entscheidet es sich schlussendlich: Robin Hood oder der Sheriff von Nottingham!\nDie Schwarzen Schafe laden euch zu den Vorstellungen ein.\n Tickets: 5€\, ab 29.1.\, jeweils von 11-14 Uhr vor der Unimensa\, bei schlechtem Wetter drinnen. \nIt’s that time again! The Schwarze Schafe e.V. presents the play “Robin Hood” by Bernd Klaus Jerofke: The young beggar monk Robin travels through the countryside and meets a group of women in Sherwood Forest\, which he joins. As Robin Hood\, he becomes famous for his numerous pranks and makes life increasingly difficult for the sheriff. On the advice of his wife Lady Joan\, the Sheriff takes ever more drastic measures to put a stop to Robin Hood. In a final battle\, it is ultimately decided: Robin Hood or the Sheriff of Nottingham!\nThe Black Sheep invite you to the performances.\n Tickets: €5\, from 29.1.\, from 11 am to 2 pm in front of the Unimensa\, indoors in bad weather.
URL:https://www.khg-in-bayreuth.de/event/theatergruppe-schwarze-schafe-robin-hood-theaterfassung-nach-bernd-klaus-jerofke-theater-group-schwarze-schafe-robin-hood-theater-version-after-bernd-klaus-jerofke-3/
LOCATION:KHG Bayreuth\, Emil-Warburg-Weg 17\, KHG Bayreuth\, 95447\, Deutschland
END:VEVENT
BEGIN:VEVENT
DTSTART;TZID=Europe/Berlin:20240218T200000
DTEND;TZID=Europe/Berlin:20240218T220000
DTSTAMP:20260422T000523
CREATED:20240112T084804Z
LAST-MODIFIED:20240112T084831Z
UID:10006737-1708286400-1708293600@www.khg-in-bayreuth.de
SUMMARY:Theatergruppe Schwarze Schafe: Robin Hood - Theaterfassung nach Bernd Klaus Jerofke // Theater group Schwarze Schafe: Robin Hood - theater version after Bernd Klaus Jerofke
DESCRIPTION:Es ist wieder soweit! Der Schwarze Schafe e.V. präsentiert das Theaterstück „Robin Hood“ von Bernd Klaus Jerofke: Der junge Bettelmönch Robin zieht durch die Lande und trifft im Sherwood Forest auf eine Gruppe Frauen\, der er sich anschließt. Als Robin Hood wird er durch seine zahlreichen Streiche bekannt und macht dem Sheriff das Leben zunehmend schwer. Dieser greift auf Rat seiner Frau Lady Joan zu immer drastischeren Maßnahmen\, um Robin Hood das Handwerk legen zu können. In einem finalen Kampf entscheidet es sich schlussendlich: Robin Hood oder der Sheriff von Nottingham!\nDie Schwarzen Schafe laden euch zu den Vorstellungen ein.\n Tickets: 5€ vor Ort \nIt’s that time again! The Schwarze Schafe e.V. presents the play “Robin Hood” by Bernd Klaus Jerofke: The young beggar monk Robin travels through the countryside and meets a group of women in Sherwood Forest\, which he joins. As Robin Hood\, he becomes famous for his numerous pranks and makes life increasingly difficult for the sheriff. On the advice of his wife Lady Joan\, the Sheriff takes ever more drastic measures to put a stop to Robin Hood. In a final battle\, it is ultimately decided: Robin Hood or the Sheriff of Nottingham!\nThe Black Sheep invite you to the performances.\n Tickets: €5 on site
URL:https://www.khg-in-bayreuth.de/event/theatergruppe-schwarze-schafe-robin-hood-theaterfassung-nach-bernd-klaus-jerofke-theater-group-schwarze-schafe-robin-hood-theater-version-after-bernd-klaus-jerofke-4/
LOCATION:Glashaus\, Universitätsstr. 30 Baracke 6\, Bayreuth\, Uni Bayreuth\, Deutschland
END:VEVENT
BEGIN:VEVENT
DTSTART;TZID=Europe/Berlin:20240220T183000
DTEND;TZID=Europe/Berlin:20240220T200000
DTSTAMP:20260422T000523
CREATED:20240124T104604Z
LAST-MODIFIED:20240124T104817Z
UID:10006739-1708453800-1708459200@www.khg-in-bayreuth.de
SUMMARY:Junge ökumenische Alltagsexerzitien // Young ecumenical everyday retreats
DESCRIPTION:In der Passionszeit treffen wir uns außer in der Karwoche jeden Dienstag abwechselnd in KHG und ESG um 18.30 Uhr für gemeinsame Exerzitien (= Spirituelle Inputs\, gemeinsames Gespräch und Austausch über Gott\, die Welt und sich selbst). Beginn in der KHG am 20.2.2024.\nFür eine vorherige Anmeldung wären wir dankbar\, freuen uns aber genauso über spontan Teilnehmende.\nAnschließend kochen wir gemeinsam und lassen den Abend ausklingen… \nDuring the Passion period\, except for Holy Week\, we meet every Tuesday\, alternating between KHG and ESG\, at 6.30 p.m. for a joint retreat (= spiritual inputs\, joint conversation and exchange about God\, the world and oneself). Start in the KHG on 20.2.2024.\nWe would be grateful for a prior registration\, but we are also happy about spontaneous participants.\nAfterwards we will cook together and finish the evening…
URL:https://www.khg-in-bayreuth.de/event/junge-oekumenische-alltagsexerzitien-young-ecumenical-everyday-retreats/2024-02-20/
LOCATION:KHG Bayreuth\, Emil-Warburg-Weg 17\, KHG Bayreuth\, 95447\, Deutschland
END:VEVENT
END:VCALENDAR