BEGIN:VCALENDAR
VERSION:2.0
PRODID:-//KHG Bayreuth - ECPv6.15.3//NONSGML v1.0//EN
CALSCALE:GREGORIAN
METHOD:PUBLISH
X-WR-CALNAME:KHG Bayreuth
X-ORIGINAL-URL:https://www.khg-in-bayreuth.de
X-WR-CALDESC:Veranstaltungen für KHG Bayreuth
REFRESH-INTERVAL;VALUE=DURATION:PT1H
X-Robots-Tag:noindex
X-PUBLISHED-TTL:PT1H
BEGIN:VTIMEZONE
TZID:Europe/Berlin
BEGIN:DAYLIGHT
TZOFFSETFROM:+0100
TZOFFSETTO:+0200
TZNAME:CEST
DTSTART:20240331T010000
END:DAYLIGHT
BEGIN:STANDARD
TZOFFSETFROM:+0200
TZOFFSETTO:+0100
TZNAME:CET
DTSTART:20241027T010000
END:STANDARD
END:VTIMEZONE
BEGIN:VEVENT
DTSTART;TZID=Europe/Berlin:20240702T200000
DTEND;TZID=Europe/Berlin:20240702T220000
DTSTAMP:20260421T161117
CREATED:20240410T100031Z
LAST-MODIFIED:20240410T100031Z
UID:10006895-1719950400-1719957600@www.khg-in-bayreuth.de
SUMMARY:ESG Abend: Let´s talk about Faith - Let´s talk about you and me
DESCRIPTION:ab 18 Uhr Kochen & Essen \n-English version-\nfrom 6 p.m. Cooking & eating
URL:https://www.khg-in-bayreuth.de/event/esg-abend-lets-talk-about-faith-lets-talk-about-you-and-me/
LOCATION:ESG Bayreuth\, Richard-Wagner-Straße 24\, Bayreuth\, Deutschland
END:VEVENT
BEGIN:VEVENT
DTSTART;TZID=Europe/Berlin:20240703T120000
DTEND;TZID=Europe/Berlin:20240703T133000
DTSTAMP:20260421T161117
CREATED:20240327T111534Z
LAST-MODIFIED:20240327T111534Z
UID:10006879-1720008000-1720013400@www.khg-in-bayreuth.de
SUMMARY:Mittagspause für Leib und Seele // Lunch break for body and soul
DESCRIPTION:Jeden Mittwoch feiern wir die Mitte der Woche mit einer besonderen Mittagspause: Wir treffen uns um 12.00 Uhr in der KHG-Kapelle zum Mittagsgebet. Anschließend löffeln wir gemeinsam vegetarische Suppe.\nWer Lust hat\, beim Kochen der Suppe zu helfen\, darf gerne vorher (ab ca. 11.00 Uhr) in der KHG-Küche vorbeikommen. Auch eigene Rezepte sind gerne gesehen! \n– English version – \nEvery Wednesday we celebrate the middle of the week with a special lunch break: we meet at 12.00 in the KHG chapel for midday prayer. Afterwards we spoon vegetarian soup together.\nAnyone who would like to help make the soup is welcome to come to the KHG kitchen beforehand (from about 11.00 a.m.). Your own recipes are also welcome!
URL:https://www.khg-in-bayreuth.de/event/mittagspause-fuer-leib-und-seele-lunch-break-for-body-and-soul-6/2024-07-03/
LOCATION:KHG Bayreuth\, Emil-Warburg-Weg 17\, KHG Bayreuth\, 95447\, Deutschland
END:VEVENT
BEGIN:VEVENT
DTSTART;TZID=Europe/Berlin:20240703T181500
DTEND;TZID=Europe/Berlin:20240703T203000
DTSTAMP:20260421T161117
CREATED:20240320T130838Z
LAST-MODIFIED:20240320T130844Z
UID:10006864-1720030500-1720038600@www.khg-in-bayreuth.de
SUMMARY:BibelBAR in der KHG
DESCRIPTION:Jeden Mittwoch treffen wir uns und reden über Gott und die Welt. Die Treffen finden im wöchentlichen Wechsel bei KHG und ESG statt und beginnen jeweils um 18.15 Uhr mit einer Einstimmung an der Bar und um 19 Uhr beginnt der Gesprächsabend. \n-English version-\nWe meet every Wednesday to talk about God and the world. The meetings take place on alternate weeks at KHG and ESG and start at 6.15 p.m. with an introduction at the bar and at 7 p.m. the discussion evening begins.
URL:https://www.khg-in-bayreuth.de/event/bibelbar-in-der-khg-5/
LOCATION:KHG Bayreuth\, Emil-Warburg-Weg 17\, KHG Bayreuth\, 95447\, Deutschland
END:VEVENT
BEGIN:VEVENT
DTSTART;TZID=Europe/Berlin:20240704T193000
DTEND;TZID=Europe/Berlin:20240704T210000
DTSTAMP:20260421T161117
CREATED:20240422T115337Z
LAST-MODIFIED:20240422T115350Z
UID:10007189-1720121400-1720126800@www.khg-in-bayreuth.de
SUMMARY:Swahili Chor Bayreuth // Suahili Choir
DESCRIPTION:Jeden Donnerstag probt unser Swahili-Chor afrikanische Lieder in der KHG. Neue Sänger*innen sind jederzeit herzlich willkommen! \n-English version-\nEvery Thursday\, our Suahili choir rehearses African songs in the KHG. New singers are always welcome!
URL:https://www.khg-in-bayreuth.de/event/swahili-chor-bayreuth-suahili-choir-4/2024-07-04/
LOCATION:KHG Bayreuth\, Emil-Warburg-Weg 17\, KHG Bayreuth\, 95447\, Deutschland
END:VEVENT
BEGIN:VEVENT
DTSTART;TZID=Europe/Berlin:20240707T190000
DTEND;TZID=Europe/Berlin:20240707T200000
DTSTAMP:20260421T161117
CREATED:20240322T074036Z
LAST-MODIFIED:20240322T074222Z
UID:10006868-1720378800-1720382400@www.khg-in-bayreuth.de
SUMMARY:KHG-Messe // Holy Mass
DESCRIPTION:Wir feiern eine studentisch mitgestaltete Hl. Messe in der KHG-Kapelle. Kommt vorbei! Anschließend herzliche Einladung zum geselligen Beisammensein mit Pizza.\n-English version-\nWe will celebrate a student co-facilitated Mass in the KHG Chapel. Come by! Afterwards\, you are cordially invited to a social gathering with pizza.
URL:https://www.khg-in-bayreuth.de/event/khg-messe-holy-mass-14/
LOCATION:KHG Bayreuth\, Emil-Warburg-Weg 17\, KHG Bayreuth\, 95447\, Deutschland
END:VEVENT
BEGIN:VEVENT
DTSTART;TZID=Europe/Berlin:20240709T190000
DTEND;TZID=Europe/Berlin:20240709T220000
DTSTAMP:20260421T161117
CREATED:20240410T100326Z
LAST-MODIFIED:20240410T100332Z
UID:10006896-1720551600-1720562400@www.khg-in-bayreuth.de
SUMMARY:Planungsnacht KHG und ESG // Planning night KHG and ESG
DESCRIPTION:Wir planen gemeinsam das Wintersemester 2024/25. Herzliche Einladung! \n-English version-\nWe are planning the winter semester 2024/25 together. cordial invitation!
URL:https://www.khg-in-bayreuth.de/event/planungsnacht-khg-und-esg-planning-night-khg-and-esg/
LOCATION:KHG Bayreuth\, Emil-Warburg-Weg 17\, KHG Bayreuth\, 95447\, Deutschland
END:VEVENT
BEGIN:VEVENT
DTSTART;TZID=Europe/Berlin:20240710T120000
DTEND;TZID=Europe/Berlin:20240710T133000
DTSTAMP:20260421T161117
CREATED:20240327T111534Z
LAST-MODIFIED:20240327T111534Z
UID:10006880-1720612800-1720618200@www.khg-in-bayreuth.de
SUMMARY:Mittagspause für Leib und Seele // Lunch break for body and soul
DESCRIPTION:Jeden Mittwoch feiern wir die Mitte der Woche mit einer besonderen Mittagspause: Wir treffen uns um 12.00 Uhr in der KHG-Kapelle zum Mittagsgebet. Anschließend löffeln wir gemeinsam vegetarische Suppe.\nWer Lust hat\, beim Kochen der Suppe zu helfen\, darf gerne vorher (ab ca. 11.00 Uhr) in der KHG-Küche vorbeikommen. Auch eigene Rezepte sind gerne gesehen! \n– English version – \nEvery Wednesday we celebrate the middle of the week with a special lunch break: we meet at 12.00 in the KHG chapel for midday prayer. Afterwards we spoon vegetarian soup together.\nAnyone who would like to help make the soup is welcome to come to the KHG kitchen beforehand (from about 11.00 a.m.). Your own recipes are also welcome!
URL:https://www.khg-in-bayreuth.de/event/mittagspause-fuer-leib-und-seele-lunch-break-for-body-and-soul-6/2024-07-10/
LOCATION:KHG Bayreuth\, Emil-Warburg-Weg 17\, KHG Bayreuth\, 95447\, Deutschland
END:VEVENT
BEGIN:VEVENT
DTSTART;TZID=Europe/Berlin:20240710T181500
DTEND;TZID=Europe/Berlin:20240710T203000
DTSTAMP:20260421T161117
CREATED:20240320T130938Z
LAST-MODIFIED:20240320T130943Z
UID:10006865-1720635300-1720643400@www.khg-in-bayreuth.de
SUMMARY:BibelBAR in der ESG
DESCRIPTION:Jeden Mittwoch treffen wir uns und reden über Gott und die Welt. Die Treffen finden im wöchentlichen Wechsel bei KHG und ESG statt und beginnen jeweils um 18.15 Uhr mit einer Einstimmung an der Bar und um 19 Uhr beginnt der Gesprächsabend. \n-English version-\nWe meet every Wednesday to talk about God and the world. The meetings take place on alternate weeks at KHG and ESG and start at 6.15 p.m. with an introduction at the bar and at 7 p.m. the discussion evening begins.
URL:https://www.khg-in-bayreuth.de/event/bibelbar-in-der-esg-5/
LOCATION:KHG Bayreuth\, Emil-Warburg-Weg 17\, KHG Bayreuth\, 95447\, Deutschland
END:VEVENT
BEGIN:VEVENT
DTSTART;TZID=Europe/Berlin:20240711T193000
DTEND;TZID=Europe/Berlin:20240711T210000
DTSTAMP:20260421T161117
CREATED:20240422T115337Z
LAST-MODIFIED:20240422T115350Z
UID:10007190-1720726200-1720731600@www.khg-in-bayreuth.de
SUMMARY:Swahili Chor Bayreuth // Suahili Choir
DESCRIPTION:Jeden Donnerstag probt unser Swahili-Chor afrikanische Lieder in der KHG. Neue Sänger*innen sind jederzeit herzlich willkommen! \n-English version-\nEvery Thursday\, our Suahili choir rehearses African songs in the KHG. New singers are always welcome!
URL:https://www.khg-in-bayreuth.de/event/swahili-chor-bayreuth-suahili-choir-4/2024-07-11/
LOCATION:KHG Bayreuth\, Emil-Warburg-Weg 17\, KHG Bayreuth\, 95447\, Deutschland
END:VEVENT
BEGIN:VEVENT
DTSTART;TZID=Europe/Berlin:20240712T183000
DTEND;TZID=Europe/Berlin:20240712T200000
DTSTAMP:20260421T161117
CREATED:20240410T105608Z
LAST-MODIFIED:20240701T131758Z
UID:10006898-1720809000-1720814400@www.khg-in-bayreuth.de
SUMMARY:Ökum. Semesterschlussgottesdienst am See // Ecumenical end-of-semester service by the lake
DESCRIPTION:Wir schließen das Semester mit einem ökumenischen Gottesdienst am See im ÖBG mit dem Gospelchor und der Band “Seventh Day”. Anschließend grillen wir vor der KHG. \n-English version-\nWe end the semester with an ecumenical service at the lake in the ÖBG with the gospel choir and the band “Seventh Day”. Afterwards we will have a barbecue in front of the KHG.
URL:https://www.khg-in-bayreuth.de/event/oekum-semesterschlussgottesdienst-am-see-ecumenical-end-of-semester-service-by-the-lake/
LOCATION:KHG Bayreuth\, Emil-Warburg-Weg 17\, KHG Bayreuth\, 95447\, Deutschland
END:VEVENT
BEGIN:VEVENT
DTSTART;TZID=Europe/Berlin:20240716T200000
DTEND;TZID=Europe/Berlin:20240716T220000
DTSTAMP:20260421T161117
CREATED:20240410T100711Z
LAST-MODIFIED:20240705T094208Z
UID:10006897-1721160000-1721167200@www.khg-in-bayreuth.de
SUMMARY:Picknick am Uniteich - interkulturell\, kulinarisch\, sweet //  Picnic at the university pond - intercultural\, culinary\, sweet
DESCRIPTION:Nähere Infos folgen.\nMore info will follow.
URL:https://www.khg-in-bayreuth.de/event/gemeinsames-picknick-im-park-interkulturell-kulinarisch-sweet-joint-picnic-in-the-park-intercultural-culinary-sweet/
LOCATION:Hofgarten\, Ludwigstraße 21\, Bayreuth\, 95444\, Deutschland
END:VEVENT
BEGIN:VEVENT
DTSTART;TZID=Europe/Berlin:20240717T120000
DTEND;TZID=Europe/Berlin:20240717T133000
DTSTAMP:20260421T161117
CREATED:20240327T111534Z
LAST-MODIFIED:20240327T111534Z
UID:10006881-1721217600-1721223000@www.khg-in-bayreuth.de
SUMMARY:Mittagspause für Leib und Seele // Lunch break for body and soul
DESCRIPTION:Jeden Mittwoch feiern wir die Mitte der Woche mit einer besonderen Mittagspause: Wir treffen uns um 12.00 Uhr in der KHG-Kapelle zum Mittagsgebet. Anschließend löffeln wir gemeinsam vegetarische Suppe.\nWer Lust hat\, beim Kochen der Suppe zu helfen\, darf gerne vorher (ab ca. 11.00 Uhr) in der KHG-Küche vorbeikommen. Auch eigene Rezepte sind gerne gesehen! \n– English version – \nEvery Wednesday we celebrate the middle of the week with a special lunch break: we meet at 12.00 in the KHG chapel for midday prayer. Afterwards we spoon vegetarian soup together.\nAnyone who would like to help make the soup is welcome to come to the KHG kitchen beforehand (from about 11.00 a.m.). Your own recipes are also welcome!
URL:https://www.khg-in-bayreuth.de/event/mittagspause-fuer-leib-und-seele-lunch-break-for-body-and-soul-6/2024-07-17/
LOCATION:KHG Bayreuth\, Emil-Warburg-Weg 17\, KHG Bayreuth\, 95447\, Deutschland
END:VEVENT
BEGIN:VEVENT
DTSTART;TZID=Europe/Berlin:20240718T193000
DTEND;TZID=Europe/Berlin:20240718T210000
DTSTAMP:20260421T161117
CREATED:20240422T115337Z
LAST-MODIFIED:20240422T115350Z
UID:10007191-1721331000-1721336400@www.khg-in-bayreuth.de
SUMMARY:Swahili Chor Bayreuth // Suahili Choir
DESCRIPTION:Jeden Donnerstag probt unser Swahili-Chor afrikanische Lieder in der KHG. Neue Sänger*innen sind jederzeit herzlich willkommen! \n-English version-\nEvery Thursday\, our Suahili choir rehearses African songs in the KHG. New singers are always welcome!
URL:https://www.khg-in-bayreuth.de/event/swahili-chor-bayreuth-suahili-choir-4/2024-07-18/
LOCATION:KHG Bayreuth\, Emil-Warburg-Weg 17\, KHG Bayreuth\, 95447\, Deutschland
END:VEVENT
BEGIN:VEVENT
DTSTART;TZID=Europe/Berlin:20240720T200000
DTEND;TZID=Europe/Berlin:20240720T220000
DTSTAMP:20260421T161117
CREATED:20240415T112318Z
LAST-MODIFIED:20240415T112330Z
UID:10006901-1721505600-1721512800@www.khg-in-bayreuth.de
SUMMARY:Theaterpremiere "Die Schwarzen Schafe"
DESCRIPTION:Nähere Infos folgen. \nMore info will follow.
URL:https://www.khg-in-bayreuth.de/event/theaterpremiere-die-schwarzen-schafe/
LOCATION:KHG Bayreuth\, Emil-Warburg-Weg 17\, KHG Bayreuth\, 95447\, Deutschland
END:VEVENT
BEGIN:VEVENT
DTSTART;TZID=Europe/Berlin:20240722T200000
DTEND;TZID=Europe/Berlin:20240722T220000
DTSTAMP:20260421T161117
CREATED:20240415T112445Z
LAST-MODIFIED:20240415T112451Z
UID:10006902-1721678400-1721685600@www.khg-in-bayreuth.de
SUMMARY:Theatervorstellung "Die Schwarzen Schafe"
DESCRIPTION:Nähere Infos folgen. \nMore Info will follow.
URL:https://www.khg-in-bayreuth.de/event/theatervorstellung-die-schwarzen-schafe/
LOCATION:KHG Bayreuth\, Emil-Warburg-Weg 17\, KHG Bayreuth\, 95447\, Deutschland
END:VEVENT
BEGIN:VEVENT
DTSTART;TZID=Europe/Berlin:20240724T200000
DTEND;TZID=Europe/Berlin:20240724T220000
DTSTAMP:20260421T161117
CREATED:20240415T112550Z
LAST-MODIFIED:20240415T112557Z
UID:10006903-1721851200-1721858400@www.khg-in-bayreuth.de
SUMMARY:Theatervorstellung "Die Schwarzen Schafe"
DESCRIPTION:Nähere Infos folgen. \nMore info will follow.
URL:https://www.khg-in-bayreuth.de/event/theatervorstellung-die-schwarzen-schafe-2/
LOCATION:KHG Bayreuth\, Emil-Warburg-Weg 17\, KHG Bayreuth\, 95447\, Deutschland
END:VEVENT
BEGIN:VEVENT
DTSTART;TZID=Europe/Berlin:20240725T193000
DTEND;TZID=Europe/Berlin:20240725T210000
DTSTAMP:20260421T161117
CREATED:20240422T115337Z
LAST-MODIFIED:20240422T115350Z
UID:10007192-1721935800-1721941200@www.khg-in-bayreuth.de
SUMMARY:Swahili Chor Bayreuth // Suahili Choir
DESCRIPTION:Jeden Donnerstag probt unser Swahili-Chor afrikanische Lieder in der KHG. Neue Sänger*innen sind jederzeit herzlich willkommen! \n-English version-\nEvery Thursday\, our Suahili choir rehearses African songs in the KHG. New singers are always welcome!
URL:https://www.khg-in-bayreuth.de/event/swahili-chor-bayreuth-suahili-choir-4/2024-07-25/
LOCATION:KHG Bayreuth\, Emil-Warburg-Weg 17\, KHG Bayreuth\, 95447\, Deutschland
END:VEVENT
BEGIN:VEVENT
DTSTART;TZID=Europe/Berlin:20240726T200000
DTEND;TZID=Europe/Berlin:20240726T220000
DTSTAMP:20260421T161117
CREATED:20240415T112656Z
LAST-MODIFIED:20240415T112702Z
UID:10006904-1722024000-1722031200@www.khg-in-bayreuth.de
SUMMARY:Theatervorstellung "Die Schwarzen Schafe"
DESCRIPTION:Nähere Infos folgen. \nMore info will follow.
URL:https://www.khg-in-bayreuth.de/event/theatervorstellung-die-schwarzen-schafe-3/
LOCATION:KHG Bayreuth\, Emil-Warburg-Weg 17\, KHG Bayreuth\, 95447\, Deutschland
END:VEVENT
BEGIN:VEVENT
DTSTART;TZID=Europe/Berlin:20240728T200000
DTEND;TZID=Europe/Berlin:20240728T220000
DTSTAMP:20260421T161117
CREATED:20240415T112811Z
LAST-MODIFIED:20240415T112818Z
UID:10006905-1722196800-1722204000@www.khg-in-bayreuth.de
SUMMARY:Theaterderniere "Die Schwarzen Schafe"
DESCRIPTION:Nähere Infos folgen. \nMore info will follow.
URL:https://www.khg-in-bayreuth.de/event/theaterderniere-die-schwarzen-schafe/
LOCATION:Glashaus\, Universitätsstr. 30 Baracke 6\, Bayreuth\, Uni Bayreuth\, Deutschland
END:VEVENT
END:VCALENDAR