BEGIN:VCALENDAR
VERSION:2.0
PRODID:-//KHG Bayreuth - ECPv6.15.3//NONSGML v1.0//EN
CALSCALE:GREGORIAN
METHOD:PUBLISH
X-ORIGINAL-URL:https://www.khg-in-bayreuth.de
X-WR-CALDESC:Veranstaltungen für KHG Bayreuth
REFRESH-INTERVAL;VALUE=DURATION:PT1H
X-Robots-Tag:noindex
X-PUBLISHED-TTL:PT1H
BEGIN:VTIMEZONE
TZID:Europe/Berlin
BEGIN:DAYLIGHT
TZOFFSETFROM:+0100
TZOFFSETTO:+0200
TZNAME:CEST
DTSTART:20240331T010000
END:DAYLIGHT
BEGIN:STANDARD
TZOFFSETFROM:+0200
TZOFFSETTO:+0100
TZNAME:CET
DTSTART:20241027T010000
END:STANDARD
END:VTIMEZONE
BEGIN:VEVENT
DTSTART;TZID=Europe/Berlin:20241008T140000
DTEND;TZID=Europe/Berlin:20241008T160000
DTSTAMP:20260421T135230
CREATED:20240819T075350Z
LAST-MODIFIED:20240819T075354Z
UID:10007383-1728396000-1728403200@www.khg-in-bayreuth.de
SUMMARY:Welcome-Kaffee für neue internationale Studierende // Welcome coffee for new international students
DESCRIPTION:Zu einem International Coming Together mit Kaffee\, Kuchen und der Gelegenheit\, miteinander ins Gespräch zu kommen und erste Kontakte zu knüpfen\, laden ESG und KHG die internationalen Studierenden  in die ESG ein. Herzlich willkommen!\n—\nThe ESG and KHG invite international students to an International Coming Together with coffee\, cake and the opportunity to talk to each other and make initial contacts. A warm welcome!
URL:https://www.khg-in-bayreuth.de/event/welcome-kaffee-fuer-neue-internationale-studierende-welcome-coffee-for-new-international-students/
LOCATION:ESG Bayreuth\, Richard-Wagner-Straße 24\, Bayreuth\, Deutschland
END:VEVENT
BEGIN:VEVENT
DTSTART;TZID=Europe/Berlin:20241009T120000
DTEND;TZID=Europe/Berlin:20241009T133000
DTSTAMP:20260421T135230
CREATED:20240909T112416Z
LAST-MODIFIED:20240909T112733Z
UID:10007387-1728475200-1728480600@www.khg-in-bayreuth.de
SUMMARY:Mittagspause für Leib und Seele // Lunch break for body and soul
DESCRIPTION:Jeden Mittwoch feiern wir die Mitte der Woche mit einer besonderen Mittagspause: Wir treffen uns um 12.00 Uhr in der KHG-Kapelle zum Mittagsgebet. Anschließend löffeln wir gemeinsam vegetarische Suppe.\nWer Lust hat\, beim Kochen der Suppe zu helfen\, darf gerne vorher (ab ca. 11.00 Uhr) in der KHG-Küche vorbeikommen. Auch eigene Rezepte sind gerne gesehen!\n–\nEvery Wednesday we celebrate the middle of the week with a special lunch break: we meet at 12.00 in the KHG chapel for midday prayer. Afterwards we spoon vegetarian soup together.\nAnyone who would like to help make the soup is welcome to come to the KHG kitchen beforehand (from about 11.00 a.m.). Your own recipes are also welcome!
URL:https://www.khg-in-bayreuth.de/event/mittagspause-fuer-leib-und-seele-lunch-break-for-body-and-soul-2/
END:VEVENT
BEGIN:VEVENT
DTSTART;TZID=Europe/Berlin:20241015T200000
DTEND;TZID=Europe/Berlin:20241015T220000
DTSTAMP:20260421T135230
CREATED:20240819T075521Z
LAST-MODIFIED:20240909T111553Z
UID:10007384-1729022400-1729029600@www.khg-in-bayreuth.de
SUMMARY:Offener Abend mit Kennenlern- und Brettspielen // Open evening with games to get to know each other and board games
DESCRIPTION:Ein Spiele- und Kennenlernabend für alte und neue Gesichter.\n—\nAn evening of games and socializing for old and new faces.
URL:https://www.khg-in-bayreuth.de/event/spieleabend-game-evening/
END:VEVENT
BEGIN:VEVENT
DTSTART;TZID=Europe/Berlin:20241016T120000
DTEND;TZID=Europe/Berlin:20241016T133000
DTSTAMP:20260421T135230
CREATED:20241002T084653Z
LAST-MODIFIED:20241002T084657Z
UID:10007409-1729080000-1729085400@www.khg-in-bayreuth.de
SUMMARY:Mittagspause für Leib und Seele // Lunch break for body and soul
DESCRIPTION:Jeden Mittwoch feiern wir die Mitte der Woche mit einer besonderen Mittagspause: Wir treffen uns um 12.00 Uhr in der KHG-Kapelle zum Mittagsgebet. Anschließend löffeln wir gemeinsam vegetarische Suppe.\nWer Lust hat\, beim Kochen der Suppe zu helfen\, darf gerne vorher (ab ca. 11.00 Uhr) in der KHG-Küche vorbeikommen. Auch eigene Rezepte sind gerne gesehen!\n–\nEvery Wednesday we celebrate the middle of the week with a special lunch break: we meet at 12.00 in the KHG chapel for midday prayer. Afterwards we spoon vegetarian soup together.\nAnyone who would like to help make the soup is welcome to come to the KHG kitchen beforehand (from about 11.00 a.m.). Your own recipes are also welcome!
URL:https://www.khg-in-bayreuth.de/event/mittagspause-fuer-leib-und-seele-lunch-break-for-body-and-soul-7/
END:VEVENT
BEGIN:VEVENT
DTSTART;TZID=Europe/Berlin:20241017T120000
DTEND;TZID=Europe/Berlin:20241017T130000
DTSTAMP:20260421T135230
CREATED:20240923T103920Z
LAST-MODIFIED:20240923T103925Z
UID:10007395-1729166400-1729170000@www.khg-in-bayreuth.de
SUMMARY:Welcome-Café am Campus Kulmbach
DESCRIPTION:
URL:https://www.khg-in-bayreuth.de/event/welcome-cafe-am-campus-kulmbach/
END:VEVENT
BEGIN:VEVENT
DTSTART;TZID=Europe/Berlin:20241019T100000
DTEND;TZID=Europe/Berlin:20241019T180000
DTSTAMP:20260421T135230
CREATED:20240819T065739Z
LAST-MODIFIED:20240819T065750Z
UID:10007380-1729332000-1729360800@www.khg-in-bayreuth.de
SUMMARY:Neu in Bayreuth? Kennenlerntag (nicht nur) für Erstsemester // Getting to know each other day (not only) for first-year students
DESCRIPTION:Herzliche Einladung zum Kennenlerntag der ESG (Evangelische Studierendengemeinde) und KHG (Katholische Hochschulgemeinde). Dabei wollen euch die KHG und die ESG die Möglichkeit geben\, erste Kontakte mit anderen Studierenden zu knüpfen\, Fragen zu stellen und Bayreuth etwas besser kennenzulernen.\nBeginn um 10 Uhr in der ESG (Richard-Wagner-Straße 24)\n– “Meet & Greet”\n– Kennenlernspiele\n– gemeinsames Kochen\n– Mittagessen\n– Stadtkirche mit Turmbesteigung (toller Blick über Bayreuth!)\n– Stadtralley\n– Kaffee und Kuchen in der KHG\n– Informationen für Studienanfänger von der Zentralen Studienberatung und dem International Office\nNach einer Verschnauf- und Umbaupause findet um 19 Uhr zum Abschluss des Kennenlerntages der ökumenische Semesteranfangsgottesdienst in der KHG-Kapelle statt.\nAnschließend ist die Bar geöffnet und es gibt Pizza!\nAnmeldung bis zum 15.10. über den Link unten oder per E-Mail bzw. in den Büros von ESG und KHG (esg.bayreuth@elkb.de oder khg@uni-bayreuth.de). Unkostenbeitrag: ca. 5 – 7 €. (Genaueres geben wir noch bekannt.)\n—\nESG (Evangelische Studierendengemeinde) and KHG (Katholische Hochschulgemeinde) want to give you the opportunity to make first contacts with other students\, ask questions and get to know Bayreuth a little better.\nStart at 10 a.m. in the ESG (Richard-Wagner-Straße 24)\n– Warming up & getting to know each other\n– Cooking together\n– lunch\n– City church with tower tour (great view over Bayreuth!)\n– city rally\n– Coffee and cake in the KHG\n– Information for first-year students from the Central Student Advisory Service and the International Office\nAfter a breather and a change of scenery\, the ecumenical beginning-of-semester service will take place in the KHG chapel at 7 p.m. to conclude the day of getting to know each other.\nAfterwards\, the bar will be open and pizza will be served!\nRegistration by 15.10. by email (khg@uni-bayreuth.de or esg.bayreuth@elkb.de) or in the KHG or ESG offices. Contribution towards expenses: 5-7 €. (Further information will follow.)
URL:https://www.khg-in-bayreuth.de/event/neu-in-bayreuth-kennenlerntag-nicht-nur-fuer-erstsemester-getting-to-know-each-other-day-not-only-for-first-year-students/
END:VEVENT
BEGIN:VEVENT
DTSTART;TZID=Europe/Berlin:20241019T190000
DTEND;TZID=Europe/Berlin:20241019T200000
DTSTAMP:20260421T135230
CREATED:20240819T070041Z
LAST-MODIFIED:20240819T070532Z
UID:10007381-1729364400-1729368000@www.khg-in-bayreuth.de
SUMMARY:Ökumenischer Semesteranfangsgottesdienst mit Gospelchor und Band "7th Day" // Ecumenical start-of-semester service with gospel choir and band “7th Day”
DESCRIPTION:Wir starten mit einem ökumenischen Gottesdienst in das Semester -musikalisch gestaltet vom Gospelchor und der Band “7th Day”. Im Anschluss seid Ihr herzlich eingeladen\, bei Barbetrieb und Pizza miteinander ins Gespräch zu kommen und neue Kontakte zu knüpfen. \nWe will start the semester with an ecumenical service – musically performed by the gospel choir and the band “7th Day”. Afterwards\, you are cordially invited to drinks\, pizza and to get into conversation with each other and make new contacts.
URL:https://www.khg-in-bayreuth.de/event/oekumenischer-semesteranfangsgottesdienst-mit-gospelchor-und-band-7th-day/
END:VEVENT
BEGIN:VEVENT
DTSTART;TZID=Europe/Berlin:20241021T180000
DTEND;TZID=Europe/Berlin:20241021T210000
DTSTAMP:20260421T135230
CREATED:20240923T061750Z
LAST-MODIFIED:20240923T061800Z
UID:10007394-1729533600-1729544400@www.khg-in-bayreuth.de
SUMMARY:Begrüßungs- und Kennenlerntreffen der Theatergruppe "Die Schwarzen Schafe" // Welcome and get-to-know meeting of the theater group “Die Schwarzen Schafe”
DESCRIPTION:Ab 19.30 Uhr Vollversammlung des Vereins “Schwarze Schafe e.V.”
URL:https://www.khg-in-bayreuth.de/event/begruessungs-und-kennenlerntreffen-der-theatergruppe-die-schwarzen-schafe-welcome-and-get-to-know-meeting-of-the-theater-group-die-schwarzen-schafe/
END:VEVENT
BEGIN:VEVENT
DTSTART;TZID=Europe/Berlin:20241022T190000
DTEND;TZID=Europe/Berlin:20241022T220000
DTSTAMP:20260421T135230
CREATED:20240819T113758Z
LAST-MODIFIED:20241019T211523Z
UID:10007385-1729623600-1729634400@www.khg-in-bayreuth.de
SUMMARY:Gemeindeabend: Krimidinner // Crime Mystery Dinner
DESCRIPTION:Krimidinner-Night – Der Mörder ist mitten unter uns…\n\n… oder bist Du es vielleicht sogar selbst? – Ihr habt Bock auf ein Krimidinner und dabei neue Leute kennenzulernen? Hey\, dann schaut vorbei! Auf Euch warten verschiedensprachige Krimidinner in Deutsch und Englisch.\nEs wäre schön\, wenn Ihr Euch für unsere Planungen (Essen\, Rollenverteilung etc.) über den Link oben bis Sonntag\, 20.10.\, anmelden könntet. Vielen Dank! Wir freuen uns auf Euch! \n… or maybe it’s even you? – Fancy a murder mystery dinner and meeting new people at the same time? Hey\, then drop by! Crime dinners in German and English are waiting for you.\nIt would be great if you could register for our planning (dinner etc.) via the link above by Sunday 20/10. Thank you very much! We look forward to seeing you! \n\nCrime Dinner Night – The murderer is among us…\nDi\, 22.10.2024 19 Uhr\nAnmeldung | Registration \n\n\n\n\nOrt\nESG\nRichard-Wagner-Str. 24\n95444 Bayreuth\nTel. 0921 67120
URL:https://www.khg-in-bayreuth.de/event/esg-abend-krimidinner/
END:VEVENT
BEGIN:VEVENT
DTSTART;TZID=Europe/Berlin:20241023T080000
DTEND;TZID=Europe/Berlin:20241023T170000
DTSTAMP:20260421T135230
CREATED:20241023T121457Z
LAST-MODIFIED:20241113T124640Z
UID:10007684-1729670400-1729702800@www.khg-in-bayreuth.de
SUMMARY:BibelBar // BibleBAR
DESCRIPTION:Gesprächsabend: Jeden Mittwoch treffen wir uns und reden über Gott und die Welt. Die Treffen finden im wöchentlichen Wechsel bei KHG und ESG.\n–\nDiscussion evening: Every Wednesday we meet and talk about God and the world. The meetings alternate weekly between KHG and ESG.
URL:https://www.khg-in-bayreuth.de/event/bibelbar-biblebar/2024-10-23/1/
LOCATION:KHG Bayreuth\, Emil-Warburg-Weg 17\, KHG Bayreuth\, 95447\, Deutschland
END:VEVENT
BEGIN:VEVENT
DTSTART;TZID=Europe/Berlin:20241023T120000
DTEND;TZID=Europe/Berlin:20241023T133000
DTSTAMP:20260421T135230
CREATED:20241002T084814Z
LAST-MODIFIED:20241002T084825Z
UID:10007410-1729684800-1729690200@www.khg-in-bayreuth.de
SUMMARY:Mittagspause für Leib und Seele // Lunch break for body and soul
DESCRIPTION:Jeden Mittwoch feiern wir die Mitte der Woche mit einer besonderen Mittagspause: Wir treffen uns um 12.00 Uhr in der KHG-Kapelle zum Mittagsgebet. Anschließend löffeln wir gemeinsam vegetarische Suppe.\nWer Lust hat\, beim Kochen der Suppe zu helfen\, darf gerne vorher (ab ca. 11.00 Uhr) in der KHG-Küche vorbeikommen. Auch eigene Rezepte sind gerne gesehen!\n–\nEvery Wednesday we celebrate the middle of the week with a special lunch break: we meet at 12.00 in the KHG chapel for midday prayer. Afterwards we spoon vegetarian soup together.\nAnyone who would like to help make the soup is welcome to come to the KHG kitchen beforehand (from about 11.00 a.m.). Your own recipes are also welcome!
URL:https://www.khg-in-bayreuth.de/event/mittagspause-fuer-leib-und-seele-lunch-break-for-body-and-soul-8/
END:VEVENT
BEGIN:VEVENT
DTSTART;TZID=Europe/Berlin:20241023T180000
DTEND;TZID=Europe/Berlin:20241023T190000
DTSTAMP:20260421T135230
CREATED:20241023T123638Z
LAST-MODIFIED:20241023T123645Z
UID:10007584-1729706400-1729710000@www.khg-in-bayreuth.de
SUMMARY:Yoga
DESCRIPTION:Sportliches Yoga mit Mykhailo. Herzliche Einladung!\n–\nSporty yoga with Mykhailo. Cordial invitation!
URL:https://www.khg-in-bayreuth.de/event/yoga-15/2024-10-23/
LOCATION:KHG Bayreuth\, Emil-Warburg-Weg 17\, KHG Bayreuth\, 95447\, Deutschland
END:VEVENT
BEGIN:VEVENT
DTSTART;TZID=Europe/Berlin:20241023T181500
DTEND;TZID=Europe/Berlin:20241023T194500
DTSTAMP:20260421T135230
CREATED:20241023T121457Z
LAST-MODIFIED:20241113T124640Z
UID:10007523-1729707300-1729712700@www.khg-in-bayreuth.de
SUMMARY:BibelBar // BibleBAR
DESCRIPTION:Gesprächsabend: Jeden Mittwoch treffen wir uns und reden über Gott und die Welt. Die Treffen finden im wöchentlichen Wechsel bei KHG und ESG.\n–\nDiscussion evening: Every Wednesday we meet and talk about God and the world. The meetings alternate weekly between KHG and ESG.
URL:https://www.khg-in-bayreuth.de/event/bibelbar-biblebar/2024-10-23/2/
LOCATION:KHG Bayreuth\, Emil-Warburg-Weg 17\, KHG Bayreuth\, 95447\, Deutschland
END:VEVENT
BEGIN:VEVENT
DTSTART;TZID=Europe/Berlin:20241024T193000
DTEND;TZID=Europe/Berlin:20241024T210000
DTSTAMP:20260421T135230
CREATED:20241023T121250Z
LAST-MODIFIED:20241023T121258Z
UID:10007514-1729798200-1729803600@www.khg-in-bayreuth.de
SUMMARY:Swahili Chor Bayreuth // Suahili Choir
DESCRIPTION:Jeden Donnerstag probt unser Swahili-Chor afrikanische Lieder in der KHG. Neue Sänger*innen sind jederzeit herzlich willkommen!\n–\nEvery Thursday\, our Suahili choir rehearses African songs in the KHG. New singers are always welcome!
URL:https://www.khg-in-bayreuth.de/event/swahili-chor-bayreuth-suahili-choir-5/2024-10-24/
LOCATION:KHG Bayreuth\, Emil-Warburg-Weg 17\, KHG Bayreuth\, 95447\, Deutschland
END:VEVENT
BEGIN:VEVENT
DTSTART;TZID=Europe/Berlin:20241025T200000
DTEND;TZID=Europe/Berlin:20241025T214500
DTSTAMP:20260421T135230
CREATED:20240930T083000Z
LAST-MODIFIED:20240930T084400Z
UID:10007405-1729886400-1729892700@www.khg-in-bayreuth.de
SUMMARY:Multivisionsshow "gesund und fair würzen" // Multivision show “healthy and fair seasoning”
DESCRIPTION:Herzliche Einladung! Evangelisches Zentrum/Kleiner Saal\, Richard-Wagner-Str. 24\, 95444 Bayreuth mit lobOlmo \nDr. Jutta Ulmer und Dr. Michael Wolfsteiner haben auf Sri Lanka zwei Kleinbauern-Zusammenschlüsse besucht: die Fairtrade-gesiegelte Kooperative SOFA sowie das WFTO-Mitglied PODIE. Produzenten beider Organisationen haben die zwei herzlich empfangen und ihnen gezeigt\, wie sie Zimt\, Muskatnüsse\, Pfeffer\, Kurkuma und Gewürznelken produzieren. Den Frauen durften die beiden Fotojournalisten außerdem beim Kochen feurig-scharfer Currys über die Schulter schauen.\nMit beeindruckenden Bildern berichten Dr. Jutta Ulmer und Dr. Michael Wolfsteiner über den Anbau und die Verarbeitung von Gewürzen\, ihre Verwendungsmöglichkeiten in der Küche sowie ihre Heilkräfte. Sie erzählen auch von den Vorteilen\, die der Faire Handel den sri-lankischen Kleinbauern bringt\, und gehen auf die Unterschiede zwischen „Fairtrade-Siegel“ und „WFTO-Label“ ein. Beide sind zuverlässige Fair-Handels-Gütezeichen.\nDie Multivisionsshow bietet mit ihrer aufwändigen Programmierung\, den einfühlsamen Geschichten und Musikpassagen ein betörend-faires Gewürzerlebnis.\nAls Fotografen und Journalisten mit dem Schwerpunkt Fairer Handel sind Dr. Jutta Ulmer und Dr. Michael Wolfsteiner Mitglieder der World Fair Trade Organization (WFTO). Bekanntheit haben sie mit ihren beeindruckenden Multivisionsshows erlangt\, in denen sie den Fairen Handel mit ihren ganz persönlichen Reiseerlebnissen kombinieren. Sie zeigen ihre Fotos auf Großleinwand. Durch die perfekte Abstimmung von brillanten Bildern\, Live-Kommentaren und berührender Musik entsteht eine magische Atmosphäre\, die zu einem erkenntnisreichen Vergnügen einlädt. \nNach der Multivisionsshow gibt es Kostproben (unentgeldlich) bei denen Gewürze aus fairem Handel verwendet wurden\, sodass man sich einen Eindruck von Geschmack und Vielfalt der Gewürze machen kann. \nEintritt:\nVVK 8.- / 5.-\nAK 9.- / 6.-\nErmäßigung für Schüler\, Studenten\nEintrittskarten ab Oktober 2024 (VVK voraussichtlich Weltladen\, Kircheneck\, Theaterkasse)\, Anfragen sind vorher im Weltladen möglich  \nWeitere Informationen unter gewuerze.lobOlmo.de
URL:https://www.khg-in-bayreuth.de/event/multivisionsshow-gesund-und-fair-wuerzen-multivision-show-healthy-and-fair-seasoning/
LOCATION:Ev. Gemeindehaus\, Richard-Wagner-Str. 24\, Bayreuth
END:VEVENT
BEGIN:VEVENT
DTSTART;TZID=Europe/Berlin:20241026T100000
DTEND;TZID=Europe/Berlin:20241026T170000
DTSTAMP:20260421T135230
CREATED:20240819T074444Z
LAST-MODIFIED:20241021T114454Z
UID:10007382-1729936800-1729962000@www.khg-in-bayreuth.de
SUMMARY:Wanderung mit Pilzsuche // Hike with mushroom hunt
DESCRIPTION:– English version below – \nKeine Jahreszeit ist rund um Bayreuth so schön zum Wandern wie der Herbst – also gehen wir raus! \nIn diesem Jahr wollen wir nicht nur die wunderbare Natur im bunten Herbstkleid genießen\, sondern auch Pilze suchen und gemeinsam kochen. \nTreffpunkt: 12.00 Uhr an der Bushaltestelle Luitpoldplatz in Bayreuth: https://maps.app.goo.gl/DBD8uCjnevLMpgjJ9 . Für alle\, die aus Kulmbach anreisen: Es gibt eine Zug-/Busverbindung um 10.50 Uhr ab Bahnhof Kulmbach\, die um 11.43 Uhr am Hauptbahnhof Bayreuth ankommt. Von dort ist es nur ein kurzer Fußweg (oder eine Station mit dem Bus) bis zur Haltestelle Luitpoldplatz. \nWir fahren von dort mit dem Bus 387 nach Wolfsbach und wandern bis Schlehenberg\, wo ein Pilzexperte auf uns wartet. Mit ihm suchen und bestimmen wir Pilze. Im Anschluss wandern wir gemeinsam zurück nach Bayreuth (bei schlechtem Wetter können wir notfalls auch wieder den Bus nehmen). Gegen 16.00/ 16.30 Uhr sind wir zurück in Bayreuth und können in der ESG leckere Nudeln mit frischen Pilzen kochen. \nBitte mitbringen: luftdurchlässige Stoffbeutel oder Korb\, ein kleines Messer und ggf. einen Küchenpinsel für die Pilze\, Wanderschuhe\, wetterfeste Kleidung\, genügend Trinkwasser\, bei Bedarf einen kleinen Snack für zwischendurch\, Semesterticket und vor allem viel gute Laune! \nZur besseren Planung meldet Euch bitte bis Donnerstag\, 24. Oktober mit einer kurzen e-Mail an khg@uni-bayreuth.de an! \n  \n– English version – \nNo season around Bayreuth is as beautiful for hiking as autumn – so let’s get out there!\nThis year we not only want to enjoy the wonderful nature in its colourful autumn dress\, but also look for mushrooms and cook together. \nMeeting point: 12.00 noon at the Luitpoldplatz bus stop in Bayreuth: https://maps.app.goo.gl/DBD8uCjnevLMpgjJ9 . For all those travelling from Kulmbach: There is a train/bus connection at 10.50am from Kulmbach station\, arriving at Bayreuth main station at 11.43am. From there it is only a short walk (or one stop on the bus) to the Luitpoldplatz stop. \nFrom there\, we take bus 387 to Wolfsbach and hike to Schlehenberg\, where a mushroom expert will be waiting for us. We will look for and identify mushrooms with him. Afterwards\, we will walk back to Bayreuth together (if the weather is bad\, we can take the bus again if necessary). We will be back in Bayreuth around 4.00/ 4.30 pm and can cook delicious pasta with fresh mushrooms at the ESG. \nPlease bring: an air-permeable cloth bag or basket\, a small knife and\, if available\, a pastry brush for the mushrooms\, hiking boots\, weatherproof clothing\, enough drinking water\, a small snack for in between if required\, a semester ticket and\, above all\, a good mood! \nFor better planning\, please register by Thursday\, 24 October with a short email to khg@uni-bayreuth.de! \n  \n 
URL:https://www.khg-in-bayreuth.de/event/oekum-wanderung-pilzexkursion-mit-lbv-ecumenical-hike-mushroom-excursion-with-lbv/
END:VEVENT
BEGIN:VEVENT
DTSTART;TZID=Europe/Berlin:20241026T190000
DTEND;TZID=Europe/Berlin:20241026T220000
DTSTAMP:20260421T135230
CREATED:20241023T130659Z
LAST-MODIFIED:20241023T130703Z
UID:10007602-1729969200-1729980000@www.khg-in-bayreuth.de
SUMMARY:Egyptian night
DESCRIPTION:Organizer: ESN
URL:https://www.khg-in-bayreuth.de/event/egyptian-night/
LOCATION:KHG Bayreuth\, Emil-Warburg-Weg 17\, KHG Bayreuth\, 95447\, Deutschland
END:VEVENT
BEGIN:VEVENT
DTSTART;TZID=Europe/Berlin:20241027T190000
DTEND;TZID=Europe/Berlin:20241027T200000
DTSTAMP:20260421T135230
CREATED:20240911T090226Z
LAST-MODIFIED:20240911T090229Z
UID:10007389-1730055600-1730059200@www.khg-in-bayreuth.de
SUMMARY:KHG-Messe // Holy Mass
DESCRIPTION:Wir feiern eine studentisch mitgestaltete Hl. Messe in der KHG-Kapelle. Kommt vorbei! Anschließend herzliche Einladung zum geselligen Beisammensein mit Pizza.\n–\nWe will celebrate a student co-facilitated Mass in the KHG Chapel. Come by! Afterwards\, you are cordially invited to a social gathering with pizza.
URL:https://www.khg-in-bayreuth.de/event/khg-messe-holy-mass-15/
END:VEVENT
BEGIN:VEVENT
DTSTART;TZID=Europe/Berlin:20241028T180000
DTEND;TZID=Europe/Berlin:20241028T200000
DTSTAMP:20260421T135230
CREATED:20241023T120728Z
LAST-MODIFIED:20241023T120735Z
UID:10007506-1730138400-1730145600@www.khg-in-bayreuth.de
SUMMARY:Theatergruppe “Die Schwarzen Schafe” // Theatre group “The Black Sheep”
DESCRIPTION:Die legendären “Schwarzen Schafe” treffen sich jeden Montag in der KHG. Neueinsteiger*innen sind besonders am Anfang des Semesters herzlich willkommen!\nDenn: Zu Beginn des Semesters suchen alle gemeinsam ein Stück aus\, danach wird regelmäßig geprobt. Am Semesterende wird die KHG dann zur Bühne für die Aufführung des Stücks.\n–\nOur legendary “Black Sheep” meet every Monday in the KHG. Newcomers are especially welcome at the beginning of the semester!\nBecause: At the beginning of the semester\, everyone chooses a play together and then
URL:https://www.khg-in-bayreuth.de/event/theatergruppe-die-schwarzen-schafe-theatre-group-the-black-sheep-5/2024-10-28/
LOCATION:KHG Bayreuth\, Emil-Warburg-Weg 17\, KHG Bayreuth\, 95447\, Deutschland
END:VEVENT
BEGIN:VEVENT
DTSTART;TZID=Europe/Berlin:20241029T193000
DTEND;TZID=Europe/Berlin:20241029T200000
DTSTAMP:20260421T135230
CREATED:20241023T112940Z
LAST-MODIFIED:20241023T113300Z
UID:10007468-1730230200-1730232000@www.khg-in-bayreuth.de
SUMMARY:Abendandacht // Evening prayer
DESCRIPTION:Abendandacht in der KHG – vierzehntägig vor den KHG-Gemeindeabenden. \nEvening prayer in the KHG – fortnightly before the KHG community evenings.
URL:https://www.khg-in-bayreuth.de/event/abendandacht-evening-prayer/
LOCATION:KHG Bayreuth\, Emil-Warburg-Weg 17\, KHG Bayreuth\, 95447\, Deutschland
END:VEVENT
BEGIN:VEVENT
DTSTART;TZID=Europe/Berlin:20241029T200000
DTEND;TZID=Europe/Berlin:20241029T220000
DTSTAMP:20260421T135230
CREATED:20240904T130248Z
LAST-MODIFIED:20241028T143855Z
UID:10007386-1730232000-1730239200@www.khg-in-bayreuth.de
SUMMARY:Offener Abend/ Open Evening
DESCRIPTION:Herzliche Einladung zu einem gemütlichen Abend in der KHG! Wir treffen uns an der Bar\, spielen Spiele oder messen uns beim Tischtennis. Wer möchte\, kann gerne eigene Spiele oder Ideen mitbringen. Wir freuen uns auf Euch! \nA warm invitation to a cosy evening in the KHG! We meet at the bar\, play games or compete at table tennis. If you like\, you are welcome to bring your own games or ideas. We look forward to seeing you!
URL:https://www.khg-in-bayreuth.de/event/geschichtsabend-zu-den-hunnen-in-turkmenistan-und-der-mongolei-history-evening-on-the-huns-in-turkmenistan-and-mongolia/
END:VEVENT
BEGIN:VEVENT
DTSTART;TZID=Europe/Berlin:20241030T120000
DTEND;TZID=Europe/Berlin:20241030T133000
DTSTAMP:20260421T135230
CREATED:20241002T084909Z
LAST-MODIFIED:20241002T084912Z
UID:10007411-1730289600-1730295000@www.khg-in-bayreuth.de
SUMMARY:Mittagspause für Leib und Seele // Lunch break for body and soul
DESCRIPTION:Jeden Mittwoch feiern wir die Mitte der Woche mit einer besonderen Mittagspause: Wir treffen uns um 12.00 Uhr in der KHG-Kapelle zum Mittagsgebet. Anschließend löffeln wir gemeinsam vegetarische Suppe.\nWer Lust hat\, beim Kochen der Suppe zu helfen\, darf gerne vorher (ab ca. 11.00 Uhr) in der KHG-Küche vorbeikommen. Auch eigene Rezepte sind gerne gesehen!\n–\nEvery Wednesday we celebrate the middle of the week with a special lunch break: we meet at 12.00 in the KHG chapel for midday prayer. Afterwards we spoon vegetarian soup together.\nAnyone who would like to help make the soup is welcome to come to the KHG kitchen beforehand (from about 11.00 a.m.). Your own recipes are also welcome!
URL:https://www.khg-in-bayreuth.de/event/mittagspause-fuer-leib-und-seele-lunch-break-for-body-and-soul-9/
END:VEVENT
BEGIN:VEVENT
DTSTART;TZID=Europe/Berlin:20241030T180000
DTEND;TZID=Europe/Berlin:20241030T190000
DTSTAMP:20260421T135230
CREATED:20241023T123638Z
LAST-MODIFIED:20241023T123645Z
UID:10007585-1730311200-1730314800@www.khg-in-bayreuth.de
SUMMARY:Yoga
DESCRIPTION:Sportliches Yoga mit Mykhailo. Herzliche Einladung!\n–\nSporty yoga with Mykhailo. Cordial invitation!
URL:https://www.khg-in-bayreuth.de/event/yoga-15/2024-10-30/
LOCATION:KHG Bayreuth\, Emil-Warburg-Weg 17\, KHG Bayreuth\, 95447\, Deutschland
END:VEVENT
BEGIN:VEVENT
DTSTART;TZID=Europe/Berlin:20241030T181500
DTEND;TZID=Europe/Berlin:20241030T194500
DTSTAMP:20260421T135230
CREATED:20241023T121457Z
LAST-MODIFIED:20241113T124640Z
UID:10007524-1730312100-1730317500@www.khg-in-bayreuth.de
SUMMARY:BibelBar // BibleBAR
DESCRIPTION:Gesprächsabend: Jeden Mittwoch treffen wir uns und reden über Gott und die Welt. Die Treffen finden im wöchentlichen Wechsel bei KHG und ESG.\n–\nDiscussion evening: Every Wednesday we meet and talk about God and the world. The meetings alternate weekly between KHG and ESG.
URL:https://www.khg-in-bayreuth.de/event/bibelbar-biblebar/2024-10-30/
LOCATION:KHG Bayreuth\, Emil-Warburg-Weg 17\, KHG Bayreuth\, 95447\, Deutschland
END:VEVENT
BEGIN:VEVENT
DTSTART;TZID=Europe/Berlin:20241031T193000
DTEND;TZID=Europe/Berlin:20241031T210000
DTSTAMP:20260421T135230
CREATED:20241023T121250Z
LAST-MODIFIED:20241023T121258Z
UID:10007515-1730403000-1730408400@www.khg-in-bayreuth.de
SUMMARY:Swahili Chor Bayreuth // Suahili Choir
DESCRIPTION:Jeden Donnerstag probt unser Swahili-Chor afrikanische Lieder in der KHG. Neue Sänger*innen sind jederzeit herzlich willkommen!\n–\nEvery Thursday\, our Suahili choir rehearses African songs in the KHG. New singers are always welcome!
URL:https://www.khg-in-bayreuth.de/event/swahili-chor-bayreuth-suahili-choir-5/2024-10-31/
LOCATION:KHG Bayreuth\, Emil-Warburg-Weg 17\, KHG Bayreuth\, 95447\, Deutschland
END:VEVENT
END:VCALENDAR