BEGIN:VCALENDAR
VERSION:2.0
PRODID:-//KHG Bayreuth - ECPv6.15.3//NONSGML v1.0//EN
CALSCALE:GREGORIAN
METHOD:PUBLISH
X-ORIGINAL-URL:https://www.khg-in-bayreuth.de
X-WR-CALDESC:Veranstaltungen für KHG Bayreuth
REFRESH-INTERVAL;VALUE=DURATION:PT1H
X-Robots-Tag:noindex
X-PUBLISHED-TTL:PT1H
BEGIN:VTIMEZONE
TZID:Europe/Berlin
BEGIN:DAYLIGHT
TZOFFSETFROM:+0100
TZOFFSETTO:+0200
TZNAME:CEST
DTSTART:20250330T010000
END:DAYLIGHT
BEGIN:STANDARD
TZOFFSETFROM:+0200
TZOFFSETTO:+0100
TZNAME:CET
DTSTART:20251026T010000
END:STANDARD
END:VTIMEZONE
BEGIN:VEVENT
DTSTART;TZID=Europe/Berlin:20250501T090000
DTEND;TZID=Europe/Berlin:20250501T180000
DTSTAMP:20260422T031536
CREATED:20250305T134922Z
LAST-MODIFIED:20250423T131810Z
UID:10007735-1746090000-1746122400@www.khg-in-bayreuth.de
SUMMARY:Frühlingswanderung rund um Gößweinstein // Spring hike around Gößweinstein
DESCRIPTION:Miteinander unterwegs sein\, ins Gespräch kommen und die wunderbare Landschaft der Fränkischen Schweiz erleben: Bei unserer Maiwanderung erkunden wir diesmal den mittelalterlichen Ritter- und Wallfahrtsort Gößweinstein. Wir wandern durch die Felsenlandschaft im aufbrechenden Grün des Frühlings\, bekommen eine ortskundige Führung durch Burg und Wallfahrtsbasilika und picknicken miteinander. \nAbfahrt ist um 9.00 Uhr\, entweder mit Autos (wenn wir genügend finden) oder mit dem Zug ab Bayreuth Hbf. \nMeldet Euch möglichst rasch an – die Plätze sind begrenzt: per e-Mail and khg@uni-bayreuth.de . Gebt bei der Anmeldung bitte auch an\, ob Ihr ein Auto zur Verfügung stellen könnt. \nDenkt bitte an:\n• Wanderschuhe/ Sonnenschutz/ Regenjacke\n• Wasser und eine Brotzeit & etwas zum Teilen beim Picknick \nWenn wir zurück sind\, lassen wir den Abend/Nachmittag noch gemütlich in einem Lokal ausklingen. Wir freuen uns auf Euch! \n— \nHike together\, engage in dialogue and experience the wonderful landscape of Franconian Switzerland: On our May hike\, we will explore the medieval knights’ and pilgrimage site of Gößweinstein. We will hike through the rocky landscape in the bursting green of spring\, have a picnic together and get a guided tour of the castle and pilgrimage basilica. \nDeparture is at 9.00 am\, either by car (if we can find enough) or by train from Bayreuth main station. \nRegister as soon as possible – places are limited: by e-mail to khg@uni-bayreuth.de . When registering\, please also indicate whether you can provide a car. \nPlease remember\n– hiking boots/ sunscreen/ rain jacket\n– water and a snack & something to share at the picnic \nWhen we get back\, we’ll round off the evening/afternoon in a pub or restaurant. We look forward to seeing you!
URL:https://www.khg-in-bayreuth.de/event/oekum-wanderung-ecumenical-hike/
LOCATION:KHG Bayreuth\, Emil-Warburg-Weg 17\, KHG Bayreuth\, 95447\, Deutschland
ATTACH;FMTTYPE=image/jpeg:https://www.khg-in-bayreuth.de/wp-content/uploads/2025/03/Wanderung-um-Goessweinstein-1.5.jpg
END:VEVENT
BEGIN:VEVENT
DTSTART;TZID=Europe/Berlin:20250504T190000
DTEND;TZID=Europe/Berlin:20250504T200000
DTSTAMP:20260422T031536
CREATED:20250414T121936Z
LAST-MODIFIED:20250414T121942Z
UID:10007748-1746385200-1746388800@www.khg-in-bayreuth.de
SUMMARY:KHG-Messe // Holy Mass
DESCRIPTION:Wir feiern eine studentisch mitgestaltete Hl. Messe in der KHG-Kapelle. Kommt vorbei! Anschließend herzliche Einladung zum geselligen Beisammensein mit Pizza.\n–\nWe will celebrate a student co-facilitated Mass in the KHG Chapel. Come by! Afterwards\, you are cordially invited to a social gathering with pizza.
URL:https://www.khg-in-bayreuth.de/event/khg-messe-holy-mass-23/
LOCATION:KHG Bayreuth\, Emil-Warburg-Weg 17\, KHG Bayreuth\, 95447\, Deutschland
END:VEVENT
BEGIN:VEVENT
DTSTART;TZID=Europe/Berlin:20250505T070000
DTEND;TZID=Europe/Berlin:20250505T090000
DTSTAMP:20260422T031536
CREATED:20250402T122440Z
LAST-MODIFIED:20250402T122453Z
UID:10007742-1746428400-1746435600@www.khg-in-bayreuth.de
SUMMARY:Frühschicht // Morning prayer
DESCRIPTION:Alle zwei Wochen treffen wir uns am Montag zu einem meditativen Tageseinstieg in der Kapelle. Anschließend frühstücken wir gemeinsam. Herzliche Einladung!\n–\nEvery two weeks on Monday we meet for a meditative start to the day in the chapel. Afterwards we have breakfast together. Cordial invitation!
URL:https://www.khg-in-bayreuth.de/event/fruehschicht-morning-prayer-7/2025-05-05/
LOCATION:KHG Bayreuth\, Emil-Warburg-Weg 17\, KHG Bayreuth\, 95447\, Deutschland
END:VEVENT
BEGIN:VEVENT
DTSTART;TZID=Europe/Berlin:20250506T200000
DTEND;TZID=Europe/Berlin:20250506T220000
DTSTAMP:20260422T031536
CREATED:20250416T095427Z
LAST-MODIFIED:20250416T095432Z
UID:10007753-1746561600-1746568800@www.khg-in-bayreuth.de
SUMMARY:Matcha & Kimono – Japanische Tee-Zeremonie erleben // Matcha & Kimono: Experiancing a Japanese Tea Ceremony
DESCRIPTION:Ayu feiert mit uns eine traditionelle japanische Teezeremonie (Beginn schon um 19 Uhr!). Im Anschluss (ab ca. 20 Uhr) essen wir gemeinsam japanische Reisbälle und Ayu gibt weitere Einblicke in diese Tradition. Wer möchte\, ist auch herzlich zu den Vorbereitungen ab 18 Uhr willkommen\, wenn wir die Reisbällchen vorbereiten… Ob Ihr schon mal da wart oder einfach neugierig seid\, kommt gerne dazu. Wir freuen uns auf Euch! Bitte meldet Euch über den Link an\, damit wir kalkulieren können. (Begrenzte Teilnehmerzahl)\n—\nAyu celebrates a traditional Japanese tea ceremony with us (starting at 7pm!). Afterwards (from around 8pm) we will eat Japanese rice balls together and Ayu will give us further insights into this tradition. Anyone who wants to is also welcome to join the preparations from 6pm when we prepare the rice balls… Whether you have been there before or are simply curious\, you are welcome to join us. We look forward to seeing you! Please register via the link so that we can calculate. (Limited number of participants)
URL:https://www.khg-in-bayreuth.de/event/matcha-kimono-japanische-tee-zeremonie-erleben-matcha-kimono-experiancing-a-japanese-tea-ceremony/
LOCATION:ESG Bayreuth\, Richard-Wagner-Straße 24\, Bayreuth\, Deutschland
END:VEVENT
BEGIN:VEVENT
DTSTART;TZID=Europe/Berlin:20250507T120000
DTEND;TZID=Europe/Berlin:20250507T133000
DTSTAMP:20260422T031536
CREATED:20250507T104428Z
LAST-MODIFIED:20250507T104435Z
UID:10007920-1746619200-1746624600@www.khg-in-bayreuth.de
SUMMARY:Mittagspause für Leib und Seele // Lunch break for body and soul
DESCRIPTION:Jeden Mittwoch feiern wir die Mitte der Woche mit einer besonderen Mittagspause: Wir treffen uns um 12.00 Uhr in der KHG-Kapelle zum Mittagsgebet. Anschließend löffeln wir gemeinsam vegetarische Suppe.\nWer Lust hat\, beim Kochen der Suppe zu helfen\, darf gerne vorher (ab ca. 11.00 Uhr) in der KHG-Küche vorbeikommen. Auch eigene Rezepte sind gerne gesehen!\n–\nEvery Wednesday we celebrate the middle of the week with a special lunch break: we meet at 12.00 in the KHG chapel for midday prayer. Afterwards we spoon vegetarian soup together.\nAnyone who would like to help make the soup is welcome to come to the KHG kitchen beforehand (from about 11.00 a.m.). Your own recipes are also welcome!
URL:https://www.khg-in-bayreuth.de/event/mittagspause-fuer-leib-und-seele-lunch-break-for-body-and-soul-18/2025-05-07/
LOCATION:KHG Bayreuth\, Emil-Warburg-Weg 17\, KHG Bayreuth\, 95447\, Deutschland
END:VEVENT
BEGIN:VEVENT
DTSTART;TZID=Europe/Berlin:20250507T180000
DTEND;TZID=Europe/Berlin:20250507T190000
DTSTAMP:20260422T031536
CREATED:20250507T102728Z
LAST-MODIFIED:20250507T103350Z
UID:10007766-1746640800-1746644400@www.khg-in-bayreuth.de
SUMMARY:Yoga
DESCRIPTION:Sportliches Yoga mit Mykhailo. Herzliche Einladung!\n–\nSporty yoga with Mykhailo. Cordial invitation!
URL:https://www.khg-in-bayreuth.de/event/yoga-17/2025-05-07/
LOCATION:KHG Bayreuth\, Emil-Warburg-Weg 17\, KHG Bayreuth\, 95447\, Deutschland
END:VEVENT
BEGIN:VEVENT
DTSTART;TZID=Europe/Berlin:20250507T190000
DTEND;TZID=Europe/Berlin:20250507T193000
DTSTAMP:20260422T031536
CREATED:20250416T100844Z
LAST-MODIFIED:20250416T100904Z
UID:10007756-1746644400-1746646200@www.khg-in-bayreuth.de
SUMMARY:Segen-to-go - Andacht zum Semesterbeginn in Kulmbach // Blessing-to-go - Prayer for your semester start in Kulmbach
DESCRIPTION:Ort: Spitalkirche in Kulmbach\n30 Minuten für Gott – 30 Minuten für dich\n—\nLocation: Spitalkirche in Kulmbach\n30 minutes for God – 30 minutes for you
URL:https://www.khg-in-bayreuth.de/event/segen-to-go-andacht-zum-semesterbeginn-in-kulmbach-blessing-to-go-prayer-for-your-semester-start-in-kulmbach/
LOCATION:Spitalkirche\, Spitalgasse 15\, Kulmbach\, Bayern\, 95326
END:VEVENT
BEGIN:VEVENT
DTSTART;TZID=Europe/Berlin:20250507T194500
DTEND;TZID=Europe/Berlin:20250507T210000
DTSTAMP:20260422T031536
CREATED:20250507T102955Z
LAST-MODIFIED:20250507T103445Z
UID:10007831-1746647100-1746651600@www.khg-in-bayreuth.de
SUMMARY:Gospelchor // Gospel Choir
DESCRIPTION:Unser ökumenischer Gospelchor probt jeden Mittwoch ab 19.45 Uhr in der Albertus-Magnus-Kapelle. Wenn Du Spaß am Singen hast\, schau gerne vorbei! Keine Vorkenntnisse notwendig.\n–\nOur ecumenical gospel choir rehearses every Wednesday from 7.45 pm in the Albertus Magnus Chapel. If you enjoy singing\, just drop in! No previous experience necessary.
URL:https://www.khg-in-bayreuth.de/event/gospelchor-gospel-choir-10/2025-05-07/
LOCATION:KHG Bayreuth\, Emil-Warburg-Weg 17\, KHG Bayreuth\, 95447\, Deutschland
END:VEVENT
BEGIN:VEVENT
DTSTART;TZID=Europe/Berlin:20250508T193000
DTEND;TZID=Europe/Berlin:20250508T210000
DTSTAMP:20260422T031536
CREATED:20250507T103209Z
LAST-MODIFIED:20250507T103228Z
UID:10007895-1746732600-1746738000@www.khg-in-bayreuth.de
SUMMARY:Swahili Chor Bayreuth // Suahili Choir
DESCRIPTION:Jeden Donnerstag probt unser Swahili-Chor afrikanische Lieder in der KHG. Neue Sänger*innen sind jederzeit herzlich willkommen!\n–\nEvery Thursday\, our Suahili choir rehearses African songs in the KHG. New singers are always welcome!
URL:https://www.khg-in-bayreuth.de/event/swahili-chor-bayreuth-suahili-choir-7/2025-05-08/
LOCATION:KHG Bayreuth\, Emil-Warburg-Weg 17\, KHG Bayreuth\, 95447\, Deutschland
END:VEVENT
BEGIN:VEVENT
DTSTART;TZID=Europe/Berlin:20250509T180000
DTEND;TZID=Europe/Berlin:20250509T220000
DTSTAMP:20260422T031536
CREATED:20250507T112146Z
LAST-MODIFIED:20250507T112151Z
UID:10007933-1746813600-1746828000@www.khg-in-bayreuth.de
SUMMARY:Game Night
DESCRIPTION:Veranstalter: ESN
URL:https://www.khg-in-bayreuth.de/event/game-night-2/
LOCATION:KHG Bayreuth\, Emil-Warburg-Weg 17\, KHG Bayreuth\, 95447\, Deutschland
END:VEVENT
BEGIN:VEVENT
DTSTART;TZID=Europe/Berlin:20250512T180000
DTEND;TZID=Europe/Berlin:20250512T200000
DTSTAMP:20260422T031536
CREATED:20250507T103646Z
LAST-MODIFIED:20250707T125841Z
UID:10007907-1747072800-1747080000@www.khg-in-bayreuth.de
SUMMARY:Theatergruppe “Die Schwarzen Schafe” // Theatre group “The Black Sheep”
DESCRIPTION:Die legendären “Schwarzen Schafe” treffen sich jeden Montag in der KHG. Neueinsteiger*innen sind besonders am Anfang des Semesters herzlich willkommen!\nDenn: Zu Beginn des Semesters suchen alle gemeinsam ein Stück aus\, danach wird regelmäßig geprobt. Am Semesterende wird die KHG dann zur Bühne für die Aufführung des Stücks.\n–\nOur legendary “Black Sheep” meet every Monday in the KHG. Newcomers are especially welcome at the beginning of the semester!\nBecause: At the beginning of the semester\, everyone chooses a play together and then
URL:https://www.khg-in-bayreuth.de/event/theatergruppe-die-schwarzen-schafe-theatre-group-the-black-sheep-7/2025-05-12/
LOCATION:KHG Bayreuth\, Emil-Warburg-Weg 17\, KHG Bayreuth\, 95447\, Deutschland
END:VEVENT
BEGIN:VEVENT
DTSTART;TZID=Europe/Berlin:20250513T183000
DTEND;TZID=Europe/Berlin:20250513T193000
DTSTAMP:20260422T031536
CREATED:20250402T121518Z
LAST-MODIFIED:20250402T121523Z
UID:10007738-1747161000-1747164600@www.khg-in-bayreuth.de
SUMMARY:KHG-Messe // Holy Mass
DESCRIPTION:Wir feiern eine studentisch mitgestaltete Hl. Messe in der KHG-Kapelle. Kommt vorbei! Anschließend Themenabend.\n–\nWe will celebrate a student co-facilitated Mass in the KHG Chapel. Come by!  Followed by a themed evening.
URL:https://www.khg-in-bayreuth.de/event/khg-messe-holy-mass-19/
LOCATION:KHG Bayreuth\, Emil-Warburg-Weg 17\, KHG Bayreuth\, 95447\, Deutschland
END:VEVENT
BEGIN:VEVENT
DTSTART;TZID=Europe/Berlin:20250513T190000
DTEND;TZID=Europe/Berlin:20250513T220000
DTSTAMP:20260422T031536
CREATED:20250416T101210Z
LAST-MODIFIED:20250428T133956Z
UID:10007757-1747162800-1747173600@www.khg-in-bayreuth.de
SUMMARY:Krimi-Dinner  // Crime-dinner
DESCRIPTION:Ein leckeres Abendessen und ein spannender Kriminalfall – wer beides mag\, ist bei uns genau richtig! \nTeilnehmerbeitrag: 6 Euro \nAnmeldung bis 9.5. \n\nA delicious dinner and an exciting murder mystery – if you like both\, you’ve come to the right place! \nParticipation fee: 6 Euro \nRegistration until 9.5.
URL:https://www.khg-in-bayreuth.de/event/krimidinner-oder-filmabend-crime-thriller-dinner-or-movie-night/
LOCATION:KHG Bayreuth\, Emil-Warburg-Weg 17\, KHG Bayreuth\, 95447\, Deutschland
END:VEVENT
BEGIN:VEVENT
DTSTART;TZID=Europe/Berlin:20250514T120000
DTEND;TZID=Europe/Berlin:20250514T133000
DTSTAMP:20260422T031536
CREATED:20250507T104428Z
LAST-MODIFIED:20250507T104435Z
UID:10007921-1747224000-1747229400@www.khg-in-bayreuth.de
SUMMARY:Mittagspause für Leib und Seele // Lunch break for body and soul
DESCRIPTION:Jeden Mittwoch feiern wir die Mitte der Woche mit einer besonderen Mittagspause: Wir treffen uns um 12.00 Uhr in der KHG-Kapelle zum Mittagsgebet. Anschließend löffeln wir gemeinsam vegetarische Suppe.\nWer Lust hat\, beim Kochen der Suppe zu helfen\, darf gerne vorher (ab ca. 11.00 Uhr) in der KHG-Küche vorbeikommen. Auch eigene Rezepte sind gerne gesehen!\n–\nEvery Wednesday we celebrate the middle of the week with a special lunch break: we meet at 12.00 in the KHG chapel for midday prayer. Afterwards we spoon vegetarian soup together.\nAnyone who would like to help make the soup is welcome to come to the KHG kitchen beforehand (from about 11.00 a.m.). Your own recipes are also welcome!
URL:https://www.khg-in-bayreuth.de/event/mittagspause-fuer-leib-und-seele-lunch-break-for-body-and-soul-18/2025-05-14/
LOCATION:KHG Bayreuth\, Emil-Warburg-Weg 17\, KHG Bayreuth\, 95447\, Deutschland
END:VEVENT
BEGIN:VEVENT
DTSTART;TZID=Europe/Berlin:20250514T180000
DTEND;TZID=Europe/Berlin:20250514T190000
DTSTAMP:20260422T031536
CREATED:20250507T102728Z
LAST-MODIFIED:20250507T103350Z
UID:10007767-1747245600-1747249200@www.khg-in-bayreuth.de
SUMMARY:Yoga
DESCRIPTION:Sportliches Yoga mit Mykhailo. Herzliche Einladung!\n–\nSporty yoga with Mykhailo. Cordial invitation!
URL:https://www.khg-in-bayreuth.de/event/yoga-17/2025-05-14/
LOCATION:KHG Bayreuth\, Emil-Warburg-Weg 17\, KHG Bayreuth\, 95447\, Deutschland
END:VEVENT
BEGIN:VEVENT
DTSTART;TZID=Europe/Berlin:20250514T194500
DTEND;TZID=Europe/Berlin:20250514T210000
DTSTAMP:20260422T031536
CREATED:20250507T102955Z
LAST-MODIFIED:20250507T103445Z
UID:10007832-1747251900-1747256400@www.khg-in-bayreuth.de
SUMMARY:Gospelchor // Gospel Choir
DESCRIPTION:Unser ökumenischer Gospelchor probt jeden Mittwoch ab 19.45 Uhr in der Albertus-Magnus-Kapelle. Wenn Du Spaß am Singen hast\, schau gerne vorbei! Keine Vorkenntnisse notwendig.\n–\nOur ecumenical gospel choir rehearses every Wednesday from 7.45 pm in the Albertus Magnus Chapel. If you enjoy singing\, just drop in! No previous experience necessary.
URL:https://www.khg-in-bayreuth.de/event/gospelchor-gospel-choir-10/2025-05-14/
LOCATION:KHG Bayreuth\, Emil-Warburg-Weg 17\, KHG Bayreuth\, 95447\, Deutschland
END:VEVENT
BEGIN:VEVENT
DTSTART;TZID=Europe/Berlin:20250515T193000
DTEND;TZID=Europe/Berlin:20250515T210000
DTSTAMP:20260422T031536
CREATED:20250507T103209Z
LAST-MODIFIED:20250507T103228Z
UID:10007896-1747337400-1747342800@www.khg-in-bayreuth.de
SUMMARY:Swahili Chor Bayreuth // Suahili Choir
DESCRIPTION:Jeden Donnerstag probt unser Swahili-Chor afrikanische Lieder in der KHG. Neue Sänger*innen sind jederzeit herzlich willkommen!\n–\nEvery Thursday\, our Suahili choir rehearses African songs in the KHG. New singers are always welcome!
URL:https://www.khg-in-bayreuth.de/event/swahili-chor-bayreuth-suahili-choir-7/2025-05-15/
LOCATION:KHG Bayreuth\, Emil-Warburg-Weg 17\, KHG Bayreuth\, 95447\, Deutschland
END:VEVENT
BEGIN:VEVENT
DTSTART;TZID=Europe/Berlin:20250516T170000
DTEND;TZID=Europe/Berlin:20250516T230000
DTSTAMP:20260422T031536
CREATED:20250507T112252Z
LAST-MODIFIED:20250507T112256Z
UID:10007934-1747414800-1747436400@www.khg-in-bayreuth.de
SUMMARY:Karaoke
DESCRIPTION:Veranstalter: ESN
URL:https://www.khg-in-bayreuth.de/event/karaoke/
LOCATION:KHG Bayreuth\, Emil-Warburg-Weg 17\, KHG Bayreuth\, 95447\, Deutschland
END:VEVENT
BEGIN:VEVENT
DTSTART;TZID=Europe/Berlin:20250519T080000
DTEND;TZID=Europe/Berlin:20250519T170000
DTSTAMP:20260422T031536
CREATED:20250402T122440Z
LAST-MODIFIED:20250402T122453Z
UID:10007743-1747641600-1747674000@www.khg-in-bayreuth.de
SUMMARY:Frühschicht // Morning prayer
DESCRIPTION:Alle zwei Wochen treffen wir uns am Montag zu einem meditativen Tageseinstieg in der Kapelle. Anschließend frühstücken wir gemeinsam. Herzliche Einladung!\n–\nEvery two weeks on Monday we meet for a meditative start to the day in the chapel. Afterwards we have breakfast together. Cordial invitation!
URL:https://www.khg-in-bayreuth.de/event/fruehschicht-morning-prayer-7/2025-05-19/
LOCATION:KHG Bayreuth\, Emil-Warburg-Weg 17\, KHG Bayreuth\, 95447\, Deutschland
END:VEVENT
BEGIN:VEVENT
DTSTART;TZID=Europe/Berlin:20250519T180000
DTEND;TZID=Europe/Berlin:20250519T200000
DTSTAMP:20260422T031536
CREATED:20250507T103646Z
LAST-MODIFIED:20250707T125841Z
UID:10007908-1747677600-1747684800@www.khg-in-bayreuth.de
SUMMARY:Theatergruppe “Die Schwarzen Schafe” // Theatre group “The Black Sheep”
DESCRIPTION:Die legendären “Schwarzen Schafe” treffen sich jeden Montag in der KHG. Neueinsteiger*innen sind besonders am Anfang des Semesters herzlich willkommen!\nDenn: Zu Beginn des Semesters suchen alle gemeinsam ein Stück aus\, danach wird regelmäßig geprobt. Am Semesterende wird die KHG dann zur Bühne für die Aufführung des Stücks.\n–\nOur legendary “Black Sheep” meet every Monday in the KHG. Newcomers are especially welcome at the beginning of the semester!\nBecause: At the beginning of the semester\, everyone chooses a play together and then
URL:https://www.khg-in-bayreuth.de/event/theatergruppe-die-schwarzen-schafe-theatre-group-the-black-sheep-7/2025-05-19/
LOCATION:KHG Bayreuth\, Emil-Warburg-Weg 17\, KHG Bayreuth\, 95447\, Deutschland
END:VEVENT
BEGIN:VEVENT
DTSTART;TZID=Europe/Berlin:20250520T200000
DTEND;TZID=Europe/Berlin:20250520T220000
DTSTAMP:20260422T031536
CREATED:20250416T095623Z
LAST-MODIFIED:20250416T095636Z
UID:10007754-1747771200-1747778400@www.khg-in-bayreuth.de
SUMMARY:Café Abraham - Interreligiöser Gesprächsabend // Interreligious dialogue evening
DESCRIPTION:Café Abraham – Interreligiöser Gesprächsabend | Interreligious dialogue evening\nDie drei abrahamitischen Religionen Judentum\, Christentum und Islam begegnen einander. Studierende der verschiedenen Religionen kommen miteinander zu einem wichtigen Glaubensthema mit ihren Ansichten und Einstellungen ins Gespräch und versuchen\, einander besser zu verstehen. Wir freuen uns darauf und auf Euch. Schaut vorbei!\nAb 18 Uhr bist Du außerdem eingeladen mitzukochen und ab 19 Uhr werden wir gemeinsam essen.\nIhr seid natürlich wie immer auch spontan willkommen\, aber für unsere Essenskalkulation wäre es sehr hilfreich\, wenn Ihr Euch vorher über den Link oben anmelden könntet… 😉\n—\nThe three Abrahamic religions of Judaism\, Christianity and Islam come together. Students from the different religions will discuss an important topic of faith with their views and attitudes and try to understand each other better. We look forward to it and to seeing you. Come and have a look!\nFrom 6 pm you are also invited to join in the cooking and from 7 pm we will eat together.\nAs always\, you are of course welcome to join us spontaneously\, but it would be very helpful for our food calculation if you could register in advance via the link above… 😉
URL:https://www.khg-in-bayreuth.de/event/cafe-abraham-interreligioeser-gespraechsabend-interreligious-dialogue-evening/
LOCATION:ESG Bayreuth\, Richard-Wagner-Straße 24\, Bayreuth\, Deutschland
END:VEVENT
BEGIN:VEVENT
DTSTART;TZID=Europe/Berlin:20250521T120000
DTEND;TZID=Europe/Berlin:20250521T133000
DTSTAMP:20260422T031536
CREATED:20250507T104428Z
LAST-MODIFIED:20250507T104435Z
UID:10007922-1747828800-1747834200@www.khg-in-bayreuth.de
SUMMARY:Mittagspause für Leib und Seele // Lunch break for body and soul
DESCRIPTION:Jeden Mittwoch feiern wir die Mitte der Woche mit einer besonderen Mittagspause: Wir treffen uns um 12.00 Uhr in der KHG-Kapelle zum Mittagsgebet. Anschließend löffeln wir gemeinsam vegetarische Suppe.\nWer Lust hat\, beim Kochen der Suppe zu helfen\, darf gerne vorher (ab ca. 11.00 Uhr) in der KHG-Küche vorbeikommen. Auch eigene Rezepte sind gerne gesehen!\n–\nEvery Wednesday we celebrate the middle of the week with a special lunch break: we meet at 12.00 in the KHG chapel for midday prayer. Afterwards we spoon vegetarian soup together.\nAnyone who would like to help make the soup is welcome to come to the KHG kitchen beforehand (from about 11.00 a.m.). Your own recipes are also welcome!
URL:https://www.khg-in-bayreuth.de/event/mittagspause-fuer-leib-und-seele-lunch-break-for-body-and-soul-18/2025-05-21/
LOCATION:KHG Bayreuth\, Emil-Warburg-Weg 17\, KHG Bayreuth\, 95447\, Deutschland
END:VEVENT
BEGIN:VEVENT
DTSTART;TZID=Europe/Berlin:20250521T180000
DTEND;TZID=Europe/Berlin:20250521T190000
DTSTAMP:20260422T031536
CREATED:20250507T102728Z
LAST-MODIFIED:20250507T103350Z
UID:10007768-1747850400-1747854000@www.khg-in-bayreuth.de
SUMMARY:Yoga
DESCRIPTION:Sportliches Yoga mit Mykhailo. Herzliche Einladung!\n–\nSporty yoga with Mykhailo. Cordial invitation!
URL:https://www.khg-in-bayreuth.de/event/yoga-17/2025-05-21/
LOCATION:KHG Bayreuth\, Emil-Warburg-Weg 17\, KHG Bayreuth\, 95447\, Deutschland
END:VEVENT
BEGIN:VEVENT
DTSTART;TZID=Europe/Berlin:20250521T194500
DTEND;TZID=Europe/Berlin:20250521T210000
DTSTAMP:20260422T031536
CREATED:20250507T102955Z
LAST-MODIFIED:20250507T103445Z
UID:10007833-1747856700-1747861200@www.khg-in-bayreuth.de
SUMMARY:Gospelchor // Gospel Choir
DESCRIPTION:Unser ökumenischer Gospelchor probt jeden Mittwoch ab 19.45 Uhr in der Albertus-Magnus-Kapelle. Wenn Du Spaß am Singen hast\, schau gerne vorbei! Keine Vorkenntnisse notwendig.\n–\nOur ecumenical gospel choir rehearses every Wednesday from 7.45 pm in the Albertus Magnus Chapel. If you enjoy singing\, just drop in! No previous experience necessary.
URL:https://www.khg-in-bayreuth.de/event/gospelchor-gospel-choir-10/2025-05-21/
LOCATION:KHG Bayreuth\, Emil-Warburg-Weg 17\, KHG Bayreuth\, 95447\, Deutschland
END:VEVENT
BEGIN:VEVENT
DTSTART;TZID=Europe/Berlin:20250522T193000
DTEND;TZID=Europe/Berlin:20250522T210000
DTSTAMP:20260422T031536
CREATED:20250507T103209Z
LAST-MODIFIED:20250507T103228Z
UID:10007897-1747942200-1747947600@www.khg-in-bayreuth.de
SUMMARY:Swahili Chor Bayreuth // Suahili Choir
DESCRIPTION:Jeden Donnerstag probt unser Swahili-Chor afrikanische Lieder in der KHG. Neue Sänger*innen sind jederzeit herzlich willkommen!\n–\nEvery Thursday\, our Suahili choir rehearses African songs in the KHG. New singers are always welcome!
URL:https://www.khg-in-bayreuth.de/event/swahili-chor-bayreuth-suahili-choir-7/2025-05-22/
LOCATION:KHG Bayreuth\, Emil-Warburg-Weg 17\, KHG Bayreuth\, 95447\, Deutschland
END:VEVENT
BEGIN:VEVENT
DTSTART;TZID=Europe/Berlin:20250522T193000
DTEND;TZID=Europe/Berlin:20250522T213000
DTSTAMP:20260422T031536
CREATED:20250416T102623Z
LAST-MODIFIED:20250416T102724Z
UID:10007759-1747942200-1747949400@www.khg-in-bayreuth.de
SUMMARY:Deutschlandweites Pub Quiz der Hochschulgmeinden // Germany-wide Pub Quiz of the university communities
DESCRIPTION:Wir treten im Online-Quizwettstreit gegen andere Hochschulgemeinden an. Kommt vorbei und helft uns\, zu gewinnen!\n—\nWe compete against other university communities in an online quiz competition. Come along and help us win!
URL:https://www.khg-in-bayreuth.de/event/deutschlandweites-pub-quiz-der-hochschulgmeinden-germany-wide-pub-quiz-of-the-university-communities-2/
LOCATION:KHG Bayreuth\, Emil-Warburg-Weg 17\, KHG Bayreuth\, 95447\, Deutschland
END:VEVENT
BEGIN:VEVENT
DTSTART;TZID=Europe/Berlin:20250525T190000
DTEND;TZID=Europe/Berlin:20250525T200000
DTSTAMP:20260422T031536
CREATED:20250402T121807Z
LAST-MODIFIED:20250402T121813Z
UID:10007740-1748199600-1748203200@www.khg-in-bayreuth.de
SUMMARY:KHG-Messe // Holy Mass
DESCRIPTION:Wir feiern eine studentisch mitgestaltete Hl. Messe in der KHG-Kapelle. Kommt vorbei! Anschließend herzliche Einladung zum geselligen Beisammensein mit Pizza.\n–\nWe will celebrate a student co-facilitated Mass in the KHG Chapel. Come by! Afterwards\, you are cordially invited to a social gathering with pizza.
URL:https://www.khg-in-bayreuth.de/event/khg-messe-holy-mass-21/
LOCATION:KHG Bayreuth\, Emil-Warburg-Weg 17\, KHG Bayreuth\, 95447\, Deutschland
END:VEVENT
BEGIN:VEVENT
DTSTART;TZID=Europe/Berlin:20250526T180000
DTEND;TZID=Europe/Berlin:20250526T200000
DTSTAMP:20260422T031536
CREATED:20250507T103646Z
LAST-MODIFIED:20250707T125841Z
UID:10007909-1748282400-1748289600@www.khg-in-bayreuth.de
SUMMARY:Theatergruppe “Die Schwarzen Schafe” // Theatre group “The Black Sheep”
DESCRIPTION:Die legendären “Schwarzen Schafe” treffen sich jeden Montag in der KHG. Neueinsteiger*innen sind besonders am Anfang des Semesters herzlich willkommen!\nDenn: Zu Beginn des Semesters suchen alle gemeinsam ein Stück aus\, danach wird regelmäßig geprobt. Am Semesterende wird die KHG dann zur Bühne für die Aufführung des Stücks.\n–\nOur legendary “Black Sheep” meet every Monday in the KHG. Newcomers are especially welcome at the beginning of the semester!\nBecause: At the beginning of the semester\, everyone chooses a play together and then
URL:https://www.khg-in-bayreuth.de/event/theatergruppe-die-schwarzen-schafe-theatre-group-the-black-sheep-7/2025-05-26/
LOCATION:KHG Bayreuth\, Emil-Warburg-Weg 17\, KHG Bayreuth\, 95447\, Deutschland
END:VEVENT
BEGIN:VEVENT
DTSTART;TZID=Europe/Berlin:20250527T190000
DTEND;TZID=Europe/Berlin:20250527T193000
DTSTAMP:20260422T031536
CREATED:20250414T122925Z
LAST-MODIFIED:20250414T122929Z
UID:10007751-1748372400-1748374200@www.khg-in-bayreuth.de
SUMMARY:Abendgebet // Evening prayer
DESCRIPTION:Meditative Einstimmung in den Abend. Herzliche Einladung!\n–\nMeditative introduction to the evening. Cordial invitation!
URL:https://www.khg-in-bayreuth.de/event/abendgebet-evening-prayer/
LOCATION:KHG Bayreuth\, Emil-Warburg-Weg 17\, KHG Bayreuth\, 95447\, Deutschland
END:VEVENT
BEGIN:VEVENT
DTSTART;TZID=Europe/Berlin:20250527T200000
DTEND;TZID=Europe/Berlin:20250527T220000
DTSTAMP:20260422T031537
CREATED:20250416T103314Z
LAST-MODIFIED:20250507T101446Z
UID:10007760-1748376000-1748383200@www.khg-in-bayreuth.de
SUMMARY:Am Grill mit Erzbischof Herwig Gössl und Regionalbischöfin Berthild Sachs // At the barbecue with Archbishop Herwig Gössl and Regional Bishop Berthild Sachs
DESCRIPTION:Zu einem „Theologischen Grillabend“ in ökumenischer Verbundenheit laden KHG und ESG Bayreuth alle Interessierten sehr herzlich in die KHG Bayreuth ein. Erzbischof Herwig Gössl und Regionalbischöfin Berthild Sachs werden uns besuchen und mit uns in lockerer Weise ins Gespräch kommen. Bringt gerne Eure Fragen und Anliegen mit! \nFür Getränke und Grillgut bitten wir um eine angemessene Spende – wir freuen uns auch über Salatspenden oder Nachspeisen! Damit wir die Mengen ungefähr berechnen können\, meldet Euch bitte kurz per e-Mail an khg@uni-bayreuth an – am besten mit der Angabe\, ob Ihr vegetarisch\, vegan oder mit Fleisch essen wollt. \nWir freuen uns auf gute Gespräche und einen anregenden\, aber auch gemütlichen Abend mit Euch! \n–\nThe KHG and ESG Bayreuth cordially invite all interested parties to a ‘Theological Barbecue Evening’ in ecumenical solidarity at the KHG Bayreuth. Archbishop Herwig Gössl and Regional Bishop Berthild Sachs will visit us and engage in informal dialogue with us. Feel free to bring your questions and concerns! \nFor the drinks and barbecue we ask for a reasonable donation – we are also happy about salad donations or desserts! So that we can roughly calculate the quantities\, please send a short e-mail to khg@uni-bayreuth – preferably stating whether you would like to eat vegetarian\, vegan or meat. \nWe look forward to good conversations and a stimulating but also cosy evening with you!
URL:https://www.khg-in-bayreuth.de/event/grillabend-mit-erzbischof-herig-goessl-und-regionalbischoefin-gerhild-sachs-barbecue-evening-with-archbishop-herig-goessl-and-regional-bishop-gerhild-sachs/
LOCATION:KHG Bayreuth\, Emil-Warburg-Weg 17\, KHG Bayreuth\, 95447\, Deutschland
END:VEVENT
END:VCALENDAR