BEGIN:VCALENDAR
VERSION:2.0
PRODID:-//KHG Bayreuth - ECPv6.15.3//NONSGML v1.0//EN
CALSCALE:GREGORIAN
METHOD:PUBLISH
X-ORIGINAL-URL:https://www.khg-in-bayreuth.de
X-WR-CALDESC:Veranstaltungen für KHG Bayreuth
REFRESH-INTERVAL;VALUE=DURATION:PT1H
X-Robots-Tag:noindex
X-PUBLISHED-TTL:PT1H
BEGIN:VTIMEZONE
TZID:Europe/Berlin
BEGIN:DAYLIGHT
TZOFFSETFROM:+0100
TZOFFSETTO:+0200
TZNAME:CEST
DTSTART:20250330T010000
END:DAYLIGHT
BEGIN:STANDARD
TZOFFSETFROM:+0200
TZOFFSETTO:+0100
TZNAME:CET
DTSTART:20251026T010000
END:STANDARD
END:VTIMEZONE
BEGIN:VEVENT
DTSTART;TZID=Europe/Berlin:20250602T080000
DTEND;TZID=Europe/Berlin:20250602T170000
DTSTAMP:20260422T052110
CREATED:20250402T122440Z
LAST-MODIFIED:20250402T122453Z
UID:10007744-1748851200-1748883600@www.khg-in-bayreuth.de
SUMMARY:Frühschicht // Morning prayer
DESCRIPTION:Alle zwei Wochen treffen wir uns am Montag zu einem meditativen Tageseinstieg in der Kapelle. Anschließend frühstücken wir gemeinsam. Herzliche Einladung!\n–\nEvery two weeks on Monday we meet for a meditative start to the day in the chapel. Afterwards we have breakfast together. Cordial invitation!
URL:https://www.khg-in-bayreuth.de/event/fruehschicht-morning-prayer-7/2025-06-02/
LOCATION:KHG Bayreuth\, Emil-Warburg-Weg 17\, KHG Bayreuth\, 95447\, Deutschland
END:VEVENT
BEGIN:VEVENT
DTSTART;TZID=Europe/Berlin:20250602T180000
DTEND;TZID=Europe/Berlin:20250602T200000
DTSTAMP:20260422T052110
CREATED:20250507T103646Z
LAST-MODIFIED:20250707T125841Z
UID:10007910-1748887200-1748894400@www.khg-in-bayreuth.de
SUMMARY:Theatergruppe “Die Schwarzen Schafe” // Theatre group “The Black Sheep”
DESCRIPTION:Die legendären “Schwarzen Schafe” treffen sich jeden Montag in der KHG. Neueinsteiger*innen sind besonders am Anfang des Semesters herzlich willkommen!\nDenn: Zu Beginn des Semesters suchen alle gemeinsam ein Stück aus\, danach wird regelmäßig geprobt. Am Semesterende wird die KHG dann zur Bühne für die Aufführung des Stücks.\n–\nOur legendary “Black Sheep” meet every Monday in the KHG. Newcomers are especially welcome at the beginning of the semester!\nBecause: At the beginning of the semester\, everyone chooses a play together and then
URL:https://www.khg-in-bayreuth.de/event/theatergruppe-die-schwarzen-schafe-theatre-group-the-black-sheep-7/2025-06-02/
LOCATION:KHG Bayreuth\, Emil-Warburg-Weg 17\, KHG Bayreuth\, 95447\, Deutschland
END:VEVENT
BEGIN:VEVENT
DTSTART;TZID=Europe/Berlin:20250603T200000
DTEND;TZID=Europe/Berlin:20250603T220000
DTSTAMP:20260422T052110
CREATED:20250505T125819Z
LAST-MODIFIED:20250505T125826Z
UID:10007761-1748980800-1748988000@www.khg-in-bayreuth.de
SUMMARY:Widerstand & Glaube: Ein Bonhoeffer-Abend // Resistance & Faith: A Bonhoeffer Evening
DESCRIPTION:Nähere Infos folgen.\n–\nMore info will follow\,
URL:https://www.khg-in-bayreuth.de/event/widerstand-glaube-ein-bonhoeffer-abend-resistance-faith-a-bonhoeffer-evening/
LOCATION:ESG Bayreuth\, Richard-Wagner-Straße 24\, Bayreuth\, Deutschland
END:VEVENT
BEGIN:VEVENT
DTSTART;TZID=Europe/Berlin:20250604T120000
DTEND;TZID=Europe/Berlin:20250604T133000
DTSTAMP:20260422T052110
CREATED:20250507T104428Z
LAST-MODIFIED:20250507T104435Z
UID:10007924-1749038400-1749043800@www.khg-in-bayreuth.de
SUMMARY:Mittagspause für Leib und Seele // Lunch break for body and soul
DESCRIPTION:Jeden Mittwoch feiern wir die Mitte der Woche mit einer besonderen Mittagspause: Wir treffen uns um 12.00 Uhr in der KHG-Kapelle zum Mittagsgebet. Anschließend löffeln wir gemeinsam vegetarische Suppe.\nWer Lust hat\, beim Kochen der Suppe zu helfen\, darf gerne vorher (ab ca. 11.00 Uhr) in der KHG-Küche vorbeikommen. Auch eigene Rezepte sind gerne gesehen!\n–\nEvery Wednesday we celebrate the middle of the week with a special lunch break: we meet at 12.00 in the KHG chapel for midday prayer. Afterwards we spoon vegetarian soup together.\nAnyone who would like to help make the soup is welcome to come to the KHG kitchen beforehand (from about 11.00 a.m.). Your own recipes are also welcome!
URL:https://www.khg-in-bayreuth.de/event/mittagspause-fuer-leib-und-seele-lunch-break-for-body-and-soul-18/2025-06-04/
LOCATION:KHG Bayreuth\, Emil-Warburg-Weg 17\, KHG Bayreuth\, 95447\, Deutschland
END:VEVENT
BEGIN:VEVENT
DTSTART;TZID=Europe/Berlin:20250604T180000
DTEND;TZID=Europe/Berlin:20250604T190000
DTSTAMP:20260422T052110
CREATED:20250507T102728Z
LAST-MODIFIED:20250507T103350Z
UID:10007770-1749060000-1749063600@www.khg-in-bayreuth.de
SUMMARY:Yoga
DESCRIPTION:Sportliches Yoga mit Mykhailo. Herzliche Einladung!\n–\nSporty yoga with Mykhailo. Cordial invitation!
URL:https://www.khg-in-bayreuth.de/event/yoga-17/2025-06-04/
LOCATION:KHG Bayreuth\, Emil-Warburg-Weg 17\, KHG Bayreuth\, 95447\, Deutschland
END:VEVENT
BEGIN:VEVENT
DTSTART;TZID=Europe/Berlin:20250604T194500
DTEND;TZID=Europe/Berlin:20250604T210000
DTSTAMP:20260422T052110
CREATED:20250507T102955Z
LAST-MODIFIED:20250507T103445Z
UID:10007835-1749066300-1749070800@www.khg-in-bayreuth.de
SUMMARY:Gospelchor // Gospel Choir
DESCRIPTION:Unser ökumenischer Gospelchor probt jeden Mittwoch ab 19.45 Uhr in der Albertus-Magnus-Kapelle. Wenn Du Spaß am Singen hast\, schau gerne vorbei! Keine Vorkenntnisse notwendig.\n–\nOur ecumenical gospel choir rehearses every Wednesday from 7.45 pm in the Albertus Magnus Chapel. If you enjoy singing\, just drop in! No previous experience necessary.
URL:https://www.khg-in-bayreuth.de/event/gospelchor-gospel-choir-10/2025-06-04/
LOCATION:KHG Bayreuth\, Emil-Warburg-Weg 17\, KHG Bayreuth\, 95447\, Deutschland
END:VEVENT
BEGIN:VEVENT
DTSTART;TZID=Europe/Berlin:20250605T193000
DTEND;TZID=Europe/Berlin:20250605T210000
DTSTAMP:20260422T052110
CREATED:20250507T103209Z
LAST-MODIFIED:20250507T103228Z
UID:10007899-1749151800-1749157200@www.khg-in-bayreuth.de
SUMMARY:Swahili Chor Bayreuth // Suahili Choir
DESCRIPTION:Jeden Donnerstag probt unser Swahili-Chor afrikanische Lieder in der KHG. Neue Sänger*innen sind jederzeit herzlich willkommen!\n–\nEvery Thursday\, our Suahili choir rehearses African songs in the KHG. New singers are always welcome!
URL:https://www.khg-in-bayreuth.de/event/swahili-chor-bayreuth-suahili-choir-7/2025-06-05/
LOCATION:KHG Bayreuth\, Emil-Warburg-Weg 17\, KHG Bayreuth\, 95447\, Deutschland
END:VEVENT
BEGIN:VEVENT
DTSTART;TZID=Europe/Berlin:20250609T180000
DTEND;TZID=Europe/Berlin:20250609T200000
DTSTAMP:20260422T052111
CREATED:20250507T103646Z
LAST-MODIFIED:20250707T125841Z
UID:10007911-1749492000-1749499200@www.khg-in-bayreuth.de
SUMMARY:Theatergruppe “Die Schwarzen Schafe” // Theatre group “The Black Sheep”
DESCRIPTION:Die legendären “Schwarzen Schafe” treffen sich jeden Montag in der KHG. Neueinsteiger*innen sind besonders am Anfang des Semesters herzlich willkommen!\nDenn: Zu Beginn des Semesters suchen alle gemeinsam ein Stück aus\, danach wird regelmäßig geprobt. Am Semesterende wird die KHG dann zur Bühne für die Aufführung des Stücks.\n–\nOur legendary “Black Sheep” meet every Monday in the KHG. Newcomers are especially welcome at the beginning of the semester!\nBecause: At the beginning of the semester\, everyone chooses a play together and then
URL:https://www.khg-in-bayreuth.de/event/theatergruppe-die-schwarzen-schafe-theatre-group-the-black-sheep-7/2025-06-09/
LOCATION:KHG Bayreuth\, Emil-Warburg-Weg 17\, KHG Bayreuth\, 95447\, Deutschland
END:VEVENT
BEGIN:VEVENT
DTSTART;TZID=Europe/Berlin:20250610T100000
DTEND;TZID=Europe/Berlin:20250610T170000
DTSTAMP:20260422T052111
CREATED:20250505T125958Z
LAST-MODIFIED:20250505T130003Z
UID:10007762-1749549600-1749574800@www.khg-in-bayreuth.de
SUMMARY:Radl-Tour Trebgast // Trebgast bike tour
DESCRIPTION:Nähere Infos folgen.\n–\nMore info will follow.
URL:https://www.khg-in-bayreuth.de/event/radl-tour-trebgast-trebgast-bike-tour/
LOCATION:KHG Bayreuth\, Emil-Warburg-Weg 17\, KHG Bayreuth\, 95447\, Deutschland
END:VEVENT
BEGIN:VEVENT
DTSTART;TZID=Europe/Berlin:20250611T120000
DTEND;TZID=Europe/Berlin:20250611T133000
DTSTAMP:20260422T052111
CREATED:20250507T104428Z
LAST-MODIFIED:20250507T104435Z
UID:10007925-1749643200-1749648600@www.khg-in-bayreuth.de
SUMMARY:Mittagspause für Leib und Seele // Lunch break for body and soul
DESCRIPTION:Jeden Mittwoch feiern wir die Mitte der Woche mit einer besonderen Mittagspause: Wir treffen uns um 12.00 Uhr in der KHG-Kapelle zum Mittagsgebet. Anschließend löffeln wir gemeinsam vegetarische Suppe.\nWer Lust hat\, beim Kochen der Suppe zu helfen\, darf gerne vorher (ab ca. 11.00 Uhr) in der KHG-Küche vorbeikommen. Auch eigene Rezepte sind gerne gesehen!\n–\nEvery Wednesday we celebrate the middle of the week with a special lunch break: we meet at 12.00 in the KHG chapel for midday prayer. Afterwards we spoon vegetarian soup together.\nAnyone who would like to help make the soup is welcome to come to the KHG kitchen beforehand (from about 11.00 a.m.). Your own recipes are also welcome!
URL:https://www.khg-in-bayreuth.de/event/mittagspause-fuer-leib-und-seele-lunch-break-for-body-and-soul-18/2025-06-11/
LOCATION:KHG Bayreuth\, Emil-Warburg-Weg 17\, KHG Bayreuth\, 95447\, Deutschland
END:VEVENT
BEGIN:VEVENT
DTSTART;TZID=Europe/Berlin:20250611T180000
DTEND;TZID=Europe/Berlin:20250611T190000
DTSTAMP:20260422T052111
CREATED:20250507T102728Z
LAST-MODIFIED:20250507T103350Z
UID:10007771-1749664800-1749668400@www.khg-in-bayreuth.de
SUMMARY:Yoga
DESCRIPTION:Sportliches Yoga mit Mykhailo. Herzliche Einladung!\n–\nSporty yoga with Mykhailo. Cordial invitation!
URL:https://www.khg-in-bayreuth.de/event/yoga-17/2025-06-11/
LOCATION:KHG Bayreuth\, Emil-Warburg-Weg 17\, KHG Bayreuth\, 95447\, Deutschland
END:VEVENT
BEGIN:VEVENT
DTSTART;TZID=Europe/Berlin:20250611T194500
DTEND;TZID=Europe/Berlin:20250611T210000
DTSTAMP:20260422T052111
CREATED:20250507T102955Z
LAST-MODIFIED:20250507T103445Z
UID:10007836-1749671100-1749675600@www.khg-in-bayreuth.de
SUMMARY:Gospelchor // Gospel Choir
DESCRIPTION:Unser ökumenischer Gospelchor probt jeden Mittwoch ab 19.45 Uhr in der Albertus-Magnus-Kapelle. Wenn Du Spaß am Singen hast\, schau gerne vorbei! Keine Vorkenntnisse notwendig.\n–\nOur ecumenical gospel choir rehearses every Wednesday from 7.45 pm in the Albertus Magnus Chapel. If you enjoy singing\, just drop in! No previous experience necessary.
URL:https://www.khg-in-bayreuth.de/event/gospelchor-gospel-choir-10/2025-06-11/
LOCATION:KHG Bayreuth\, Emil-Warburg-Weg 17\, KHG Bayreuth\, 95447\, Deutschland
END:VEVENT
BEGIN:VEVENT
DTSTART;TZID=Europe/Berlin:20250612T193000
DTEND;TZID=Europe/Berlin:20250612T210000
DTSTAMP:20260422T052111
CREATED:20250507T103209Z
LAST-MODIFIED:20250507T103228Z
UID:10007900-1749756600-1749762000@www.khg-in-bayreuth.de
SUMMARY:Swahili Chor Bayreuth // Suahili Choir
DESCRIPTION:Jeden Donnerstag probt unser Swahili-Chor afrikanische Lieder in der KHG. Neue Sänger*innen sind jederzeit herzlich willkommen!\n–\nEvery Thursday\, our Suahili choir rehearses African songs in the KHG. New singers are always welcome!
URL:https://www.khg-in-bayreuth.de/event/swahili-chor-bayreuth-suahili-choir-7/2025-06-12/
LOCATION:KHG Bayreuth\, Emil-Warburg-Weg 17\, KHG Bayreuth\, 95447\, Deutschland
END:VEVENT
BEGIN:VEVENT
DTSTART;TZID=Europe/Berlin:20250613T180000
DTEND;TZID=Europe/Berlin:20250613T220000
DTSTAMP:20260422T052111
CREATED:20250507T113234Z
LAST-MODIFIED:20250507T113239Z
UID:10007938-1749837600-1749852000@www.khg-in-bayreuth.de
SUMMARY:Game Night
DESCRIPTION:Veranstalter: ESN
URL:https://www.khg-in-bayreuth.de/event/game-night-3/
LOCATION:KHG Bayreuth\, Emil-Warburg-Weg 17\, KHG Bayreuth\, 95447\, Deutschland
END:VEVENT
BEGIN:VEVENT
DTSTART;TZID=Europe/Berlin:20250615T190000
DTEND;TZID=Europe/Berlin:20250615T200000
DTSTAMP:20260422T052111
CREATED:20250414T122436Z
LAST-MODIFIED:20250414T122442Z
UID:10007750-1750014000-1750017600@www.khg-in-bayreuth.de
SUMMARY:KHG-Messe // Holy Mass
DESCRIPTION:Wir feiern eine studentisch mitgestaltete Hl. Messe in der KHG-Kapelle. Kommt vorbei! Anschließend herzliche Einladung zum geselligen Beisammensein mit Pizza.\n–\nWe will celebrate a student co-facilitated Mass in the KHG Chapel. Come by! Afterwards\, you are cordially invited to a social gathering with pizza.
URL:https://www.khg-in-bayreuth.de/event/khg-messe-holy-mass-25/
LOCATION:KHG Bayreuth\, Emil-Warburg-Weg 17\, KHG Bayreuth\, 95447\, Deutschland
END:VEVENT
BEGIN:VEVENT
DTSTART;TZID=Europe/Berlin:20250616T180000
DTEND;TZID=Europe/Berlin:20250616T200000
DTSTAMP:20260422T052111
CREATED:20250507T103646Z
LAST-MODIFIED:20250707T125841Z
UID:10007912-1750096800-1750104000@www.khg-in-bayreuth.de
SUMMARY:Theatergruppe “Die Schwarzen Schafe” // Theatre group “The Black Sheep”
DESCRIPTION:Die legendären “Schwarzen Schafe” treffen sich jeden Montag in der KHG. Neueinsteiger*innen sind besonders am Anfang des Semesters herzlich willkommen!\nDenn: Zu Beginn des Semesters suchen alle gemeinsam ein Stück aus\, danach wird regelmäßig geprobt. Am Semesterende wird die KHG dann zur Bühne für die Aufführung des Stücks.\n–\nOur legendary “Black Sheep” meet every Monday in the KHG. Newcomers are especially welcome at the beginning of the semester!\nBecause: At the beginning of the semester\, everyone chooses a play together and then
URL:https://www.khg-in-bayreuth.de/event/theatergruppe-die-schwarzen-schafe-theatre-group-the-black-sheep-7/2025-06-16/
LOCATION:KHG Bayreuth\, Emil-Warburg-Weg 17\, KHG Bayreuth\, 95447\, Deutschland
END:VEVENT
BEGIN:VEVENT
DTSTART;TZID=Europe/Berlin:20250617T190000
DTEND;TZID=Europe/Berlin:20250617T193000
DTSTAMP:20260422T052111
CREATED:20250414T123147Z
LAST-MODIFIED:20250414T123152Z
UID:10007752-1750186800-1750188600@www.khg-in-bayreuth.de
SUMMARY:Abendgebet // Evening prayer
DESCRIPTION:Meditative Einstimmung in den Abend. Herzliche Einladung!\n–\nMeditative introduction to the evening. Cordial invitation!
URL:https://www.khg-in-bayreuth.de/event/abendgebet-evening-prayer-2/
LOCATION:KHG Bayreuth\, Emil-Warburg-Weg 17\, KHG Bayreuth\, 95447\, Deutschland
END:VEVENT
BEGIN:VEVENT
DTSTART;TZID=Europe/Berlin:20250617T200000
DTEND;TZID=Europe/Berlin:20250617T220000
DTSTAMP:20260422T052111
CREATED:20250505T130117Z
LAST-MODIFIED:20250602T135316Z
UID:10007763-1750190400-1750197600@www.khg-in-bayreuth.de
SUMMARY:Werwolf- und Lagerfeuerabend // Werewolf and campfire evening
DESCRIPTION:Wir treffen uns am Lagerfeuer vor der KHG und spielen Werwolf und haben einen gemütlichen Abend. Herzliche Einladung dazu! \nWe meet at the campfire in front of the KHG and play werewolf and have a cozy evening. You are cordially invited!
URL:https://www.khg-in-bayreuth.de/event/werwolf-und-lagerfeuerabend-werewolf-and-campfire-evening/
LOCATION:KHG Bayreuth\, Emil-Warburg-Weg 17\, KHG Bayreuth\, 95447\, Deutschland
END:VEVENT
BEGIN:VEVENT
DTSTART;TZID=Europe/Berlin:20250618T120000
DTEND;TZID=Europe/Berlin:20250618T133000
DTSTAMP:20260422T052111
CREATED:20250507T104428Z
LAST-MODIFIED:20250507T104435Z
UID:10007926-1750248000-1750253400@www.khg-in-bayreuth.de
SUMMARY:Mittagspause für Leib und Seele // Lunch break for body and soul
DESCRIPTION:Jeden Mittwoch feiern wir die Mitte der Woche mit einer besonderen Mittagspause: Wir treffen uns um 12.00 Uhr in der KHG-Kapelle zum Mittagsgebet. Anschließend löffeln wir gemeinsam vegetarische Suppe.\nWer Lust hat\, beim Kochen der Suppe zu helfen\, darf gerne vorher (ab ca. 11.00 Uhr) in der KHG-Küche vorbeikommen. Auch eigene Rezepte sind gerne gesehen!\n–\nEvery Wednesday we celebrate the middle of the week with a special lunch break: we meet at 12.00 in the KHG chapel for midday prayer. Afterwards we spoon vegetarian soup together.\nAnyone who would like to help make the soup is welcome to come to the KHG kitchen beforehand (from about 11.00 a.m.). Your own recipes are also welcome!
URL:https://www.khg-in-bayreuth.de/event/mittagspause-fuer-leib-und-seele-lunch-break-for-body-and-soul-18/2025-06-18/
LOCATION:KHG Bayreuth\, Emil-Warburg-Weg 17\, KHG Bayreuth\, 95447\, Deutschland
END:VEVENT
BEGIN:VEVENT
DTSTART;TZID=Europe/Berlin:20250618T180000
DTEND;TZID=Europe/Berlin:20250618T190000
DTSTAMP:20260422T052111
CREATED:20250507T102728Z
LAST-MODIFIED:20250507T103350Z
UID:10007772-1750269600-1750273200@www.khg-in-bayreuth.de
SUMMARY:Yoga
DESCRIPTION:Sportliches Yoga mit Mykhailo. Herzliche Einladung!\n–\nSporty yoga with Mykhailo. Cordial invitation!
URL:https://www.khg-in-bayreuth.de/event/yoga-17/2025-06-18/
LOCATION:KHG Bayreuth\, Emil-Warburg-Weg 17\, KHG Bayreuth\, 95447\, Deutschland
END:VEVENT
BEGIN:VEVENT
DTSTART;TZID=Europe/Berlin:20250618T194500
DTEND;TZID=Europe/Berlin:20250618T210000
DTSTAMP:20260422T052111
CREATED:20250507T102955Z
LAST-MODIFIED:20250507T103445Z
UID:10007837-1750275900-1750280400@www.khg-in-bayreuth.de
SUMMARY:Gospelchor // Gospel Choir
DESCRIPTION:Unser ökumenischer Gospelchor probt jeden Mittwoch ab 19.45 Uhr in der Albertus-Magnus-Kapelle. Wenn Du Spaß am Singen hast\, schau gerne vorbei! Keine Vorkenntnisse notwendig.\n–\nOur ecumenical gospel choir rehearses every Wednesday from 7.45 pm in the Albertus Magnus Chapel. If you enjoy singing\, just drop in! No previous experience necessary.
URL:https://www.khg-in-bayreuth.de/event/gospelchor-gospel-choir-10/2025-06-18/
LOCATION:KHG Bayreuth\, Emil-Warburg-Weg 17\, KHG Bayreuth\, 95447\, Deutschland
END:VEVENT
BEGIN:VEVENT
DTSTART;TZID=Europe/Berlin:20250619T193000
DTEND;TZID=Europe/Berlin:20250619T210000
DTSTAMP:20260422T052111
CREATED:20250507T103209Z
LAST-MODIFIED:20250507T103228Z
UID:10007901-1750361400-1750366800@www.khg-in-bayreuth.de
SUMMARY:Swahili Chor Bayreuth // Suahili Choir
DESCRIPTION:Jeden Donnerstag probt unser Swahili-Chor afrikanische Lieder in der KHG. Neue Sänger*innen sind jederzeit herzlich willkommen!\n–\nEvery Thursday\, our Suahili choir rehearses African songs in the KHG. New singers are always welcome!
URL:https://www.khg-in-bayreuth.de/event/swahili-chor-bayreuth-suahili-choir-7/2025-06-19/
LOCATION:KHG Bayreuth\, Emil-Warburg-Weg 17\, KHG Bayreuth\, 95447\, Deutschland
END:VEVENT
BEGIN:VEVENT
DTSTART;TZID=Europe/Berlin:20250621T090000
DTEND;TZID=Europe/Berlin:20250621T160000
DTSTAMP:20260422T052111
CREATED:20250521T091338Z
LAST-MODIFIED:20250521T091345Z
UID:10007939-1750496400-1750521600@www.khg-in-bayreuth.de
SUMMARY:Gospelchor Workshop - Raise Your Voice in Gospel Glory!
DESCRIPTION:Erlebe die Freude am Singen durch mitreißende Rhythmen und Harmonien.\nAblauf:\n• Vormittags: Eintauchen in die Welt der Gospels – gemeinsam lernen und singen\n• Mittags: Stärkung mit leckerer Pizza\n• Nachmittags: „Complete Vocal Technique“ mit Gesangslehrerin Anna Maria Schuller\nVoraussetzungen: Spaß am Singen! Chorerfahrung ist von Vorteil\, aber kein Muss.\nKosten: Regelpreis: 15 Euro Ermäßigter Preis für Schulkinder und Studierende: 10 Euro\nSing mit uns und werde Teil eines kraftvollen Chorklangs! Komm vorbei – wir freuen uns auf dich!
URL:https://www.khg-in-bayreuth.de/event/gospelchor-workshop-raise-your-voice-in-gospel-glory/
LOCATION:KHG Bayreuth\, Emil-Warburg-Weg 17\, KHG Bayreuth\, 95447\, Deutschland
END:VEVENT
BEGIN:VEVENT
DTSTART;TZID=Europe/Berlin:20250623T080000
DTEND;TZID=Europe/Berlin:20250623T170000
DTSTAMP:20260422T052111
CREATED:20250402T122440Z
LAST-MODIFIED:20250402T122453Z
UID:10007745-1750665600-1750698000@www.khg-in-bayreuth.de
SUMMARY:Frühschicht // Morning prayer
DESCRIPTION:Alle zwei Wochen treffen wir uns am Montag zu einem meditativen Tageseinstieg in der Kapelle. Anschließend frühstücken wir gemeinsam. Herzliche Einladung!\n–\nEvery two weeks on Monday we meet for a meditative start to the day in the chapel. Afterwards we have breakfast together. Cordial invitation!
URL:https://www.khg-in-bayreuth.de/event/fruehschicht-morning-prayer-7/2025-06-23/
LOCATION:KHG Bayreuth\, Emil-Warburg-Weg 17\, KHG Bayreuth\, 95447\, Deutschland
END:VEVENT
BEGIN:VEVENT
DTSTART;TZID=Europe/Berlin:20250623T180000
DTEND;TZID=Europe/Berlin:20250623T200000
DTSTAMP:20260422T052111
CREATED:20250507T103646Z
LAST-MODIFIED:20250707T125841Z
UID:10007913-1750701600-1750708800@www.khg-in-bayreuth.de
SUMMARY:Theatergruppe “Die Schwarzen Schafe” // Theatre group “The Black Sheep”
DESCRIPTION:Die legendären “Schwarzen Schafe” treffen sich jeden Montag in der KHG. Neueinsteiger*innen sind besonders am Anfang des Semesters herzlich willkommen!\nDenn: Zu Beginn des Semesters suchen alle gemeinsam ein Stück aus\, danach wird regelmäßig geprobt. Am Semesterende wird die KHG dann zur Bühne für die Aufführung des Stücks.\n–\nOur legendary “Black Sheep” meet every Monday in the KHG. Newcomers are especially welcome at the beginning of the semester!\nBecause: At the beginning of the semester\, everyone chooses a play together and then
URL:https://www.khg-in-bayreuth.de/event/theatergruppe-die-schwarzen-schafe-theatre-group-the-black-sheep-7/2025-06-23/
LOCATION:KHG Bayreuth\, Emil-Warburg-Weg 17\, KHG Bayreuth\, 95447\, Deutschland
END:VEVENT
BEGIN:VEVENT
DTSTART;TZID=Europe/Berlin:20250624T190000
DTEND;TZID=Europe/Berlin:20250624T200000
DTSTAMP:20260422T052111
CREATED:20250505T130746Z
LAST-MODIFIED:20250505T130746Z
UID:10007764-1750791600-1750795200@www.khg-in-bayreuth.de
SUMMARY:Ökum. Andacht im Ökologisch-Botanischen Garten Bayreuth // Ecumenical prayer in the Bayreuth Ecological-Botanical Garden
DESCRIPTION:Am Dienstag\, den 24.06. um 19.00 Uhr feiern wir im Ökologisch-Botanischen Garten der Uni Bayreuth  eine ökum. Andacht\, begleitet von afrikanischen Liedern unseres “Swahili Chor Bayreuth”.\n–\nOn Tuesday \, 24 June at 7.00 pm we will celebrate an ecumenical prayer service in the Ecological-Botanical Garden of the University of Bayreuth\, accompanied by African songs from our ‘Swahili Choir Bayreuth’.
URL:https://www.khg-in-bayreuth.de/event/oekum-andacht-im-oekologisch-botanischen-garten-bayreuth-ecumenical-prayer-in-the-bayreuth-ecological-botanical-garden/
LOCATION:Ökologisch-botanischer Garten \, Uni Bayreuth
END:VEVENT
BEGIN:VEVENT
DTSTART;TZID=Europe/Berlin:20250625T120000
DTEND;TZID=Europe/Berlin:20250625T133000
DTSTAMP:20260422T052111
CREATED:20250507T104428Z
LAST-MODIFIED:20250507T104435Z
UID:10007927-1750852800-1750858200@www.khg-in-bayreuth.de
SUMMARY:Mittagspause für Leib und Seele // Lunch break for body and soul
DESCRIPTION:Jeden Mittwoch feiern wir die Mitte der Woche mit einer besonderen Mittagspause: Wir treffen uns um 12.00 Uhr in der KHG-Kapelle zum Mittagsgebet. Anschließend löffeln wir gemeinsam vegetarische Suppe.\nWer Lust hat\, beim Kochen der Suppe zu helfen\, darf gerne vorher (ab ca. 11.00 Uhr) in der KHG-Küche vorbeikommen. Auch eigene Rezepte sind gerne gesehen!\n–\nEvery Wednesday we celebrate the middle of the week with a special lunch break: we meet at 12.00 in the KHG chapel for midday prayer. Afterwards we spoon vegetarian soup together.\nAnyone who would like to help make the soup is welcome to come to the KHG kitchen beforehand (from about 11.00 a.m.). Your own recipes are also welcome!
URL:https://www.khg-in-bayreuth.de/event/mittagspause-fuer-leib-und-seele-lunch-break-for-body-and-soul-18/2025-06-25/
LOCATION:KHG Bayreuth\, Emil-Warburg-Weg 17\, KHG Bayreuth\, 95447\, Deutschland
END:VEVENT
BEGIN:VEVENT
DTSTART;TZID=Europe/Berlin:20250625T180000
DTEND;TZID=Europe/Berlin:20250625T190000
DTSTAMP:20260422T052111
CREATED:20250507T102728Z
LAST-MODIFIED:20250507T103350Z
UID:10007773-1750874400-1750878000@www.khg-in-bayreuth.de
SUMMARY:Yoga
DESCRIPTION:Sportliches Yoga mit Mykhailo. Herzliche Einladung!\n–\nSporty yoga with Mykhailo. Cordial invitation!
URL:https://www.khg-in-bayreuth.de/event/yoga-17/2025-06-25/
LOCATION:KHG Bayreuth\, Emil-Warburg-Weg 17\, KHG Bayreuth\, 95447\, Deutschland
END:VEVENT
BEGIN:VEVENT
DTSTART;TZID=Europe/Berlin:20250625T190000
DTEND;TZID=Europe/Berlin:20250625T210000
DTSTAMP:20260422T052111
CREATED:20250507T112819Z
LAST-MODIFIED:20250507T112824Z
UID:10007936-1750878000-1750885200@www.khg-in-bayreuth.de
SUMMARY:Café International in Kulmbach
DESCRIPTION:Ein Raum für Studierende zum Freunde kennenlernen\,kochen\,spielen und Austausch.\nWo? Café im Burggut Kulmbach\, Waaggasse 5\, 95326 Kulmbach\n–\nA room for students to meet friends\, cook\, play games and exchange.\nWhere? Café im Burggut Kulmbach\, Waaggasse 5\, 95326 Kulmbach
URL:https://www.khg-in-bayreuth.de/event/cafe-international-in-kulmbach-2/
LOCATION:KHG Bayreuth\, Emil-Warburg-Weg 17\, KHG Bayreuth\, 95447\, Deutschland
END:VEVENT
BEGIN:VEVENT
DTSTART;TZID=Europe/Berlin:20250625T194500
DTEND;TZID=Europe/Berlin:20250625T210000
DTSTAMP:20260422T052111
CREATED:20250507T102955Z
LAST-MODIFIED:20250507T103445Z
UID:10007838-1750880700-1750885200@www.khg-in-bayreuth.de
SUMMARY:Gospelchor // Gospel Choir
DESCRIPTION:Unser ökumenischer Gospelchor probt jeden Mittwoch ab 19.45 Uhr in der Albertus-Magnus-Kapelle. Wenn Du Spaß am Singen hast\, schau gerne vorbei! Keine Vorkenntnisse notwendig.\n–\nOur ecumenical gospel choir rehearses every Wednesday from 7.45 pm in the Albertus Magnus Chapel. If you enjoy singing\, just drop in! No previous experience necessary.
URL:https://www.khg-in-bayreuth.de/event/gospelchor-gospel-choir-10/2025-06-25/
LOCATION:KHG Bayreuth\, Emil-Warburg-Weg 17\, KHG Bayreuth\, 95447\, Deutschland
END:VEVENT
END:VCALENDAR