BEGIN:VCALENDAR
VERSION:2.0
PRODID:-//KHG Bayreuth - ECPv6.15.3//NONSGML v1.0//EN
CALSCALE:GREGORIAN
METHOD:PUBLISH
X-ORIGINAL-URL:https://www.khg-in-bayreuth.de
X-WR-CALDESC:Veranstaltungen für KHG Bayreuth
REFRESH-INTERVAL;VALUE=DURATION:PT1H
X-Robots-Tag:noindex
X-PUBLISHED-TTL:PT1H
BEGIN:VTIMEZONE
TZID:Europe/Berlin
BEGIN:DAYLIGHT
TZOFFSETFROM:+0100
TZOFFSETTO:+0200
TZNAME:CEST
DTSTART:20250330T010000
END:DAYLIGHT
BEGIN:STANDARD
TZOFFSETFROM:+0200
TZOFFSETTO:+0100
TZNAME:CET
DTSTART:20251026T010000
END:STANDARD
END:VTIMEZONE
BEGIN:VEVENT
DTSTART;TZID=Europe/Berlin:20250701T183000
DTEND;TZID=Europe/Berlin:20250701T193000
DTSTAMP:20260422T085129
CREATED:20250414T122321Z
LAST-MODIFIED:20250414T122327Z
UID:10007749-1751394600-1751398200@www.khg-in-bayreuth.de
SUMMARY:KHG-Messe // Holy Mass
DESCRIPTION:Wir feiern eine studentisch mitgestaltete Hl. Messe in der KHG-Kapelle. Kommt vorbei! Anschließend Themenabend.\n–\nWe will celebrate a student co-facilitated Mass in the KHG Chapel. Come by! Followed by a themed evening.
URL:https://www.khg-in-bayreuth.de/event/khg-messe-holy-mass-24/
LOCATION:KHG Bayreuth\, Emil-Warburg-Weg 17\, KHG Bayreuth\, 95447\, Deutschland
END:VEVENT
BEGIN:VEVENT
DTSTART;TZID=Europe/Berlin:20250701T200000
DTEND;TZID=Europe/Berlin:20250701T220000
DTSTAMP:20260422T085129
CREATED:20250505T130859Z
LAST-MODIFIED:20250626T144215Z
UID:10007765-1751400000-1751407200@www.khg-in-bayreuth.de
SUMMARY:Podium mit Staatsminister Herrmann: Ist mit Jesus (noch) Staat zu machen?
DESCRIPTION:KHG (Katholische Hochschulgemeinde) Bayreuth und ESG (Evangelische Studierendengemeinde) Bayreuth laden herzlich ein zu einer Podiumsdiskussion im Spannungsfeld von Kirche und Politik:\n\nIst mit Jesus (noch) Staat zu machen – was heißt christliche Politik heute? \nFür viele engagierte Christ*innen – nicht nur in den Hochschulgemeinden – war es im letzten Bundestagswahlkampf irritierend zu sehen\, wie sich gerade auch die Parteien\, die das Wort “christlich” im Namen führen\, mit Härte in der Migrationspolitik und Polemik gegen politische Gegner und zivilgesellschaftliche Organisationen profilierten. Kritik von seiten der Kirchen wurde mit Kritik an den Kirchen beantwortet\, die zu politisch/ tagespolitisch seien. \nWas bedeutet es\, wenn sich eine Partei in der heutigen Zeit noch “christlich” nennt? Welche christlichen Werte gilt es unbedingt zu verteidigen – und wo ist politischer Pragmatismus notwendig? Mit unserer Podiumsdiskussion wollen wir zu einem offenen und fairen Austausch über diese strittigen Fragen beitragen und freuen uns auf prominente und fachkundige Gäste: \n– Staatsminister Joachim Herrmann \n– Prof. Dr. Michelle Becka\, Christliche Sozialethik\, JMU Würzburg \n– Sr. PD Dr. Nicole Grochowina\, Historikerin und Ordensschwester der evangelischen Communität Christusbruderschaft Selbitz\, Mitglied des Rates der EKD \n– Stephan Theo Reichel\, Initiative matteo – Kirche und Asyl \n– Heiko Hain\, MdB\, Bezirksvorsitzender Oberfranken des Evang. Arbeitskreises der CDU/CSU \nModeration: Prof. Dr. Paula Schrode\, Universität Bayreuth \nOrt: Universität Bayreuth\, Raum S 57 im RW I\nUniversitätsstraße 30\, 95447 Bayreuth
URL:https://www.khg-in-bayreuth.de/event/podium-demokratie/
LOCATION:Universität Bayreuth\, Raum S 57 im RW I\, Universitätsstraße 30\, Bayreuth\, 95447\, Deutschland
END:VEVENT
BEGIN:VEVENT
DTSTART;TZID=Europe/Berlin:20250702T120000
DTEND;TZID=Europe/Berlin:20250702T133000
DTSTAMP:20260422T085129
CREATED:20250507T104428Z
LAST-MODIFIED:20250507T104435Z
UID:10007928-1751457600-1751463000@www.khg-in-bayreuth.de
SUMMARY:Mittagspause für Leib und Seele // Lunch break for body and soul
DESCRIPTION:Jeden Mittwoch feiern wir die Mitte der Woche mit einer besonderen Mittagspause: Wir treffen uns um 12.00 Uhr in der KHG-Kapelle zum Mittagsgebet. Anschließend löffeln wir gemeinsam vegetarische Suppe.\nWer Lust hat\, beim Kochen der Suppe zu helfen\, darf gerne vorher (ab ca. 11.00 Uhr) in der KHG-Küche vorbeikommen. Auch eigene Rezepte sind gerne gesehen!\n–\nEvery Wednesday we celebrate the middle of the week with a special lunch break: we meet at 12.00 in the KHG chapel for midday prayer. Afterwards we spoon vegetarian soup together.\nAnyone who would like to help make the soup is welcome to come to the KHG kitchen beforehand (from about 11.00 a.m.). Your own recipes are also welcome!
URL:https://www.khg-in-bayreuth.de/event/mittagspause-fuer-leib-und-seele-lunch-break-for-body-and-soul-18/2025-07-02/
LOCATION:KHG Bayreuth\, Emil-Warburg-Weg 17\, KHG Bayreuth\, 95447\, Deutschland
END:VEVENT
BEGIN:VEVENT
DTSTART;TZID=Europe/Berlin:20250702T180000
DTEND;TZID=Europe/Berlin:20250702T190000
DTSTAMP:20260422T085129
CREATED:20250507T102728Z
LAST-MODIFIED:20250507T103350Z
UID:10007774-1751479200-1751482800@www.khg-in-bayreuth.de
SUMMARY:Yoga
DESCRIPTION:Sportliches Yoga mit Mykhailo. Herzliche Einladung!\n–\nSporty yoga with Mykhailo. Cordial invitation!
URL:https://www.khg-in-bayreuth.de/event/yoga-17/2025-07-02/
LOCATION:KHG Bayreuth\, Emil-Warburg-Weg 17\, KHG Bayreuth\, 95447\, Deutschland
END:VEVENT
BEGIN:VEVENT
DTSTART;TZID=Europe/Berlin:20250702T194500
DTEND;TZID=Europe/Berlin:20250702T210000
DTSTAMP:20260422T085129
CREATED:20250507T102955Z
LAST-MODIFIED:20250507T103445Z
UID:10007839-1751485500-1751490000@www.khg-in-bayreuth.de
SUMMARY:Gospelchor // Gospel Choir
DESCRIPTION:Unser ökumenischer Gospelchor probt jeden Mittwoch ab 19.45 Uhr in der Albertus-Magnus-Kapelle. Wenn Du Spaß am Singen hast\, schau gerne vorbei! Keine Vorkenntnisse notwendig.\n–\nOur ecumenical gospel choir rehearses every Wednesday from 7.45 pm in the Albertus Magnus Chapel. If you enjoy singing\, just drop in! No previous experience necessary.
URL:https://www.khg-in-bayreuth.de/event/gospelchor-gospel-choir-10/2025-07-02/
LOCATION:KHG Bayreuth\, Emil-Warburg-Weg 17\, KHG Bayreuth\, 95447\, Deutschland
END:VEVENT
BEGIN:VEVENT
DTSTART;TZID=Europe/Berlin:20250703T193000
DTEND;TZID=Europe/Berlin:20250703T210000
DTSTAMP:20260422T085129
CREATED:20250507T103209Z
LAST-MODIFIED:20250507T103228Z
UID:10007903-1751571000-1751576400@www.khg-in-bayreuth.de
SUMMARY:Swahili Chor Bayreuth // Suahili Choir
DESCRIPTION:Jeden Donnerstag probt unser Swahili-Chor afrikanische Lieder in der KHG. Neue Sänger*innen sind jederzeit herzlich willkommen!\n–\nEvery Thursday\, our Suahili choir rehearses African songs in the KHG. New singers are always welcome!
URL:https://www.khg-in-bayreuth.de/event/swahili-chor-bayreuth-suahili-choir-7/2025-07-03/
LOCATION:KHG Bayreuth\, Emil-Warburg-Weg 17\, KHG Bayreuth\, 95447\, Deutschland
END:VEVENT
BEGIN:VEVENT
DTSTART;TZID=Europe/Berlin:20250707T080000
DTEND;TZID=Europe/Berlin:20250707T170000
DTSTAMP:20260422T085129
CREATED:20250402T122440Z
LAST-MODIFIED:20250402T122453Z
UID:10007746-1751875200-1751907600@www.khg-in-bayreuth.de
SUMMARY:Frühschicht // Morning prayer
DESCRIPTION:Alle zwei Wochen treffen wir uns am Montag zu einem meditativen Tageseinstieg in der Kapelle. Anschließend frühstücken wir gemeinsam. Herzliche Einladung!\n–\nEvery two weeks on Monday we meet for a meditative start to the day in the chapel. Afterwards we have breakfast together. Cordial invitation!
URL:https://www.khg-in-bayreuth.de/event/fruehschicht-morning-prayer-7/2025-07-07/
LOCATION:KHG Bayreuth\, Emil-Warburg-Weg 17\, KHG Bayreuth\, 95447\, Deutschland
END:VEVENT
BEGIN:VEVENT
DTSTART;TZID=Europe/Berlin:20250707T180000
DTEND;TZID=Europe/Berlin:20250707T200000
DTSTAMP:20260422T085129
CREATED:20250507T103646Z
LAST-MODIFIED:20250707T125841Z
UID:10007915-1751911200-1751918400@www.khg-in-bayreuth.de
SUMMARY:Theatergruppe “Die Schwarzen Schafe” // Theatre group “The Black Sheep”
DESCRIPTION:Die legendären “Schwarzen Schafe” treffen sich jeden Montag in der KHG. Neueinsteiger*innen sind besonders am Anfang des Semesters herzlich willkommen!\nDenn: Zu Beginn des Semesters suchen alle gemeinsam ein Stück aus\, danach wird regelmäßig geprobt. Am Semesterende wird die KHG dann zur Bühne für die Aufführung des Stücks.\n–\nOur legendary “Black Sheep” meet every Monday in the KHG. Newcomers are especially welcome at the beginning of the semester!\nBecause: At the beginning of the semester\, everyone chooses a play together and then
URL:https://www.khg-in-bayreuth.de/event/theatergruppe-die-schwarzen-schafe-theatre-group-the-black-sheep-7/2025-07-07/
LOCATION:KHG Bayreuth\, Emil-Warburg-Weg 17\, KHG Bayreuth\, 95447\, Deutschland
END:VEVENT
BEGIN:VEVENT
DTSTART;TZID=Europe/Berlin:20250708T190000
DTEND;TZID=Europe/Berlin:20250708T220000
DTSTAMP:20260422T085129
CREATED:20250416T100012Z
LAST-MODIFIED:20250416T100017Z
UID:10007755-1752001200-1752012000@www.khg-in-bayreuth.de
SUMMARY:Servus & Grüß Gott: Österreich-Bayerischer-Freundschaftsabend // Servus & Grüß Gott: Austrian-Bavarian Friendship Evening
DESCRIPTION:Wir freuen uns\, mit Euch einen gemeinsamen Abend Bayern und Österreich zu erleben und uns zu begegnen. Vereint durch viele gemeinsame Traditionen und Werte\, gibt es viel\, das Bayern und Österreich miteinander verbindet. Um uns noch besser bei Speis und Trank kennenzulernen\, freuen wir uns auf einen schönen Abend. Zudem sind wir uns sicher\, dass wir voneinander und miteinander auch noch das eine oder andere Neue an diesem Abend entdecken können.\n—\nWe look forward to spending an evening together with you in Bavaria and Austria and meeting each other. United by many common traditions and values\, there is much that connects Bavaria and Austria. We are looking forward to an enjoyable evening to get to know each other even better over food and drink. We are also sure that we will be able to discover one or two new things about each other on this evening.
URL:https://www.khg-in-bayreuth.de/event/servus-gruess-gott-oesterreich-bayerischer-freundschaftsabend-servus-gruess-gott-austrian-bavarian-friendship-evening/
LOCATION:ESG Bayreuth\, Richard-Wagner-Straße 24\, Bayreuth\, Deutschland
END:VEVENT
BEGIN:VEVENT
DTSTART;TZID=Europe/Berlin:20250709T120000
DTEND;TZID=Europe/Berlin:20250709T133000
DTSTAMP:20260422T085129
CREATED:20250507T104428Z
LAST-MODIFIED:20250507T104435Z
UID:10007929-1752062400-1752067800@www.khg-in-bayreuth.de
SUMMARY:Mittagspause für Leib und Seele // Lunch break for body and soul
DESCRIPTION:Jeden Mittwoch feiern wir die Mitte der Woche mit einer besonderen Mittagspause: Wir treffen uns um 12.00 Uhr in der KHG-Kapelle zum Mittagsgebet. Anschließend löffeln wir gemeinsam vegetarische Suppe.\nWer Lust hat\, beim Kochen der Suppe zu helfen\, darf gerne vorher (ab ca. 11.00 Uhr) in der KHG-Küche vorbeikommen. Auch eigene Rezepte sind gerne gesehen!\n–\nEvery Wednesday we celebrate the middle of the week with a special lunch break: we meet at 12.00 in the KHG chapel for midday prayer. Afterwards we spoon vegetarian soup together.\nAnyone who would like to help make the soup is welcome to come to the KHG kitchen beforehand (from about 11.00 a.m.). Your own recipes are also welcome!
URL:https://www.khg-in-bayreuth.de/event/mittagspause-fuer-leib-und-seele-lunch-break-for-body-and-soul-18/2025-07-09/
LOCATION:KHG Bayreuth\, Emil-Warburg-Weg 17\, KHG Bayreuth\, 95447\, Deutschland
END:VEVENT
BEGIN:VEVENT
DTSTART;TZID=Europe/Berlin:20250709T180000
DTEND;TZID=Europe/Berlin:20250709T190000
DTSTAMP:20260422T085129
CREATED:20250507T102728Z
LAST-MODIFIED:20250507T103350Z
UID:10007775-1752084000-1752087600@www.khg-in-bayreuth.de
SUMMARY:Yoga
DESCRIPTION:Sportliches Yoga mit Mykhailo. Herzliche Einladung!\n–\nSporty yoga with Mykhailo. Cordial invitation!
URL:https://www.khg-in-bayreuth.de/event/yoga-17/2025-07-09/
LOCATION:KHG Bayreuth\, Emil-Warburg-Weg 17\, KHG Bayreuth\, 95447\, Deutschland
END:VEVENT
BEGIN:VEVENT
DTSTART;TZID=Europe/Berlin:20250709T194500
DTEND;TZID=Europe/Berlin:20250709T210000
DTSTAMP:20260422T085129
CREATED:20250507T102955Z
LAST-MODIFIED:20250507T103445Z
UID:10007840-1752090300-1752094800@www.khg-in-bayreuth.de
SUMMARY:Gospelchor // Gospel Choir
DESCRIPTION:Unser ökumenischer Gospelchor probt jeden Mittwoch ab 19.45 Uhr in der Albertus-Magnus-Kapelle. Wenn Du Spaß am Singen hast\, schau gerne vorbei! Keine Vorkenntnisse notwendig.\n–\nOur ecumenical gospel choir rehearses every Wednesday from 7.45 pm in the Albertus Magnus Chapel. If you enjoy singing\, just drop in! No previous experience necessary.
URL:https://www.khg-in-bayreuth.de/event/gospelchor-gospel-choir-10/2025-07-09/
LOCATION:KHG Bayreuth\, Emil-Warburg-Weg 17\, KHG Bayreuth\, 95447\, Deutschland
END:VEVENT
BEGIN:VEVENT
DTSTART;TZID=Europe/Berlin:20250710T193000
DTEND;TZID=Europe/Berlin:20250710T210000
DTSTAMP:20260422T085129
CREATED:20250507T103209Z
LAST-MODIFIED:20250507T103228Z
UID:10007904-1752175800-1752181200@www.khg-in-bayreuth.de
SUMMARY:Swahili Chor Bayreuth // Suahili Choir
DESCRIPTION:Jeden Donnerstag probt unser Swahili-Chor afrikanische Lieder in der KHG. Neue Sänger*innen sind jederzeit herzlich willkommen!\n–\nEvery Thursday\, our Suahili choir rehearses African songs in the KHG. New singers are always welcome!
URL:https://www.khg-in-bayreuth.de/event/swahili-chor-bayreuth-suahili-choir-7/2025-07-10/
LOCATION:KHG Bayreuth\, Emil-Warburg-Weg 17\, KHG Bayreuth\, 95447\, Deutschland
END:VEVENT
BEGIN:VEVENT
DTSTART;TZID=Europe/Berlin:20250714T180000
DTEND;TZID=Europe/Berlin:20250714T200000
DTSTAMP:20260422T085129
CREATED:20250507T103646Z
LAST-MODIFIED:20250707T125841Z
UID:10007916-1752516000-1752523200@www.khg-in-bayreuth.de
SUMMARY:Theatergruppe “Die Schwarzen Schafe” // Theatre group “The Black Sheep”
DESCRIPTION:Die legendären “Schwarzen Schafe” treffen sich jeden Montag in der KHG. Neueinsteiger*innen sind besonders am Anfang des Semesters herzlich willkommen!\nDenn: Zu Beginn des Semesters suchen alle gemeinsam ein Stück aus\, danach wird regelmäßig geprobt. Am Semesterende wird die KHG dann zur Bühne für die Aufführung des Stücks.\n–\nOur legendary “Black Sheep” meet every Monday in the KHG. Newcomers are especially welcome at the beginning of the semester!\nBecause: At the beginning of the semester\, everyone chooses a play together and then
URL:https://www.khg-in-bayreuth.de/event/theatergruppe-die-schwarzen-schafe-theatre-group-the-black-sheep-7/2025-07-14/
LOCATION:KHG Bayreuth\, Emil-Warburg-Weg 17\, KHG Bayreuth\, 95447\, Deutschland
END:VEVENT
BEGIN:VEVENT
DTSTART;TZID=Europe/Berlin:20250715T183000
DTEND;TZID=Europe/Berlin:20250715T193000
DTSTAMP:20260422T085130
CREATED:20250402T121629Z
LAST-MODIFIED:20250402T121723Z
UID:10007739-1752604200-1752607800@www.khg-in-bayreuth.de
SUMMARY:KHG-Messe // Holy Mass
DESCRIPTION:Wir feiern eine studentisch mitgestaltete Hl. Messe in der KHG-Kapelle. Kommt vorbei! Anschließend Themenabend.\n–\nWe will celebrate a student co-facilitated Mass in the KHG Chapel. Come by!  Followed by a themed evening.
URL:https://www.khg-in-bayreuth.de/event/khg-messe-holy-mass-20/
LOCATION:KHG Bayreuth\, Emil-Warburg-Weg 17\, KHG Bayreuth\, 95447\, Deutschland
END:VEVENT
BEGIN:VEVENT
DTSTART;TZID=Europe/Berlin:20250715T200000
DTEND;TZID=Europe/Berlin:20250715T230000
DTSTAMP:20260422T085130
CREATED:20250521T123811Z
LAST-MODIFIED:20250521T123817Z
UID:10007940-1752609600-1752620400@www.khg-in-bayreuth.de
SUMMARY:Planungsabend KHG und ESG // Planning evening KHG and ESG
DESCRIPTION:Wir planen gemeinsam das Wintersemester 2025/26. Herzliche Einladung!\n–\nWe are planning the winter semester 2025/26 together. Cordial invitation!
URL:https://www.khg-in-bayreuth.de/event/planungsabend-khg-und-esg-planning-evening-khg-and-esg/
LOCATION:KHG Bayreuth\, Emil-Warburg-Weg 17\, KHG Bayreuth\, 95447\, Deutschland
END:VEVENT
BEGIN:VEVENT
DTSTART;TZID=Europe/Berlin:20250716T120000
DTEND;TZID=Europe/Berlin:20250716T133000
DTSTAMP:20260422T085130
CREATED:20250507T104428Z
LAST-MODIFIED:20250507T104435Z
UID:10007930-1752667200-1752672600@www.khg-in-bayreuth.de
SUMMARY:Mittagspause für Leib und Seele // Lunch break for body and soul
DESCRIPTION:Jeden Mittwoch feiern wir die Mitte der Woche mit einer besonderen Mittagspause: Wir treffen uns um 12.00 Uhr in der KHG-Kapelle zum Mittagsgebet. Anschließend löffeln wir gemeinsam vegetarische Suppe.\nWer Lust hat\, beim Kochen der Suppe zu helfen\, darf gerne vorher (ab ca. 11.00 Uhr) in der KHG-Küche vorbeikommen. Auch eigene Rezepte sind gerne gesehen!\n–\nEvery Wednesday we celebrate the middle of the week with a special lunch break: we meet at 12.00 in the KHG chapel for midday prayer. Afterwards we spoon vegetarian soup together.\nAnyone who would like to help make the soup is welcome to come to the KHG kitchen beforehand (from about 11.00 a.m.). Your own recipes are also welcome!
URL:https://www.khg-in-bayreuth.de/event/mittagspause-fuer-leib-und-seele-lunch-break-for-body-and-soul-18/2025-07-16/
LOCATION:KHG Bayreuth\, Emil-Warburg-Weg 17\, KHG Bayreuth\, 95447\, Deutschland
END:VEVENT
BEGIN:VEVENT
DTSTART;TZID=Europe/Berlin:20250716T180000
DTEND;TZID=Europe/Berlin:20250716T190000
DTSTAMP:20260422T085130
CREATED:20250507T102728Z
LAST-MODIFIED:20250507T103350Z
UID:10007776-1752688800-1752692400@www.khg-in-bayreuth.de
SUMMARY:Yoga
DESCRIPTION:Sportliches Yoga mit Mykhailo. Herzliche Einladung!\n–\nSporty yoga with Mykhailo. Cordial invitation!
URL:https://www.khg-in-bayreuth.de/event/yoga-17/2025-07-16/
LOCATION:KHG Bayreuth\, Emil-Warburg-Weg 17\, KHG Bayreuth\, 95447\, Deutschland
END:VEVENT
BEGIN:VEVENT
DTSTART;TZID=Europe/Berlin:20250716T190000
DTEND;TZID=Europe/Berlin:20250716T210000
DTSTAMP:20260422T085130
CREATED:20250507T112900Z
LAST-MODIFIED:20250507T112906Z
UID:10007937-1752692400-1752699600@www.khg-in-bayreuth.de
SUMMARY:Café International in Kulmbach
DESCRIPTION:Ein Raum für Studierende zum Freunde kennenlernen\,kochen\,spielen und Austausch.\nWo? Café im Burggut Kulmbach\, Waaggasse 5\, 95326 Kulmbach\n–\nA room for students to meet friends\, cook\, play games and exchange.\nWhere? Café im Burggut Kulmbach\, Waaggasse 5\, 95326 Kulmbach
URL:https://www.khg-in-bayreuth.de/event/cafe-international-in-kulmbach-3/
LOCATION:KHG Bayreuth\, Emil-Warburg-Weg 17\, KHG Bayreuth\, 95447\, Deutschland
END:VEVENT
BEGIN:VEVENT
DTSTART;TZID=Europe/Berlin:20250716T194500
DTEND;TZID=Europe/Berlin:20250716T210000
DTSTAMP:20260422T085130
CREATED:20250507T102955Z
LAST-MODIFIED:20250507T103445Z
UID:10007841-1752695100-1752699600@www.khg-in-bayreuth.de
SUMMARY:Gospelchor // Gospel Choir
DESCRIPTION:Unser ökumenischer Gospelchor probt jeden Mittwoch ab 19.45 Uhr in der Albertus-Magnus-Kapelle. Wenn Du Spaß am Singen hast\, schau gerne vorbei! Keine Vorkenntnisse notwendig.\n–\nOur ecumenical gospel choir rehearses every Wednesday from 7.45 pm in the Albertus Magnus Chapel. If you enjoy singing\, just drop in! No previous experience necessary.
URL:https://www.khg-in-bayreuth.de/event/gospelchor-gospel-choir-10/2025-07-16/
LOCATION:KHG Bayreuth\, Emil-Warburg-Weg 17\, KHG Bayreuth\, 95447\, Deutschland
END:VEVENT
BEGIN:VEVENT
DTSTART;TZID=Europe/Berlin:20250717T193000
DTEND;TZID=Europe/Berlin:20250717T210000
DTSTAMP:20260422T085130
CREATED:20250507T103209Z
LAST-MODIFIED:20250507T103228Z
UID:10007905-1752780600-1752786000@www.khg-in-bayreuth.de
SUMMARY:Swahili Chor Bayreuth // Suahili Choir
DESCRIPTION:Jeden Donnerstag probt unser Swahili-Chor afrikanische Lieder in der KHG. Neue Sänger*innen sind jederzeit herzlich willkommen!\n–\nEvery Thursday\, our Suahili choir rehearses African songs in the KHG. New singers are always welcome!
URL:https://www.khg-in-bayreuth.de/event/swahili-chor-bayreuth-suahili-choir-7/2025-07-17/
LOCATION:KHG Bayreuth\, Emil-Warburg-Weg 17\, KHG Bayreuth\, 95447\, Deutschland
END:VEVENT
BEGIN:VEVENT
DTSTART;TZID=Europe/Berlin:20250718T190000
DTEND;TZID=Europe/Berlin:20250718T200000
DTSTAMP:20260422T085130
CREATED:20250521T124516Z
LAST-MODIFIED:20250521T135034Z
UID:10007941-1752865200-1752868800@www.khg-in-bayreuth.de
SUMMARY:Ökumenischer Semesterschlussgottesdienst  // Ecumenical end-of-semester service
DESCRIPTION:KHG und ESG beenden das Semester gemeinsam mit einem besonderen Gottesdienst im ÖBG\, danach wird vor der KHG gegrillt.\n–\nKHG and ESG will end the semester together with a special service in the ÖBG\, followed by a barbecue in front of the KHG.
URL:https://www.khg-in-bayreuth.de/event/oekumenischer-semesterschlussgottesdienst-ecumenical-end-of-semester-service-4/
LOCATION:KHG Bayreuth\, Emil-Warburg-Weg 17\, KHG Bayreuth\, 95447\, Deutschland
END:VEVENT
BEGIN:VEVENT
DTSTART;TZID=Europe/Berlin:20250720T190000
DTEND;TZID=Europe/Berlin:20250720T200000
DTSTAMP:20260422T085130
CREATED:20250402T121925Z
LAST-MODIFIED:20250402T121929Z
UID:10007741-1753038000-1753041600@www.khg-in-bayreuth.de
SUMMARY:KHG-Messe // Holy Mass
DESCRIPTION:Wir feiern eine studentisch mitgestaltete Hl. Messe in der KHG-Kapelle. Kommt vorbei! Anschließend herzliche Einladung zum geselligen Beisammensein mit Pizza.\n–\nWe will celebrate a student co-facilitated Mass in the KHG Chapel. Come by! Afterwards\, you are cordially invited to a social gathering with pizza.
URL:https://www.khg-in-bayreuth.de/event/khg-messe-holy-mass-22/
LOCATION:KHG Bayreuth\, Emil-Warburg-Weg 17\, KHG Bayreuth\, 95447\, Deutschland
END:VEVENT
BEGIN:VEVENT
DTSTART;TZID=Europe/Berlin:20250721T080000
DTEND;TZID=Europe/Berlin:20250721T170000
DTSTAMP:20260422T085130
CREATED:20250402T122440Z
LAST-MODIFIED:20250402T122453Z
UID:10007747-1753084800-1753117200@www.khg-in-bayreuth.de
SUMMARY:Frühschicht // Morning prayer
DESCRIPTION:Alle zwei Wochen treffen wir uns am Montag zu einem meditativen Tageseinstieg in der Kapelle. Anschließend frühstücken wir gemeinsam. Herzliche Einladung!\n–\nEvery two weeks on Monday we meet for a meditative start to the day in the chapel. Afterwards we have breakfast together. Cordial invitation!
URL:https://www.khg-in-bayreuth.de/event/fruehschicht-morning-prayer-7/2025-07-21/
LOCATION:KHG Bayreuth\, Emil-Warburg-Weg 17\, KHG Bayreuth\, 95447\, Deutschland
END:VEVENT
BEGIN:VEVENT
DTSTART;TZID=Europe/Berlin:20250721T180000
DTEND;TZID=Europe/Berlin:20250721T200000
DTSTAMP:20260422T085130
CREATED:20250507T103646Z
LAST-MODIFIED:20250707T125841Z
UID:10007917-1753120800-1753128000@www.khg-in-bayreuth.de
SUMMARY:Theatergruppe “Die Schwarzen Schafe” // Theatre group “The Black Sheep”
DESCRIPTION:Die legendären “Schwarzen Schafe” treffen sich jeden Montag in der KHG. Neueinsteiger*innen sind besonders am Anfang des Semesters herzlich willkommen!\nDenn: Zu Beginn des Semesters suchen alle gemeinsam ein Stück aus\, danach wird regelmäßig geprobt. Am Semesterende wird die KHG dann zur Bühne für die Aufführung des Stücks.\n–\nOur legendary “Black Sheep” meet every Monday in the KHG. Newcomers are especially welcome at the beginning of the semester!\nBecause: At the beginning of the semester\, everyone chooses a play together and then
URL:https://www.khg-in-bayreuth.de/event/theatergruppe-die-schwarzen-schafe-theatre-group-the-black-sheep-7/2025-07-21/
LOCATION:KHG Bayreuth\, Emil-Warburg-Weg 17\, KHG Bayreuth\, 95447\, Deutschland
END:VEVENT
BEGIN:VEVENT
DTSTART;TZID=Europe/Berlin:20250723T120000
DTEND;TZID=Europe/Berlin:20250723T133000
DTSTAMP:20260422T085130
CREATED:20250507T104428Z
LAST-MODIFIED:20250507T104435Z
UID:10007931-1753272000-1753277400@www.khg-in-bayreuth.de
SUMMARY:Mittagspause für Leib und Seele // Lunch break for body and soul
DESCRIPTION:Jeden Mittwoch feiern wir die Mitte der Woche mit einer besonderen Mittagspause: Wir treffen uns um 12.00 Uhr in der KHG-Kapelle zum Mittagsgebet. Anschließend löffeln wir gemeinsam vegetarische Suppe.\nWer Lust hat\, beim Kochen der Suppe zu helfen\, darf gerne vorher (ab ca. 11.00 Uhr) in der KHG-Küche vorbeikommen. Auch eigene Rezepte sind gerne gesehen!\n–\nEvery Wednesday we celebrate the middle of the week with a special lunch break: we meet at 12.00 in the KHG chapel for midday prayer. Afterwards we spoon vegetarian soup together.\nAnyone who would like to help make the soup is welcome to come to the KHG kitchen beforehand (from about 11.00 a.m.). Your own recipes are also welcome!
URL:https://www.khg-in-bayreuth.de/event/mittagspause-fuer-leib-und-seele-lunch-break-for-body-and-soul-18/2025-07-23/
LOCATION:KHG Bayreuth\, Emil-Warburg-Weg 17\, KHG Bayreuth\, 95447\, Deutschland
END:VEVENT
BEGIN:VEVENT
DTSTART;TZID=Europe/Berlin:20250723T180000
DTEND;TZID=Europe/Berlin:20250723T190000
DTSTAMP:20260422T085130
CREATED:20250507T102728Z
LAST-MODIFIED:20250507T103350Z
UID:10007777-1753293600-1753297200@www.khg-in-bayreuth.de
SUMMARY:Yoga
DESCRIPTION:Sportliches Yoga mit Mykhailo. Herzliche Einladung!\n–\nSporty yoga with Mykhailo. Cordial invitation!
URL:https://www.khg-in-bayreuth.de/event/yoga-17/2025-07-23/
LOCATION:KHG Bayreuth\, Emil-Warburg-Weg 17\, KHG Bayreuth\, 95447\, Deutschland
END:VEVENT
BEGIN:VEVENT
DTSTART;TZID=Europe/Berlin:20250723T194500
DTEND;TZID=Europe/Berlin:20250723T210000
DTSTAMP:20260422T085130
CREATED:20250507T102955Z
LAST-MODIFIED:20250507T103445Z
UID:10007842-1753299900-1753304400@www.khg-in-bayreuth.de
SUMMARY:Gospelchor // Gospel Choir
DESCRIPTION:Unser ökumenischer Gospelchor probt jeden Mittwoch ab 19.45 Uhr in der Albertus-Magnus-Kapelle. Wenn Du Spaß am Singen hast\, schau gerne vorbei! Keine Vorkenntnisse notwendig.\n–\nOur ecumenical gospel choir rehearses every Wednesday from 7.45 pm in the Albertus Magnus Chapel. If you enjoy singing\, just drop in! No previous experience necessary.
URL:https://www.khg-in-bayreuth.de/event/gospelchor-gospel-choir-10/2025-07-23/
LOCATION:KHG Bayreuth\, Emil-Warburg-Weg 17\, KHG Bayreuth\, 95447\, Deutschland
END:VEVENT
BEGIN:VEVENT
DTSTART;TZID=Europe/Berlin:20250724T193000
DTEND;TZID=Europe/Berlin:20250724T210000
DTSTAMP:20260422T085130
CREATED:20250507T103209Z
LAST-MODIFIED:20250507T103228Z
UID:10007906-1753385400-1753390800@www.khg-in-bayreuth.de
SUMMARY:Swahili Chor Bayreuth // Suahili Choir
DESCRIPTION:Jeden Donnerstag probt unser Swahili-Chor afrikanische Lieder in der KHG. Neue Sänger*innen sind jederzeit herzlich willkommen!\n–\nEvery Thursday\, our Suahili choir rehearses African songs in the KHG. New singers are always welcome!
URL:https://www.khg-in-bayreuth.de/event/swahili-chor-bayreuth-suahili-choir-7/2025-07-24/
LOCATION:KHG Bayreuth\, Emil-Warburg-Weg 17\, KHG Bayreuth\, 95447\, Deutschland
END:VEVENT
BEGIN:VEVENT
DTSTART;TZID=Europe/Berlin:20250726T200000
DTEND;TZID=Europe/Berlin:20250726T220000
DTSTAMP:20260422T085130
CREATED:20250707T123634Z
LAST-MODIFIED:20250707T123647Z
UID:10007942-1753560000-1753567200@www.khg-in-bayreuth.de
SUMMARY:Premiere Theatergruppe Schwarze Schafe e.V.: Der Geizige - eine Komödie nach Moliére // Premiere Theatergruppe Schwarze Schafe e.V.: The Miser - a comedy based on Moliére
DESCRIPTION:Paris\, irgendwann inmitten der Jahrhunderte:\nIm Haus des geizbesessenen Harpagon herrscht eiserne Kontrolle. Kontrolle über jeden Taler\, jede Mahlzeit\, über jeden Bediensteten und selbst über seine eigenen Kinder. Doch die Kontrolle über die Liebe seiner Kinder erlangt er nicht\, denn Cléanthe und Elise verlieben sich still und heimlich in Personen\, die nicht von ihrem Vater abgesegnet wurden. Als jedoch Harpagon selbst nach der Hand der Geliebten seines Sohnes fragt\, entbrennt ein gefährliches Spiel aus Täuschung\, Gier und verbotener Liebe.\nWährend Harpagon sein Gold im Garten vergräbt\, spinnt sich ein Netz aus Intrigen und Verstellungen. Die Fassade des tugendhaften Vaters bröckelt\, und hinter dem Wahn nach Reichtum entlarvt sich ein Mensch\, der kurz davor steht alles zu verlieren.\n–\nIn the house of the avarice-obsessed Harpagon\, iron control reigns. Control over every penny\, every meal\, every servant and even his own children. But he does not gain control over the love of his children\, because Cléanthe and Elise fall in love quietly and secretly with people who have not been approved by their father. However\, when Harpagon himself asks for the hand of his son’s lover\, a dangerous game of deception\, greed and forbidden love ensues.\nWhile Harpagon buries his gold in the garden\, a web of intrigue and deceit is spun. The façade of the virtuous father crumbles\, and behind the delusion of wealth a man is revealed who is on the verge of losing everything.
URL:https://www.khg-in-bayreuth.de/event/premiere-theatergruppe-schwarze-schafe-e-v-der-geizige-eine-komoedie-nach-moliere-premiere-theatergruppe-schwarze-schafe-e-v-the-miser-a-comedy-based-on-moliere/
LOCATION:KHG Bayreuth\, Emil-Warburg-Weg 17\, KHG Bayreuth\, 95447\, Deutschland
END:VEVENT
END:VCALENDAR